{"text_format":"1","workbook":"xlsx","n_sheets":3,"sheets":["Datos obra","DAC","Hoja1"],"not_rendered":{"charts":0,"images":0,"macros":1,"external_links":2,"defined_names":9,"comments":0,"pivot_tables":0},"unopened":[],"bounds":{"document_bytes":16777216,"sheet_cells":100000,"rows_first":2000,"rows_last":500,"rows_between":2000,"halvings":0,"cell_chars":16384,"cell_head_chars":4096},"cells_cut":0,"cells_raw":0,"read":"whole","date_system":"1900"}

{"sheet":"Datos obra","index":0,"n_rows":206,"n_cols":1,"rows_kept":206,"cut":false,"hidden":false,"merged":[[3,0,3,3],[5,0,5,3],[6,0,6,3],[4,0,4,3],[10,0,10,3],[7,0,7,3],[8,0,8,3],[9,0,9,3]]}
[]
["FCC-DC-OP-22.1_Documento de asignación de compras (DAC) Construcción"]
[]
["DENOMINACIÓN DE OBRA"]
["ZONA"]
["DIVISIÓN SAP"]
["JEFE DE OBRA"]
["TELÉFONO DE CONTACTO"]
["EMAIL"]
["PROVINCIA"]
["EN CASO DE SER UTE INDICAR EMPRESAS QUE LA FORMAN Y % PARTICIPACIÓN"]
[]
[]
[]
[]
[]
["Notas"]
["LAS FECHAS DE ADJUDICACIÓN SON ORIENTATIVAS."]
[]
["LA FECHA DE INICIO DEL PROCESO DE COMPRA NO PUEDE SER MÁS ANTIGUA QUE LA DE LA COMUNICACIÓN DE LA NECESIDAD."]
[]
["LA FECHA DE ADJUDICACIÓN DE LA COMPRA NO DEBERÍA  SER INFERIOR A LOS 30 DÍAS LABORABLES (42 DÍAS NATURALES) QUE MARCA LA NORMATIVA, AUNQUE SE PODRÁ REDUCIR ESTE PLAZO DEPENDIENDO"]
["DE LA NATURALEZA Y GRADO DE DEFINICIÓN DE LA COMPRA."]
[]
[]
["LISTADO DE ACTIVIDADES"]
["MATERIALES"]
["Acero corrugado y mallazo (MAT)"]
["Acero no estructural  (MAT)"]
["Adhesivos, aditivos y resinas  (MAT)"]
["Aglomerados asfalticos y ligantes bituminosos (MAT)"]
["Aislantes  (MAT)"]
["Cables estructurales y de tesado (MAT)"]
["Cementos y sus adiciones (MAT)"]
["Cerámicos  (MAT)"]
["Chapas y perfiles acero (MAT)"]
["Electricidad e iluminación (MAT)"]
["Equipamiento climatización y calderas  (MAT)"]
["Ferretería y suministros industriales  (MAT)"]
["Fontanería, aparatos sanitarios, griferías y agua caliente (MAT)"]
["Geosintéticos  (MAT)"]
["Hormigones y morteros preparados  (MAT)"]
["Materiales y equipos de vía/material ferroviario"]
["Materiales y equipos para obras hidráulicas"]
["Materiales y equipos para obras marítimas y fluviales"]
["Otros materiales"]
["Pavimentos/revestimientos  (MAT)"]
["Tuberías, válvulas y accesorios  (MAT)"]
[]
["SUBCONTRATAS"]
["Acero corrugado y mallazo (MAT)"]
["Afirmados (SUBC)"]
["Albañilería y yesos (SUBC)"]
["Ascensores y elementos de traslación  (SUBC)"]
["Cables estructurales y de tesado (SUBC)"]
["Carpintería de aluminio (SUBC)"]
["Carpintería de madera (SUBC)"]
["Carpintería de pvc  (SUBC)"]
["Cerrajería metalistería  (SUBC)"]
["Cimentaciones especiales/ sondeos/ contención y tratamiento de terrenos  (SUBC)"]
["Cubiertas   (SUBC)"]
["Drenaje, saneamiento y varios de urbanización (SUBC)"]
["Estructura espacial  (SUBC)"]
["Estructura metálica (SUBC)"]
["Estructuras de hormigón (SUBC)"]
["Fachadas ventiladas (SUBC)"]
["Fachadas muro cortina (SUBC)"]
["Falsos techos y suelos técnicos (SUBC)"]
["Ferrallas (SUBC)"]
["Góndolas (SUBC)"]
["Impermeabilizaciones y aislamientos  (SUBC)"]
["Instalaciones eléctricas e iluminación (SUBC)"]
["Instalaciones mecánicas (SUBC)"]
["Jardinería, instalaciones de riego y trabajos forestales (SUBC)"]
["Mamparas (SUBC)"]
["Movimiento de tierras  (SUBC)"]
["Obra completa (constructoras) (SUBC)"]
["Obras hidráulicas y marítimas (SUBC)"]
["Otras instalaciones (SUBC)"]
["Otros subcontratistas"]
["Pavimentos/revestimientos  (SUBC)"]
["Pintura / protecciones (SUBC)"]
["Piscinas (SUBC)"]
["Puertas automáticas (SUBC)"]
["Señalización, protección y balizamiento exterior. pantallas acústicas (SUBC)"]
["Superestructura e instalaciones de vía (SUBC)"]
["Tabiquería de cartón yeso (SUBC)"]
["Tuberías, válvulas y accesorios (SUBC)"]
["Túneles y trabajos subterráneos (SUBC)"]
["Vidrios/acristalamiento (SUBC)"]
[]
[]
[]
[]
[]
[]
[]
[]
[]
[]
[]
[]
[]
[]
[]
[]
[]
[]
[]
[]
[]
[]
[]
[]
[]
[]
[]
[]
[]
[]
[]
[]
[]
[]
[]
[]
[]
[]
[]
[]
[]
[]
[]
[]
[]
[]
[]
[]
[]
[]
[]
[]
[]
[]
[]
[]
[]
[]
[]
[]
[]
[]
[]
[]
[]
[]
[]
[]
[]
[]
[]
[]
[]
[]
[]
[]
[]
[]
[]
[]
[]
[]
[]
[]
[]
[]
[]
[]
[]
[]
[]
[]
[]
[]
[]
[]
[]
[]
[]
[]
[]
[]
[]
[]
[]
[]
[]
[]
[]
[]
[]
[]
[]
[]
[]
["Departamento de Compras"]

{"sheet":"DAC","index":1,"n_rows":426,"n_cols":23,"rows_kept":426,"cut":false,"hidden":false,"merged":[[19,10,19,11],[7,10,7,11],[8,10,8,11],[9,10,9,11],[10,10,10,11],[18,10,18,11],[12,10,12,11],[13,10,13,11],[14,10,14,11],[15,10,15,11],[16,10,16,11],[17,10,17,11],[11,10,11,11],[21,10,21,11],[22,10,22,11],[23,10,23,11],[24,10,24,11],[25,10,25,11]]}
["ZONA","DIVISIÓN SAP","DENOMINACIÓN DE OBRA","JEFE DE OBRA","TELÉFONO DE CONTACTO","EMAIL","PROVINCIA","% DE PARTICIPACIÓNDE CADA EMPRESA EN CASO DE SER UTE","NATURALEZA DE LA COMPRA S/SIE","ACTIVIDAD","COMPRA","FECHA DE LA SOLICITUD","FECHA INICIO PROCESO DE COMPRA\n","FECHA TOPE MINIMA DE ADJUDICACIÓN\n (SÓLO COMPRAS GESTIONADAS DESDE DCCO)","PLANIFICACIÓN INICIAL","MONEDA","PLANIFICACIÓN VIGENTE","ESTADO ACTUAL DE LA COMPRA","OBSERVACIONES USUARIO","ASIGNACIÓN","ID DE COMPRA","OBSERVACIONES DCCO"]
[{"$f":"'Datos obra'!$E$5","v":0},{"$f":"'Datos obra'!$E$6","v":0},{"$f":"'Datos obra'!$E$4","v":0},{"$f":"'Datos obra'!$E$7","v":0},{"$f":"'Datos obra'!$E$8","v":0},{"$f":"'Datos obra'!$E$9","v":0},{"$f":"'Datos obra'!$E$10","v":0},{"$f":"'Datos obra'!$E$11","v":0},null,null,null,"2019-04-02T18:53:49",null,{"$f":"IF(M2=\"\",\"\",M2+42)","v":""},null,null,null,null,null,null,"A RELLENAR POR DPTO. COMPRAS",null,{"$f":"[2]DAC!$Y5","v":" "}]
[{"$f":"'Datos obra'!$E$5","v":0},{"$f":"'Datos obra'!$E$6","v":0},{"$f":"'Datos obra'!$E$4","v":0},{"$f":"'Datos obra'!$E$7","v":0},{"$f":"'Datos obra'!$E$8","v":0},{"$f":"'Datos obra'!$E$9","v":0},{"$f":"'Datos obra'!$E$10","v":0},{"$f":"'Datos obra'!$E$11","v":0},null,null,null,null,null,"",null,null,null,null,null,null,"A RELLENAR POR DPTO. COMPRAS",null,{"$f":"[2]DAC!$Y6","v":" "}]
[{"$f":"'Datos obra'!$E$5","v":0},{"$f":"'Datos obra'!$E$6","v":0},{"$f":"'Datos obra'!$E$4","v":0},{"$f":"'Datos obra'!$E$7","v":0},{"$f":"'Datos obra'!$E$8","v":0},{"$f":"'Datos obra'!$E$9","v":0},{"$f":"'Datos obra'!$E$10","v":0},{"$f":"'Datos obra'!$E$11","v":0},null,null,null,null,null,"",null,null,null,null,null,null,"A RELLENAR POR DPTO. COMPRAS",null,{"$f":"[2]DAC!$Y7","v":" "}]
[{"$f":"'Datos obra'!$E$5","v":0},{"$f":"'Datos obra'!$E$6","v":0},{"$f":"'Datos obra'!$E$4","v":0},{"$f":"'Datos obra'!$E$7","v":0},{"$f":"'Datos obra'!$E$8","v":0},{"$f":"'Datos obra'!$E$9","v":0},{"$f":"'Datos obra'!$E$10","v":0},{"$f":"'Datos obra'!$E$11","v":0},null,null,null,null,null,"",null,null,null,null,null,null,"A RELLENAR POR DPTO. COMPRAS",null,{"$f":"[2]DAC!$Y8","v":" "}]
[{"$f":"'Datos obra'!$E$5","v":0},{"$f":"'Datos obra'!$E$6","v":0},{"$f":"'Datos obra'!$E$4","v":0},{"$f":"'Datos obra'!$E$7","v":0},{"$f":"'Datos obra'!$E$8","v":0},{"$f":"'Datos obra'!$E$9","v":0},{"$f":"'Datos obra'!$E$10","v":0},{"$f":"'Datos obra'!$E$11","v":0},null,null,null,null,null,"",null,null,null,null,null,null,"A RELLENAR POR DPTO. COMPRAS",null,{"$f":"[2]DAC!$Y9","v":" "}]
[{"$f":"'Datos obra'!$E$5","v":0},{"$f":"'Datos obra'!$E$6","v":0},{"$f":"'Datos obra'!$E$4","v":0},{"$f":"'Datos obra'!$E$7","v":0},{"$f":"'Datos obra'!$E$8","v":0},{"$f":"'Datos obra'!$E$9","v":0},{"$f":"'Datos obra'!$E$10","v":0},{"$f":"'Datos obra'!$E$11","v":0},null,null,null,null,null,"",null,null,null,null,null,null,"A RELLENAR POR DPTO. COMPRAS",null,{"$f":"[2]DAC!$Y10","v":" "}]
[{"$f":"'Datos obra'!$E$5","v":0},{"$f":"'Datos obra'!$E$6","v":0},{"$f":"'Datos obra'!$E$4","v":0},{"$f":"'Datos obra'!$E$7","v":0},{"$f":"'Datos obra'!$E$8","v":0},{"$f":"'Datos obra'!$E$9","v":0},{"$f":"'Datos obra'!$E$10","v":0},{"$f":"'Datos obra'!$E$11","v":0},null,null,null,null,null,"",null,null,null,null,null,null,"A RELLENAR POR DPTO. COMPRAS",null,{"$f":"[2]DAC!$Y11","v":" "}]
[{"$f":"'Datos obra'!$E$5","v":0},{"$f":"'Datos obra'!$E$6","v":0},{"$f":"'Datos obra'!$E$4","v":0},{"$f":"'Datos obra'!$E$7","v":0},{"$f":"'Datos obra'!$E$8","v":0},{"$f":"'Datos obra'!$E$9","v":0},{"$f":"'Datos obra'!$E$10","v":0},{"$f":"'Datos obra'!$E$11","v":0},null,null,null,null,null,{"$f":"IF(M9=\"\",\"\",M9+42)","v":""},null,null,null,null,null,null,"A RELLENAR POR DPTO. COMPRAS",null,{"$f":"[2]DAC!$Y12","v":" "}]
[{"$f":"'Datos obra'!$E$5","v":0},{"$f":"'Datos obra'!$E$6","v":0},{"$f":"'Datos obra'!$E$4","v":0},{"$f":"'Datos obra'!$E$7","v":0},{"$f":"'Datos obra'!$E$8","v":0},{"$f":"'Datos obra'!$E$9","v":0},{"$f":"'Datos obra'!$E$10","v":0},{"$f":"'Datos obra'!$E$11","v":0},null,null,null,null,null,"",null,null,null,null,null,null,"A RELLENAR POR DPTO. COMPRAS",null,{"$f":"[2]DAC!$Y13","v":" "}]
[{"$f":"'Datos obra'!$E$5","v":0},{"$f":"'Datos obra'!$E$6","v":0},{"$f":"'Datos obra'!$E$4","v":0},{"$f":"'Datos obra'!$E$7","v":0},{"$f":"'Datos obra'!$E$8","v":0},{"$f":"'Datos obra'!$E$9","v":0},{"$f":"'Datos obra'!$E$10","v":0},{"$f":"'Datos obra'!$E$11","v":0},null,null,null,null,null,"",null,null,null,null,null,null,"A RELLENAR POR DPTO. COMPRAS",null,{"$f":"[2]DAC!$Y14","v":" "}]
[{"$f":"'Datos obra'!$E$5","v":0},{"$f":"'Datos obra'!$E$6","v":0},{"$f":"'Datos obra'!$E$4","v":0},{"$f":"'Datos obra'!$E$7","v":0},{"$f":"'Datos obra'!$E$8","v":0},{"$f":"'Datos obra'!$E$9","v":0},{"$f":"'Datos obra'!$E$10","v":0},{"$f":"'Datos obra'!$E$11","v":0},null,null,null,null,null,"",null,null,null,null,null,null,"A RELLENAR POR DPTO. COMPRAS",null,{"$f":"[2]DAC!$Y15","v":" "}]
[{"$f":"'Datos obra'!$E$5","v":0},{"$f":"'Datos obra'!$E$6","v":0},{"$f":"'Datos obra'!$E$4","v":0},{"$f":"'Datos obra'!$E$7","v":0},{"$f":"'Datos obra'!$E$8","v":0},{"$f":"'Datos obra'!$E$9","v":0},{"$f":"'Datos obra'!$E$10","v":0},{"$f":"'Datos obra'!$E$11","v":0},null,null,null,null,null,"",null,null,null,null,null,null,"A RELLENAR POR DPTO. COMPRAS",null,{"$f":"[2]DAC!$Y16","v":" "}]
[{"$f":"'Datos obra'!$E$5","v":0},{"$f":"'Datos obra'!$E$6","v":0},{"$f":"'Datos obra'!$E$4","v":0},{"$f":"'Datos obra'!$E$7","v":0},{"$f":"'Datos obra'!$E$8","v":0},{"$f":"'Datos obra'!$E$9","v":0},{"$f":"'Datos obra'!$E$10","v":0},{"$f":"'Datos obra'!$E$11","v":0},null,null,null,null,null,"",null,null,null,null,null,null,"A RELLENAR POR DPTO. COMPRAS",null,{"$f":"[2]DAC!$Y17","v":" "}]
[{"$f":"'Datos obra'!$E$5","v":0},{"$f":"'Datos obra'!$E$6","v":0},{"$f":"'Datos obra'!$E$4","v":0},{"$f":"'Datos obra'!$E$7","v":0},{"$f":"'Datos obra'!$E$8","v":0},{"$f":"'Datos obra'!$E$9","v":0},{"$f":"'Datos obra'!$E$10","v":0},{"$f":"'Datos obra'!$E$11","v":0},null,null,null,null,null,"",null,null,null,null,null,null,"A RELLENAR POR DPTO. COMPRAS",null,{"$f":"[2]DAC!$Y18","v":" "}]
[{"$f":"'Datos obra'!$E$5","v":0},{"$f":"'Datos obra'!$E$6","v":0},{"$f":"'Datos obra'!$E$4","v":0},{"$f":"'Datos obra'!$E$7","v":0},{"$f":"'Datos obra'!$E$8","v":0},{"$f":"'Datos obra'!$E$9","v":0},{"$f":"'Datos obra'!$E$10","v":0},{"$f":"'Datos obra'!$E$11","v":0},null,null,null,null,null,"",null,null,null,null,null,null,"A RELLENAR POR DPTO. COMPRAS",null,{"$f":"[2]DAC!$Y19","v":" "}]
[{"$f":"'Datos obra'!$E$5","v":0},{"$f":"'Datos obra'!$E$6","v":0},{"$f":"'Datos obra'!$E$4","v":0},{"$f":"'Datos obra'!$E$7","v":0},{"$f":"'Datos obra'!$E$8","v":0},{"$f":"'Datos obra'!$E$9","v":0},{"$f":"'Datos obra'!$E$10","v":0},{"$f":"'Datos obra'!$E$11","v":0},null,null,null,null,null,"",null,null,null,null,null,null,"A RELLENAR POR DPTO. COMPRAS",null,{"$f":"[2]DAC!$Y20","v":" "}]
[{"$f":"'Datos obra'!$E$5","v":0},{"$f":"'Datos obra'!$E$6","v":0},{"$f":"'Datos obra'!$E$4","v":0},{"$f":"'Datos obra'!$E$7","v":0},{"$f":"'Datos obra'!$E$8","v":0},{"$f":"'Datos obra'!$E$9","v":0},{"$f":"'Datos obra'!$E$10","v":0},{"$f":"'Datos obra'!$E$11","v":0},null,null,null,null,null,"",null,null,null,null,null,null,"A RELLENAR POR DPTO. COMPRAS",null,{"$f":"[2]DAC!$Y21","v":" "}]
[{"$f":"'Datos obra'!$E$5","v":0},{"$f":"'Datos obra'!$E$6","v":0},{"$f":"'Datos obra'!$E$4","v":0},{"$f":"'Datos obra'!$E$7","v":0},{"$f":"'Datos obra'!$E$8","v":0},{"$f":"'Datos obra'!$E$9","v":0},{"$f":"'Datos obra'!$E$10","v":0},{"$f":"'Datos obra'!$E$11","v":0},null,null,null,null,null,"",null,null,null,null,null,null,"A RELLENAR POR DPTO. COMPRAS",null,{"$f":"[2]DAC!$Y22","v":" "}]
[{"$f":"'Datos obra'!$E$5","v":0},{"$f":"'Datos obra'!$E$6","v":0},{"$f":"'Datos obra'!$E$4","v":0},{"$f":"'Datos obra'!$E$7","v":0},{"$f":"'Datos obra'!$E$8","v":0},{"$f":"'Datos obra'!$E$9","v":0},{"$f":"'Datos obra'!$E$10","v":0},{"$f":"'Datos obra'!$E$11","v":0},null,null,null,null,null,"",null,null,null,null,null,null,"A RELLENAR POR DPTO. COMPRAS",null,{"$f":"[2]DAC!$Y23","v":" "}]
[{"$f":"'Datos obra'!$E$5","v":0},{"$f":"'Datos obra'!$E$6","v":0},{"$f":"'Datos obra'!$E$4","v":0},{"$f":"'Datos obra'!$E$7","v":0},{"$f":"'Datos obra'!$E$8","v":0},{"$f":"'Datos obra'!$E$9","v":0},{"$f":"'Datos obra'!$E$10","v":0},{"$f":"'Datos obra'!$E$11","v":0},null,null,null,null,null,"",null,null,null,null,null,null,"A RELLENAR POR DPTO. COMPRAS",null,{"$f":"[2]DAC!$Y24","v":" "}]
[{"$f":"'Datos obra'!$E$5","v":0},{"$f":"'Datos obra'!$E$6","v":0},{"$f":"'Datos obra'!$E$4","v":0},{"$f":"'Datos obra'!$E$7","v":0},{"$f":"'Datos obra'!$E$8","v":0},{"$f":"'Datos obra'!$E$9","v":0},{"$f":"'Datos obra'!$E$10","v":0},{"$f":"'Datos obra'!$E$11","v":0},null,null,null,null,null,"",null,null,null,null,null,null,"A RELLENAR POR DPTO. COMPRAS",null,{"$f":"[2]DAC!$Y25","v":" "}]
[{"$f":"'Datos obra'!$E$5","v":0},{"$f":"'Datos obra'!$E$6","v":0},{"$f":"'Datos obra'!$E$4","v":0},{"$f":"'Datos obra'!$E$7","v":0},{"$f":"'Datos obra'!$E$8","v":0},{"$f":"'Datos obra'!$E$9","v":0},{"$f":"'Datos obra'!$E$10","v":0},{"$f":"'Datos obra'!$E$11","v":0},null,null,null,null,null,"",null,null,null,null,null,null,"A RELLENAR POR DPTO. COMPRAS",null,{"$f":"[2]DAC!$Y26","v":" "}]
[{"$f":"'Datos obra'!$E$5","v":0},{"$f":"'Datos obra'!$E$6","v":0},{"$f":"'Datos obra'!$E$4","v":0},{"$f":"'Datos obra'!$E$7","v":0},{"$f":"'Datos obra'!$E$8","v":0},{"$f":"'Datos obra'!$E$9","v":0},{"$f":"'Datos obra'!$E$10","v":0},{"$f":"'Datos obra'!$E$11","v":0},null,null,null,null,null,"",null,null,null,null,null,null,"A RELLENAR POR DPTO. COMPRAS",null,{"$f":"[2]DAC!$Y27","v":" "}]
[{"$f":"'Datos obra'!$E$5","v":0},{"$f":"'Datos obra'!$E$6","v":0},{"$f":"'Datos obra'!$E$4","v":0},{"$f":"'Datos obra'!$E$7","v":0},{"$f":"'Datos obra'!$E$8","v":0},{"$f":"'Datos obra'!$E$9","v":0},{"$f":"'Datos obra'!$E$10","v":0},{"$f":"'Datos obra'!$E$11","v":0},null,null,null,null,null,"",null,null,null,null,null,null,"A RELLENAR POR DPTO. COMPRAS",null,{"$f":"[2]DAC!$Y28","v":" "}]
[{"$f":"'Datos obra'!$E$5","v":0},{"$f":"'Datos obra'!$E$6","v":0},{"$f":"'Datos obra'!$E$4","v":0},{"$f":"'Datos obra'!$E$7","v":0},{"$f":"'Datos obra'!$E$8","v":0},{"$f":"'Datos obra'!$E$9","v":0},{"$f":"'Datos obra'!$E$10","v":0},{"$f":"'Datos obra'!$E$11","v":0},null,null,null,null,null,"",null,null,null,null,null,null,"A RELLENAR POR DPTO. COMPRAS",null,{"$f":"[2]DAC!$Y29","v":" "}]
[{"$f":"'Datos obra'!$E$5","v":0},{"$f":"'Datos obra'!$E$6","v":0},{"$f":"'Datos obra'!$E$4","v":0},{"$f":"'Datos obra'!$E$7","v":0},{"$f":"'Datos obra'!$E$8","v":0},{"$f":"'Datos obra'!$E$9","v":0},{"$f":"'Datos obra'!$E$10","v":0},{"$f":"'Datos obra'!$E$11","v":0},null,null,null,null,null,"",null,null,null,null,null,null,"A RELLENAR POR DPTO. COMPRAS",null,{"$f":"[2]DAC!$Y30","v":" "}]
[{"$f":"'Datos obra'!$E$5","v":0},{"$f":"'Datos obra'!$E$6","v":0},{"$f":"'Datos obra'!$E$4","v":0},{"$f":"'Datos obra'!$E$7","v":0},{"$f":"'Datos obra'!$E$8","v":0},{"$f":"'Datos obra'!$E$9","v":0},{"$f":"'Datos obra'!$E$10","v":0},{"$f":"'Datos obra'!$E$11","v":0},null,null,null,null,null,"",null,null,null,null,null,null,"A RELLENAR POR DPTO. COMPRAS",null,{"$f":"[2]DAC!$Y31","v":" "}]
[{"$f":"'Datos obra'!$E$5","v":0},{"$f":"'Datos obra'!$E$6","v":0},{"$f":"'Datos obra'!$E$4","v":0},{"$f":"'Datos obra'!$E$7","v":0},{"$f":"'Datos obra'!$E$8","v":0},{"$f":"'Datos obra'!$E$9","v":0},{"$f":"'Datos obra'!$E$10","v":0},{"$f":"'Datos obra'!$E$11","v":0},null,null,null,null,null,"",null,null,null,null,null,null,"A RELLENAR POR DPTO. COMPRAS",null,{"$f":"[2]DAC!$Y32","v":" "}]
[{"$f":"'Datos obra'!$E$5","v":0},{"$f":"'Datos obra'!$E$6","v":0},{"$f":"'Datos obra'!$E$4","v":0},{"$f":"'Datos obra'!$E$7","v":0},{"$f":"'Datos obra'!$E$8","v":0},{"$f":"'Datos obra'!$E$9","v":0},{"$f":"'Datos obra'!$E$10","v":0},{"$f":"'Datos obra'!$E$11","v":0},null,null,null,null,null,"",null,null,null,null,null,null,"A RELLENAR POR DPTO. COMPRAS",null,{"$f":"[2]DAC!$Y33","v":" "}]
[{"$f":"'Datos obra'!$E$5","v":0},{"$f":"'Datos obra'!$E$6","v":0},{"$f":"'Datos obra'!$E$4","v":0},{"$f":"'Datos obra'!$E$7","v":0},{"$f":"'Datos obra'!$E$8","v":0},{"$f":"'Datos obra'!$E$9","v":0},{"$f":"'Datos obra'!$E$10","v":0},{"$f":"'Datos obra'!$E$11","v":0},null,null,null,null,null,"",null,null,null,null,null,null,"A RELLENAR POR DPTO. COMPRAS",null,{"$f":"[2]DAC!$Y34","v":" "}]
[{"$f":"'Datos obra'!$E$5","v":0},{"$f":"'Datos obra'!$E$6","v":0},{"$f":"'Datos obra'!$E$4","v":0},{"$f":"'Datos obra'!$E$7","v":0},{"$f":"'Datos obra'!$E$8","v":0},{"$f":"'Datos obra'!$E$9","v":0},{"$f":"'Datos obra'!$E$10","v":0},{"$f":"'Datos obra'!$E$11","v":0},null,null,null,null,null,"",null,null,null,null,null,null,"A RELLENAR POR DPTO. COMPRAS",null,{"$f":"[2]DAC!$Y35","v":" "}]
[{"$f":"'Datos obra'!$E$5","v":0},{"$f":"'Datos obra'!$E$6","v":0},{"$f":"'Datos obra'!$E$4","v":0},{"$f":"'Datos obra'!$E$7","v":0},{"$f":"'Datos obra'!$E$8","v":0},{"$f":"'Datos obra'!$E$9","v":0},{"$f":"'Datos obra'!$E$10","v":0},{"$f":"'Datos obra'!$E$11","v":0},null,null,null,null,null,"",null,null,null,null,null,null,"A RELLENAR POR DPTO. COMPRAS",null,{"$f":"[2]DAC!$Y36","v":" "}]
[{"$f":"'Datos obra'!$E$5","v":0},{"$f":"'Datos obra'!$E$6","v":0},{"$f":"'Datos obra'!$E$4","v":0},{"$f":"'Datos obra'!$E$7","v":0},{"$f":"'Datos obra'!$E$8","v":0},{"$f":"'Datos obra'!$E$9","v":0},{"$f":"'Datos obra'!$E$10","v":0},{"$f":"'Datos obra'!$E$11","v":0},null,null,null,null,null,"",null,null,null,null,null,null,"A RELLENAR POR DPTO. COMPRAS",null,{"$f":"[2]DAC!$Y37","v":" "}]
[{"$f":"'Datos obra'!$E$5","v":0},{"$f":"'Datos obra'!$E$6","v":0},{"$f":"'Datos obra'!$E$4","v":0},{"$f":"'Datos obra'!$E$7","v":0},{"$f":"'Datos obra'!$E$8","v":0},{"$f":"'Datos obra'!$E$9","v":0},{"$f":"'Datos obra'!$E$10","v":0},{"$f":"'Datos obra'!$E$11","v":0},null,null,null,null,null,"",null,null,null,null,null,null,"A RELLENAR POR DPTO. COMPRAS",null,{"$f":"[2]DAC!$Y38","v":" "}]
[{"$f":"'Datos obra'!$E$5","v":0},{"$f":"'Datos obra'!$E$6","v":0},{"$f":"'Datos obra'!$E$4","v":0},{"$f":"'Datos obra'!$E$7","v":0},{"$f":"'Datos obra'!$E$8","v":0},{"$f":"'Datos obra'!$E$9","v":0},{"$f":"'Datos obra'!$E$10","v":0},{"$f":"'Datos obra'!$E$11","v":0},null,null,null,null,null,{"$f":"IF(M36=\"\",\"\",M36+42)","v":""},null,null,null,null,null,null,"A RELLENAR POR DPTO. COMPRAS",null,{"$f":"[2]DAC!$Y39","v":" "}]
[{"$f":"'Datos obra'!$E$5","v":0},{"$f":"'Datos obra'!$E$6","v":0},{"$f":"'Datos obra'!$E$4","v":0},{"$f":"'Datos obra'!$E$7","v":0},{"$f":"'Datos obra'!$E$8","v":0},{"$f":"'Datos obra'!$E$9","v":0},{"$f":"'Datos obra'!$E$10","v":0},{"$f":"'Datos obra'!$E$11","v":0},null,null,null,null,null,"",null,null,null,null,null,null,"A RELLENAR POR DPTO. COMPRAS",null,{"$f":"[2]DAC!$Y40","v":" "}]
[{"$f":"'Datos obra'!$E$5","v":0},{"$f":"'Datos obra'!$E$6","v":0},{"$f":"'Datos obra'!$E$4","v":0},{"$f":"'Datos obra'!$E$7","v":0},{"$f":"'Datos obra'!$E$8","v":0},{"$f":"'Datos obra'!$E$9","v":0},{"$f":"'Datos obra'!$E$10","v":0},{"$f":"'Datos obra'!$E$11","v":0},null,null,null,null,null,"",null,null,null,null,null,null,"A RELLENAR POR DPTO. COMPRAS",null,{"$f":"[2]DAC!$Y41","v":" "}]
[{"$f":"'Datos obra'!$E$5","v":0},{"$f":"'Datos obra'!$E$6","v":0},{"$f":"'Datos obra'!$E$4","v":0},{"$f":"'Datos obra'!$E$7","v":0},{"$f":"'Datos obra'!$E$8","v":0},{"$f":"'Datos obra'!$E$9","v":0},{"$f":"'Datos obra'!$E$10","v":0},{"$f":"'Datos obra'!$E$11","v":0},null,null,null,null,null,"",null,null,null,null,null,null,"A RELLENAR POR DPTO. COMPRAS",null,{"$f":"[2]DAC!$Y42","v":" "}]
[{"$f":"'Datos obra'!$E$5","v":0},{"$f":"'Datos obra'!$E$6","v":0},{"$f":"'Datos obra'!$E$4","v":0},{"$f":"'Datos obra'!$E$7","v":0},{"$f":"'Datos obra'!$E$8","v":0},{"$f":"'Datos obra'!$E$9","v":0},{"$f":"'Datos obra'!$E$10","v":0},{"$f":"'Datos obra'!$E$11","v":0},null,null,null,null,null,"",null,null,null,null,null,null,"A RELLENAR POR DPTO. COMPRAS",null,{"$f":"[2]DAC!$Y43","v":" "}]
[{"$f":"'Datos obra'!$E$5","v":0},{"$f":"'Datos obra'!$E$6","v":0},{"$f":"'Datos obra'!$E$4","v":0},{"$f":"'Datos obra'!$E$7","v":0},{"$f":"'Datos obra'!$E$8","v":0},{"$f":"'Datos obra'!$E$9","v":0},{"$f":"'Datos obra'!$E$10","v":0},{"$f":"'Datos obra'!$E$11","v":0},null,null,null,null,null,"",null,null,null,null,null,null,"A RELLENAR POR DPTO. COMPRAS",null,{"$f":"[2]DAC!$Y44","v":" "}]
[{"$f":"'Datos obra'!$E$5","v":0},{"$f":"'Datos obra'!$E$6","v":0},{"$f":"'Datos obra'!$E$4","v":0},{"$f":"'Datos obra'!$E$7","v":0},{"$f":"'Datos obra'!$E$8","v":0},{"$f":"'Datos obra'!$E$9","v":0},{"$f":"'Datos obra'!$E$10","v":0},{"$f":"'Datos obra'!$E$11","v":0},null,null,null,null,null,"",null,null,null,null,null,null,"A RELLENAR POR DPTO. COMPRAS",null,{"$f":"[2]DAC!$Y45","v":" "}]
[{"$f":"'Datos obra'!$E$5","v":0},{"$f":"'Datos obra'!$E$6","v":0},{"$f":"'Datos obra'!$E$4","v":0},{"$f":"'Datos obra'!$E$7","v":0},{"$f":"'Datos obra'!$E$8","v":0},{"$f":"'Datos obra'!$E$9","v":0},{"$f":"'Datos obra'!$E$10","v":0},{"$f":"'Datos obra'!$E$11","v":0},null,null,null,null,null,"",null,null,null,null,null,null,"A RELLENAR POR DPTO. COMPRAS",null,{"$f":"[2]DAC!$Y46","v":" "}]
[{"$f":"'Datos obra'!$E$5","v":0},{"$f":"'Datos obra'!$E$6","v":0},{"$f":"'Datos obra'!$E$4","v":0},{"$f":"'Datos obra'!$E$7","v":0},{"$f":"'Datos obra'!$E$8","v":0},{"$f":"'Datos obra'!$E$9","v":0},{"$f":"'Datos obra'!$E$10","v":0},{"$f":"'Datos obra'!$E$11","v":0},null,null,null,null,null,"",null,null,null,null,null,null,"A RELLENAR POR DPTO. COMPRAS",null,{"$f":"[2]DAC!$Y47","v":" "}]
[{"$f":"'Datos obra'!$E$5","v":0},{"$f":"'Datos obra'!$E$6","v":0},{"$f":"'Datos obra'!$E$4","v":0},{"$f":"'Datos obra'!$E$7","v":0},{"$f":"'Datos obra'!$E$8","v":0},{"$f":"'Datos obra'!$E$9","v":0},{"$f":"'Datos obra'!$E$10","v":0},{"$f":"'Datos obra'!$E$11","v":0},null,null,null,null,null,"",null,null,null,null,null,null,"A RELLENAR POR DPTO. COMPRAS",null,{"$f":"[2]DAC!$Y48","v":" "}]
[{"$f":"'Datos obra'!$E$5","v":0},{"$f":"'Datos obra'!$E$6","v":0},{"$f":"'Datos obra'!$E$4","v":0},{"$f":"'Datos obra'!$E$7","v":0},{"$f":"'Datos obra'!$E$8","v":0},{"$f":"'Datos obra'!$E$9","v":0},{"$f":"'Datos obra'!$E$10","v":0},{"$f":"'Datos obra'!$E$11","v":0},null,null,null,null,null,"",null,null,null,null,null,null,"A RELLENAR POR DPTO. COMPRAS",null,{"$f":"[2]DAC!$Y49","v":" "}]
[{"$f":"'Datos obra'!$E$5","v":0},{"$f":"'Datos obra'!$E$6","v":0},{"$f":"'Datos obra'!$E$4","v":0},{"$f":"'Datos obra'!$E$7","v":0},{"$f":"'Datos obra'!$E$8","v":0},{"$f":"'Datos obra'!$E$9","v":0},{"$f":"'Datos obra'!$E$10","v":0},{"$f":"'Datos obra'!$E$11","v":0},null,null,null,null,null,"",null,null,null,null,null,null,"A RELLENAR POR DPTO. COMPRAS",null,{"$f":"[2]DAC!$Y50","v":" "}]
[{"$f":"'Datos obra'!$E$5","v":0},{"$f":"'Datos obra'!$E$6","v":0},{"$f":"'Datos obra'!$E$4","v":0},{"$f":"'Datos obra'!$E$7","v":0},{"$f":"'Datos obra'!$E$8","v":0},{"$f":"'Datos obra'!$E$9","v":0},{"$f":"'Datos obra'!$E$10","v":0},{"$f":"'Datos obra'!$E$11","v":0},null,null,null,null,null,"",null,null,null,null,null,null,"A RELLENAR POR DPTO. COMPRAS",null,{"$f":"[2]DAC!$Y51","v":" "}]
[{"$f":"'Datos obra'!$E$5","v":0},{"$f":"'Datos obra'!$E$6","v":0},{"$f":"'Datos obra'!$E$4","v":0},{"$f":"'Datos obra'!$E$7","v":0},{"$f":"'Datos obra'!$E$8","v":0},{"$f":"'Datos obra'!$E$9","v":0},{"$f":"'Datos obra'!$E$10","v":0},{"$f":"'Datos obra'!$E$11","v":0},null,null,null,null,null,"",null,null,null,null,null,null,"A RELLENAR POR DPTO. COMPRAS",null,{"$f":"[2]DAC!$Y52","v":" "}]
[{"$f":"'Datos obra'!$E$5","v":0},{"$f":"'Datos obra'!$E$6","v":0},{"$f":"'Datos obra'!$E$4","v":0},{"$f":"'Datos obra'!$E$7","v":0},{"$f":"'Datos obra'!$E$8","v":0},{"$f":"'Datos obra'!$E$9","v":0},{"$f":"'Datos obra'!$E$10","v":0},{"$f":"'Datos obra'!$E$11","v":0},null,null,null,null,null,"",null,null,null,null,null,null,"A RELLENAR POR DPTO. COMPRAS",null,{"$f":"[2]DAC!$Y53","v":" "}]
[{"$f":"'Datos obra'!$E$5","v":0},{"$f":"'Datos obra'!$E$6","v":0},{"$f":"'Datos obra'!$E$4","v":0},{"$f":"'Datos obra'!$E$7","v":0},{"$f":"'Datos obra'!$E$8","v":0},{"$f":"'Datos obra'!$E$9","v":0},{"$f":"'Datos obra'!$E$10","v":0},{"$f":"'Datos obra'!$E$11","v":0},null,null,null,null,null,"",null,null,null,null,null,null,"A RELLENAR POR DPTO. COMPRAS",null,{"$f":"[2]DAC!$Y54","v":" "}]
[{"$f":"'Datos obra'!$E$5","v":0},{"$f":"'Datos obra'!$E$6","v":0},{"$f":"'Datos obra'!$E$4","v":0},{"$f":"'Datos obra'!$E$7","v":0},{"$f":"'Datos obra'!$E$8","v":0},{"$f":"'Datos obra'!$E$9","v":0},{"$f":"'Datos obra'!$E$10","v":0},{"$f":"'Datos obra'!$E$11","v":0},null,null,null,null,null,"",null,null,null,null,null,null,"A RELLENAR POR DPTO. COMPRAS",null,{"$f":"[2]DAC!$Y55","v":" "}]
[{"$f":"'Datos obra'!$E$5","v":0},{"$f":"'Datos obra'!$E$6","v":0},{"$f":"'Datos obra'!$E$4","v":0},{"$f":"'Datos obra'!$E$7","v":0},{"$f":"'Datos obra'!$E$8","v":0},{"$f":"'Datos obra'!$E$9","v":0},{"$f":"'Datos obra'!$E$10","v":0},{"$f":"'Datos obra'!$E$11","v":0},null,null,null,null,null,"",null,null,null,null,null,null,"A RELLENAR POR DPTO. COMPRAS",null,{"$f":"[2]DAC!$Y56","v":" "}]
[{"$f":"'Datos obra'!$E$5","v":0},{"$f":"'Datos obra'!$E$6","v":0},{"$f":"'Datos obra'!$E$4","v":0},{"$f":"'Datos obra'!$E$7","v":0},{"$f":"'Datos obra'!$E$8","v":0},{"$f":"'Datos obra'!$E$9","v":0},{"$f":"'Datos obra'!$E$10","v":0},{"$f":"'Datos obra'!$E$11","v":0},null,null,null,null,null,"",null,null,null,null,null,null,"A RELLENAR POR DPTO. COMPRAS",null,{"$f":"[2]DAC!$Y57","v":" "}]
[{"$f":"'Datos obra'!$E$5","v":0},{"$f":"'Datos obra'!$E$6","v":0},{"$f":"'Datos obra'!$E$4","v":0},{"$f":"'Datos obra'!$E$7","v":0},{"$f":"'Datos obra'!$E$8","v":0},{"$f":"'Datos obra'!$E$9","v":0},{"$f":"'Datos obra'!$E$10","v":0},{"$f":"'Datos obra'!$E$11","v":0},null,null,null,null,null,"",null,null,null,null,null,null,"A RELLENAR POR DPTO. COMPRAS",null,{"$f":"[2]DAC!$Y58","v":" "}]
[{"$f":"'Datos obra'!$E$5","v":0},{"$f":"'Datos obra'!$E$6","v":0},{"$f":"'Datos obra'!$E$4","v":0},{"$f":"'Datos obra'!$E$7","v":0},{"$f":"'Datos obra'!$E$8","v":0},{"$f":"'Datos obra'!$E$9","v":0},{"$f":"'Datos obra'!$E$10","v":0},{"$f":"'Datos obra'!$E$11","v":0},null,null,null,null,null,"",null,null,null,null,null,null,"A RELLENAR POR DPTO. COMPRAS",null,{"$f":"[2]DAC!$Y59","v":" "}]
[{"$f":"'Datos obra'!$E$5","v":0},{"$f":"'Datos obra'!$E$6","v":0},{"$f":"'Datos obra'!$E$4","v":0},{"$f":"'Datos obra'!$E$7","v":0},{"$f":"'Datos obra'!$E$8","v":0},{"$f":"'Datos obra'!$E$9","v":0},{"$f":"'Datos obra'!$E$10","v":0},{"$f":"'Datos obra'!$E$11","v":0},null,null,null,null,null,"",null,null,null,null,null,null,"A RELLENAR POR DPTO. COMPRAS",null,{"$f":"[2]DAC!$Y60","v":" "}]
[{"$f":"'Datos obra'!$E$5","v":0},{"$f":"'Datos obra'!$E$6","v":0},{"$f":"'Datos obra'!$E$4","v":0},{"$f":"'Datos obra'!$E$7","v":0},{"$f":"'Datos obra'!$E$8","v":0},{"$f":"'Datos obra'!$E$9","v":0},{"$f":"'Datos obra'!$E$10","v":0},{"$f":"'Datos obra'!$E$11","v":0},null,null,null,null,null,"",null,null,null,null,null,null,"A RELLENAR POR DPTO. COMPRAS",null,{"$f":"[2]DAC!$Y61","v":" "}]
[{"$f":"'Datos obra'!$E$5","v":0},{"$f":"'Datos obra'!$E$6","v":0},{"$f":"'Datos obra'!$E$4","v":0},{"$f":"'Datos obra'!$E$7","v":0},{"$f":"'Datos obra'!$E$8","v":0},{"$f":"'Datos obra'!$E$9","v":0},{"$f":"'Datos obra'!$E$10","v":0},{"$f":"'Datos obra'!$E$11","v":0},null,null,null,null,null,"",null,null,null,null,null,null,"A RELLENAR POR DPTO. COMPRAS",null,{"$f":"[2]DAC!$Y62","v":" "}]
[{"$f":"'Datos obra'!$E$5","v":0},{"$f":"'Datos obra'!$E$6","v":0},{"$f":"'Datos obra'!$E$4","v":0},{"$f":"'Datos obra'!$E$7","v":0},{"$f":"'Datos obra'!$E$8","v":0},{"$f":"'Datos obra'!$E$9","v":0},{"$f":"'Datos obra'!$E$10","v":0},{"$f":"'Datos obra'!$E$11","v":0},null,null,null,null,null,"",null,null,null,null,null,null,"A RELLENAR POR DPTO. COMPRAS",null,{"$f":"[2]DAC!$Y63","v":" "}]
[{"$f":"'Datos obra'!$E$5","v":0},{"$f":"'Datos obra'!$E$6","v":0},{"$f":"'Datos obra'!$E$4","v":0},{"$f":"'Datos obra'!$E$7","v":0},{"$f":"'Datos obra'!$E$8","v":0},{"$f":"'Datos obra'!$E$9","v":0},{"$f":"'Datos obra'!$E$10","v":0},{"$f":"'Datos obra'!$E$11","v":0},null,null,null,null,null,"",null,null,null,null,null,null,"A RELLENAR POR DPTO. COMPRAS",null,{"$f":"[2]DAC!$Y64","v":" "}]
[{"$f":"'Datos obra'!$E$5","v":0},{"$f":"'Datos obra'!$E$6","v":0},{"$f":"'Datos obra'!$E$4","v":0},{"$f":"'Datos obra'!$E$7","v":0},{"$f":"'Datos obra'!$E$8","v":0},{"$f":"'Datos obra'!$E$9","v":0},{"$f":"'Datos obra'!$E$10","v":0},{"$f":"'Datos obra'!$E$11","v":0},null,null,null,null,null,"",null,null,null,null,null,null,"A RELLENAR POR DPTO. COMPRAS",null,{"$f":"[2]DAC!$Y65","v":" "}]
[{"$f":"'Datos obra'!$E$5","v":0},{"$f":"'Datos obra'!$E$6","v":0},{"$f":"'Datos obra'!$E$4","v":0},{"$f":"'Datos obra'!$E$7","v":0},{"$f":"'Datos obra'!$E$8","v":0},{"$f":"'Datos obra'!$E$9","v":0},{"$f":"'Datos obra'!$E$10","v":0},{"$f":"'Datos obra'!$E$11","v":0},null,null,null,null,null,"",null,null,null,null,null,null,"A RELLENAR POR DPTO. COMPRAS",null,{"$f":"[2]DAC!$Y66","v":" "}]
[{"$f":"'Datos obra'!$E$5","v":0},{"$f":"'Datos obra'!$E$6","v":0},{"$f":"'Datos obra'!$E$4","v":0},{"$f":"'Datos obra'!$E$7","v":0},{"$f":"'Datos obra'!$E$8","v":0},{"$f":"'Datos obra'!$E$9","v":0},{"$f":"'Datos obra'!$E$10","v":0},{"$f":"'Datos obra'!$E$11","v":0},null,null,null,null,null,"",null,null,null,null,null,null,"A RELLENAR POR DPTO. COMPRAS",null,{"$f":"[2]DAC!$Y67","v":" "}]
[{"$f":"'Datos obra'!$E$5","v":0},{"$f":"'Datos obra'!$E$6","v":0},{"$f":"'Datos obra'!$E$4","v":0},{"$f":"'Datos obra'!$E$7","v":0},{"$f":"'Datos obra'!$E$8","v":0},{"$f":"'Datos obra'!$E$9","v":0},{"$f":"'Datos obra'!$E$10","v":0},{"$f":"'Datos obra'!$E$11","v":0},null,null,null,null,null,{"$f":"IF(M65=\"\",\"\",M65+42)","v":""},null,null,null,null,null,null,"A RELLENAR POR DPTO. COMPRAS",null,{"$f":"[2]DAC!$Y68","v":" "}]
[{"$f":"'Datos obra'!$E$5","v":0},{"$f":"'Datos obra'!$E$6","v":0},{"$f":"'Datos obra'!$E$4","v":0},{"$f":"'Datos obra'!$E$7","v":0},{"$f":"'Datos obra'!$E$8","v":0},{"$f":"'Datos obra'!$E$9","v":0},{"$f":"'Datos obra'!$E$10","v":0},{"$f":"'Datos obra'!$E$11","v":0},null,null,null,null,null,"",null,null,null,null,null,null,"A RELLENAR POR DPTO. COMPRAS",null,{"$f":"[2]DAC!$Y69","v":" "}]
[{"$f":"'Datos obra'!$E$5","v":0},{"$f":"'Datos obra'!$E$6","v":0},{"$f":"'Datos obra'!$E$4","v":0},{"$f":"'Datos obra'!$E$7","v":0},{"$f":"'Datos obra'!$E$8","v":0},{"$f":"'Datos obra'!$E$9","v":0},{"$f":"'Datos obra'!$E$10","v":0},{"$f":"'Datos obra'!$E$11","v":0},null,null,null,null,null,"",null,null,null,null,null,null,"A RELLENAR POR DPTO. COMPRAS",null,{"$f":"[2]DAC!$Y70","v":" "}]
[{"$f":"'Datos obra'!$E$5","v":0},{"$f":"'Datos obra'!$E$6","v":0},{"$f":"'Datos obra'!$E$4","v":0},{"$f":"'Datos obra'!$E$7","v":0},{"$f":"'Datos obra'!$E$8","v":0},{"$f":"'Datos obra'!$E$9","v":0},{"$f":"'Datos obra'!$E$10","v":0},{"$f":"'Datos obra'!$E$11","v":0},null,null,null,null,null,"",null,null,null,null,null,null,"A RELLENAR POR DPTO. COMPRAS",null,{"$f":"[2]DAC!$Y71","v":" "}]
[{"$f":"'Datos obra'!$E$5","v":0},{"$f":"'Datos obra'!$E$6","v":0},{"$f":"'Datos obra'!$E$4","v":0},{"$f":"'Datos obra'!$E$7","v":0},{"$f":"'Datos obra'!$E$8","v":0},{"$f":"'Datos obra'!$E$9","v":0},{"$f":"'Datos obra'!$E$10","v":0},{"$f":"'Datos obra'!$E$11","v":0},null,null,null,null,null,"",null,null,null,null,null,null,"A RELLENAR POR DPTO. COMPRAS",null,{"$f":"[2]DAC!$Y72","v":" "}]
[{"$f":"'Datos obra'!$E$5","v":0},{"$f":"'Datos obra'!$E$6","v":0},{"$f":"'Datos obra'!$E$4","v":0},{"$f":"'Datos obra'!$E$7","v":0},{"$f":"'Datos obra'!$E$8","v":0},{"$f":"'Datos obra'!$E$9","v":0},{"$f":"'Datos obra'!$E$10","v":0},{"$f":"'Datos obra'!$E$11","v":0},null,null,null,null,null,"",null,null,null,null,null,null,"A RELLENAR POR DPTO. COMPRAS",null,{"$f":"[2]DAC!$Y73","v":" "}]
[{"$f":"'Datos obra'!$E$5","v":0},{"$f":"'Datos obra'!$E$6","v":0},{"$f":"'Datos obra'!$E$4","v":0},{"$f":"'Datos obra'!$E$7","v":0},{"$f":"'Datos obra'!$E$8","v":0},{"$f":"'Datos obra'!$E$9","v":0},{"$f":"'Datos obra'!$E$10","v":0},{"$f":"'Datos obra'!$E$11","v":0},null,null,null,null,null,"",null,null,null,null,null,null,"A RELLENAR POR DPTO. COMPRAS",null,{"$f":"[2]DAC!$Y74","v":" "}]
[{"$f":"'Datos obra'!$E$5","v":0},{"$f":"'Datos obra'!$E$6","v":0},{"$f":"'Datos obra'!$E$4","v":0},{"$f":"'Datos obra'!$E$7","v":0},{"$f":"'Datos obra'!$E$8","v":0},{"$f":"'Datos obra'!$E$9","v":0},{"$f":"'Datos obra'!$E$10","v":0},{"$f":"'Datos obra'!$E$11","v":0},null,null,null,null,null,"",null,null,null,null,null,null,"A RELLENAR POR DPTO. COMPRAS",null,{"$f":"[2]DAC!$Y75","v":" "}]
[{"$f":"'Datos obra'!$E$5","v":0},{"$f":"'Datos obra'!$E$6","v":0},{"$f":"'Datos obra'!$E$4","v":0},{"$f":"'Datos obra'!$E$7","v":0},{"$f":"'Datos obra'!$E$8","v":0},{"$f":"'Datos obra'!$E$9","v":0},{"$f":"'Datos obra'!$E$10","v":0},{"$f":"'Datos obra'!$E$11","v":0},null,null,null,null,null,"",null,null,null,null,null,null,"A RELLENAR POR DPTO. COMPRAS",null,{"$f":"[2]DAC!$Y76","v":" "}]
[{"$f":"'Datos obra'!$E$5","v":0},{"$f":"'Datos obra'!$E$6","v":0},{"$f":"'Datos obra'!$E$4","v":0},{"$f":"'Datos obra'!$E$7","v":0},{"$f":"'Datos obra'!$E$8","v":0},{"$f":"'Datos obra'!$E$9","v":0},{"$f":"'Datos obra'!$E$10","v":0},{"$f":"'Datos obra'!$E$11","v":0},null,null,null,null,null,"",null,null,null,null,null,null,"A RELLENAR POR DPTO. COMPRAS",null,{"$f":"[2]DAC!$Y77","v":" "}]
[{"$f":"'Datos obra'!$E$5","v":0},{"$f":"'Datos obra'!$E$6","v":0},{"$f":"'Datos obra'!$E$4","v":0},{"$f":"'Datos obra'!$E$7","v":0},{"$f":"'Datos obra'!$E$8","v":0},{"$f":"'Datos obra'!$E$9","v":0},{"$f":"'Datos obra'!$E$10","v":0},{"$f":"'Datos obra'!$E$11","v":0},null,null,null,null,null,"",null,null,null,null,null,null,"A RELLENAR POR DPTO. COMPRAS",null,{"$f":"[2]DAC!$Y78","v":" "}]
[{"$f":"'Datos obra'!$E$5","v":0},{"$f":"'Datos obra'!$E$6","v":0},{"$f":"'Datos obra'!$E$4","v":0},{"$f":"'Datos obra'!$E$7","v":0},{"$f":"'Datos obra'!$E$8","v":0},{"$f":"'Datos obra'!$E$9","v":0},{"$f":"'Datos obra'!$E$10","v":0},{"$f":"'Datos obra'!$E$11","v":0},null,null,null,null,null,"",null,null,null,null,null,null,"A RELLENAR POR DPTO. COMPRAS",null,{"$f":"[2]DAC!$Y79","v":" "}]
[{"$f":"'Datos obra'!$E$5","v":0},{"$f":"'Datos obra'!$E$6","v":0},{"$f":"'Datos obra'!$E$4","v":0},{"$f":"'Datos obra'!$E$7","v":0},{"$f":"'Datos obra'!$E$8","v":0},{"$f":"'Datos obra'!$E$9","v":0},{"$f":"'Datos obra'!$E$10","v":0},{"$f":"'Datos obra'!$E$11","v":0},null,null,null,null,null,"",null,null,null,null,null,null,"A RELLENAR POR DPTO. COMPRAS",null,{"$f":"[2]DAC!$Y80","v":" "}]
[{"$f":"'Datos obra'!$E$5","v":0},{"$f":"'Datos obra'!$E$6","v":0},{"$f":"'Datos obra'!$E$4","v":0},{"$f":"'Datos obra'!$E$7","v":0},{"$f":"'Datos obra'!$E$8","v":0},{"$f":"'Datos obra'!$E$9","v":0},{"$f":"'Datos obra'!$E$10","v":0},{"$f":"'Datos obra'!$E$11","v":0},null,null,null,null,null,"",null,null,null,null,null,null,"A RELLENAR POR DPTO. COMPRAS",null,{"$f":"[2]DAC!$Y81","v":" "}]
[{"$f":"'Datos obra'!$E$5","v":0},{"$f":"'Datos obra'!$E$6","v":0},{"$f":"'Datos obra'!$E$4","v":0},{"$f":"'Datos obra'!$E$7","v":0},{"$f":"'Datos obra'!$E$8","v":0},{"$f":"'Datos obra'!$E$9","v":0},{"$f":"'Datos obra'!$E$10","v":0},{"$f":"'Datos obra'!$E$11","v":0},null,null,null,null,null,"",null,null,null,null,null,null,"A RELLENAR POR DPTO. COMPRAS",null,{"$f":"[2]DAC!$Y82","v":" "}]
[{"$f":"'Datos obra'!$E$5","v":0},{"$f":"'Datos obra'!$E$6","v":0},{"$f":"'Datos obra'!$E$4","v":0},{"$f":"'Datos obra'!$E$7","v":0},{"$f":"'Datos obra'!$E$8","v":0},{"$f":"'Datos obra'!$E$9","v":0},{"$f":"'Datos obra'!$E$10","v":0},{"$f":"'Datos obra'!$E$11","v":0},null,null,null,null,null,"",null,null,null,null,null,null,"A RELLENAR POR DPTO. COMPRAS",null,{"$f":"[2]DAC!$Y83","v":" "}]
[{"$f":"'Datos obra'!$E$5","v":0},{"$f":"'Datos obra'!$E$6","v":0},{"$f":"'Datos obra'!$E$4","v":0},{"$f":"'Datos obra'!$E$7","v":0},{"$f":"'Datos obra'!$E$8","v":0},{"$f":"'Datos obra'!$E$9","v":0},{"$f":"'Datos obra'!$E$10","v":0},{"$f":"'Datos obra'!$E$11","v":0},null,null,null,null,null,"",null,null,null,null,null,null,"A RELLENAR POR DPTO. COMPRAS",null,{"$f":"[2]DAC!$Y84","v":" "}]
[{"$f":"'Datos obra'!$E$5","v":0},{"$f":"'Datos obra'!$E$6","v":0},{"$f":"'Datos obra'!$E$4","v":0},{"$f":"'Datos obra'!$E$7","v":0},{"$f":"'Datos obra'!$E$8","v":0},{"$f":"'Datos obra'!$E$9","v":0},{"$f":"'Datos obra'!$E$10","v":0},{"$f":"'Datos obra'!$E$11","v":0},null,null,null,null,null,"",null,null,null,null,null,null,"A RELLENAR POR DPTO. COMPRAS",null,{"$f":"[2]DAC!$Y85","v":" "}]
[{"$f":"'Datos obra'!$E$5","v":0},{"$f":"'Datos obra'!$E$6","v":0},{"$f":"'Datos obra'!$E$4","v":0},{"$f":"'Datos obra'!$E$7","v":0},{"$f":"'Datos obra'!$E$8","v":0},{"$f":"'Datos obra'!$E$9","v":0},{"$f":"'Datos obra'!$E$10","v":0},{"$f":"'Datos obra'!$E$11","v":0},null,null,null,null,null,"",null,null,null,null,null,null,"A RELLENAR POR DPTO. COMPRAS",null,{"$f":"[2]DAC!$Y86","v":" "}]
[{"$f":"'Datos obra'!$E$5","v":0},{"$f":"'Datos obra'!$E$6","v":0},{"$f":"'Datos obra'!$E$4","v":0},{"$f":"'Datos obra'!$E$7","v":0},{"$f":"'Datos obra'!$E$8","v":0},{"$f":"'Datos obra'!$E$9","v":0},{"$f":"'Datos obra'!$E$10","v":0},{"$f":"'Datos obra'!$E$11","v":0},null,null,null,null,null,"",null,null,null,null,null,null,"A RELLENAR POR DPTO. COMPRAS",null,{"$f":"[2]DAC!$Y87","v":" "}]
[{"$f":"'Datos obra'!$E$5","v":0},{"$f":"'Datos obra'!$E$6","v":0},{"$f":"'Datos obra'!$E$4","v":0},{"$f":"'Datos obra'!$E$7","v":0},{"$f":"'Datos obra'!$E$8","v":0},{"$f":"'Datos obra'!$E$9","v":0},{"$f":"'Datos obra'!$E$10","v":0},{"$f":"'Datos obra'!$E$11","v":0},null,null,null,null,null,"",null,null,null,null,null,null,"A RELLENAR POR DPTO. COMPRAS",null,{"$f":"[2]DAC!$Y88","v":" "}]
[{"$f":"'Datos obra'!$E$5","v":0},{"$f":"'Datos obra'!$E$6","v":0},{"$f":"'Datos obra'!$E$4","v":0},{"$f":"'Datos obra'!$E$7","v":0},{"$f":"'Datos obra'!$E$8","v":0},{"$f":"'Datos obra'!$E$9","v":0},{"$f":"'Datos obra'!$E$10","v":0},{"$f":"'Datos obra'!$E$11","v":0},null,null,null,null,null,"",null,null,null,null,null,null,"A RELLENAR POR DPTO. COMPRAS",null,{"$f":"[2]DAC!$Y89","v":" "}]
[{"$f":"'Datos obra'!$E$5","v":0},{"$f":"'Datos obra'!$E$6","v":0},{"$f":"'Datos obra'!$E$4","v":0},{"$f":"'Datos obra'!$E$7","v":0},{"$f":"'Datos obra'!$E$8","v":0},{"$f":"'Datos obra'!$E$9","v":0},{"$f":"'Datos obra'!$E$10","v":0},{"$f":"'Datos obra'!$E$11","v":0},null,null,null,null,null,"",null,null,null,null,null,null,"A RELLENAR POR DPTO. COMPRAS",null,{"$f":"[2]DAC!$Y90","v":" "}]
[{"$f":"'Datos obra'!$E$5","v":0},{"$f":"'Datos obra'!$E$6","v":0},{"$f":"'Datos obra'!$E$4","v":0},{"$f":"'Datos obra'!$E$7","v":0},{"$f":"'Datos obra'!$E$8","v":0},{"$f":"'Datos obra'!$E$9","v":0},{"$f":"'Datos obra'!$E$10","v":0},{"$f":"'Datos obra'!$E$11","v":0},null,null,null,null,null,"",null,null,null,null,null,null,"A RELLENAR POR DPTO. COMPRAS",null,{"$f":"[2]DAC!$Y91","v":" "}]
[{"$f":"'Datos obra'!$E$5","v":0},{"$f":"'Datos obra'!$E$6","v":0},{"$f":"'Datos obra'!$E$4","v":0},{"$f":"'Datos obra'!$E$7","v":0},{"$f":"'Datos obra'!$E$8","v":0},{"$f":"'Datos obra'!$E$9","v":0},{"$f":"'Datos obra'!$E$10","v":0},{"$f":"'Datos obra'!$E$11","v":0},null,null,null,null,null,"",null,null,null,null,null,null,"A RELLENAR POR DPTO. COMPRAS",null,{"$f":"[2]DAC!$Y92","v":" "}]
[{"$f":"'Datos obra'!$E$5","v":0},{"$f":"'Datos obra'!$E$6","v":0},{"$f":"'Datos obra'!$E$4","v":0},{"$f":"'Datos obra'!$E$7","v":0},{"$f":"'Datos obra'!$E$8","v":0},{"$f":"'Datos obra'!$E$9","v":0},{"$f":"'Datos obra'!$E$10","v":0},{"$f":"'Datos obra'!$E$11","v":0},null,null,null,null,null,"",null,null,null,null,null,null,"A RELLENAR POR DPTO. COMPRAS",null,{"$f":"[2]DAC!$Y93","v":" "}]
[{"$f":"'Datos obra'!$E$5","v":0},{"$f":"'Datos obra'!$E$6","v":0},{"$f":"'Datos obra'!$E$4","v":0},{"$f":"'Datos obra'!$E$7","v":0},{"$f":"'Datos obra'!$E$8","v":0},{"$f":"'Datos obra'!$E$9","v":0},{"$f":"'Datos obra'!$E$10","v":0},{"$f":"'Datos obra'!$E$11","v":0},null,null,null,null,null,"",null,null,null,null,null,null,"A RELLENAR POR DPTO. COMPRAS",null,{"$f":"[2]DAC!$Y94","v":" "}]
[{"$f":"'Datos obra'!$E$5","v":0},{"$f":"'Datos obra'!$E$6","v":0},{"$f":"'Datos obra'!$E$4","v":0},{"$f":"'Datos obra'!$E$7","v":0},{"$f":"'Datos obra'!$E$8","v":0},{"$f":"'Datos obra'!$E$9","v":0},{"$f":"'Datos obra'!$E$10","v":0},{"$f":"'Datos obra'!$E$11","v":0},null,null,null,null,null,"",null,null,null,null,null,null,"A RELLENAR POR DPTO. COMPRAS",null,{"$f":"[2]DAC!$Y95","v":" "}]
[{"$f":"'Datos obra'!$E$5","v":0},{"$f":"'Datos obra'!$E$6","v":0},{"$f":"'Datos obra'!$E$4","v":0},{"$f":"'Datos obra'!$E$7","v":0},{"$f":"'Datos obra'!$E$8","v":0},{"$f":"'Datos obra'!$E$9","v":0},{"$f":"'Datos obra'!$E$10","v":0},{"$f":"'Datos obra'!$E$11","v":0},null,null,null,null,null,"",null,null,null,null,null,null,"A RELLENAR POR DPTO. COMPRAS",null,{"$f":"[2]DAC!$Y96","v":" "}]
[{"$f":"'Datos obra'!$E$5","v":0},{"$f":"'Datos obra'!$E$6","v":0},{"$f":"'Datos obra'!$E$4","v":0},{"$f":"'Datos obra'!$E$7","v":0},{"$f":"'Datos obra'!$E$8","v":0},{"$f":"'Datos obra'!$E$9","v":0},{"$f":"'Datos obra'!$E$10","v":0},{"$f":"'Datos obra'!$E$11","v":0},null,null,null,null,null,"",null,null,null,null,null,null,"A RELLENAR POR DPTO. COMPRAS",null,{"$f":"[2]DAC!$Y97","v":" "}]
[{"$f":"'Datos obra'!$E$5","v":0},{"$f":"'Datos obra'!$E$6","v":0},{"$f":"'Datos obra'!$E$4","v":0},{"$f":"'Datos obra'!$E$7","v":0},{"$f":"'Datos obra'!$E$8","v":0},{"$f":"'Datos obra'!$E$9","v":0},{"$f":"'Datos obra'!$E$10","v":0},{"$f":"'Datos obra'!$E$11","v":0},null,null,null,null,null,"",null,null,null,null,null,null,"A RELLENAR POR DPTO. COMPRAS",null,{"$f":"[2]DAC!$Y98","v":" "}]
[{"$f":"'Datos obra'!$E$5","v":0},{"$f":"'Datos obra'!$E$6","v":0},{"$f":"'Datos obra'!$E$4","v":0},{"$f":"'Datos obra'!$E$7","v":0},{"$f":"'Datos obra'!$E$8","v":0},{"$f":"'Datos obra'!$E$9","v":0},{"$f":"'Datos obra'!$E$10","v":0},{"$f":"'Datos obra'!$E$11","v":0},null,null,null,null,null,"",null,null,null,null,null,null,"A RELLENAR POR DPTO. COMPRAS",null,{"$f":"[2]DAC!$Y99","v":" "}]
[{"$f":"'Datos obra'!$E$5","v":0},{"$f":"'Datos obra'!$E$6","v":0},{"$f":"'Datos obra'!$E$4","v":0},{"$f":"'Datos obra'!$E$7","v":0},{"$f":"'Datos obra'!$E$8","v":0},{"$f":"'Datos obra'!$E$9","v":0},{"$f":"'Datos obra'!$E$10","v":0},{"$f":"'Datos obra'!$E$11","v":0},null,null,null,null,null,"",null,null,null,null,null,null,"A RELLENAR POR DPTO. COMPRAS"]
[{"$f":"'Datos obra'!$E$5","v":0},{"$f":"'Datos obra'!$E$6","v":0},{"$f":"'Datos obra'!$E$4","v":0},{"$f":"'Datos obra'!$E$7","v":0},{"$f":"'Datos obra'!$E$8","v":0},{"$f":"'Datos obra'!$E$9","v":0},{"$f":"'Datos obra'!$E$10","v":0},{"$f":"'Datos obra'!$E$11","v":0},null,null,null,null,null,"",null,null,null,null,null,null,"A RELLENAR POR DPTO. COMPRAS"]
[{"$f":"'Datos obra'!$E$5","v":0},{"$f":"'Datos obra'!$E$6","v":0},{"$f":"'Datos obra'!$E$4","v":0},{"$f":"'Datos obra'!$E$7","v":0},{"$f":"'Datos obra'!$E$8","v":0},{"$f":"'Datos obra'!$E$9","v":0},{"$f":"'Datos obra'!$E$10","v":0},{"$f":"'Datos obra'!$E$11","v":0},null,null,null,null,null,"",null,null,null,null,null,null,"A RELLENAR POR DPTO. COMPRAS"]
[{"$f":"'Datos obra'!$E$5","v":0},{"$f":"'Datos obra'!$E$6","v":0},{"$f":"'Datos obra'!$E$4","v":0},{"$f":"'Datos obra'!$E$7","v":0},{"$f":"'Datos obra'!$E$8","v":0},{"$f":"'Datos obra'!$E$9","v":0},{"$f":"'Datos obra'!$E$10","v":0},{"$f":"'Datos obra'!$E$11","v":0},null,null,null,null,null,"",null,null,null,null,null,null,"A RELLENAR POR DPTO. COMPRAS"]
[{"$f":"'Datos obra'!$E$5","v":0},{"$f":"'Datos obra'!$E$6","v":0},{"$f":"'Datos obra'!$E$4","v":0},{"$f":"'Datos obra'!$E$7","v":0},{"$f":"'Datos obra'!$E$8","v":0},{"$f":"'Datos obra'!$E$9","v":0},{"$f":"'Datos obra'!$E$10","v":0},{"$f":"'Datos obra'!$E$11","v":0},null,null,null,null,null,"",null,null,null,null,null,null,"A RELLENAR POR DPTO. COMPRAS"]
[{"$f":"'Datos obra'!$E$5","v":0},{"$f":"'Datos obra'!$E$6","v":0},{"$f":"'Datos obra'!$E$4","v":0},{"$f":"'Datos obra'!$E$7","v":0},{"$f":"'Datos obra'!$E$8","v":0},{"$f":"'Datos obra'!$E$9","v":0},{"$f":"'Datos obra'!$E$10","v":0},{"$f":"'Datos obra'!$E$11","v":0},null,null,null,null,null,"",null,null,null,null,null,null,"A RELLENAR POR DPTO. COMPRAS"]
[{"$f":"'Datos obra'!$E$5","v":0},{"$f":"'Datos obra'!$E$6","v":0},{"$f":"'Datos obra'!$E$4","v":0},{"$f":"'Datos obra'!$E$7","v":0},{"$f":"'Datos obra'!$E$8","v":0},{"$f":"'Datos obra'!$E$9","v":0},{"$f":"'Datos obra'!$E$10","v":0},{"$f":"'Datos obra'!$E$11","v":0},null,null,null,null,null,"",null,null,null,null,null,null,"A RELLENAR POR DPTO. COMPRAS"]
[{"$f":"'Datos obra'!$E$5","v":0},{"$f":"'Datos obra'!$E$6","v":0},{"$f":"'Datos obra'!$E$4","v":0},{"$f":"'Datos obra'!$E$7","v":0},{"$f":"'Datos obra'!$E$8","v":0},{"$f":"'Datos obra'!$E$9","v":0},{"$f":"'Datos obra'!$E$10","v":0},{"$f":"'Datos obra'!$E$11","v":0},null,null,null,null,null,"",null,null,null,null,null,null,"A RELLENAR POR DPTO. COMPRAS"]
[{"$f":"'Datos obra'!$E$5","v":0},{"$f":"'Datos obra'!$E$6","v":0},{"$f":"'Datos obra'!$E$4","v":0},{"$f":"'Datos obra'!$E$7","v":0},{"$f":"'Datos obra'!$E$8","v":0},{"$f":"'Datos obra'!$E$9","v":0},{"$f":"'Datos obra'!$E$10","v":0},{"$f":"'Datos obra'!$E$11","v":0},null,null,null,null,null,"",null,null,null,null,null,null,"A RELLENAR POR DPTO. COMPRAS"]
[{"$f":"'Datos obra'!$E$5","v":0},{"$f":"'Datos obra'!$E$6","v":0},{"$f":"'Datos obra'!$E$4","v":0},{"$f":"'Datos obra'!$E$7","v":0},{"$f":"'Datos obra'!$E$8","v":0},{"$f":"'Datos obra'!$E$9","v":0},{"$f":"'Datos obra'!$E$10","v":0},{"$f":"'Datos obra'!$E$11","v":0},null,null,null,null,null,"",null,null,null,null,null,null,"A RELLENAR POR DPTO. COMPRAS"]
[{"$f":"'Datos obra'!$E$5","v":0},{"$f":"'Datos obra'!$E$6","v":0},{"$f":"'Datos obra'!$E$4","v":0},{"$f":"'Datos obra'!$E$7","v":0},{"$f":"'Datos obra'!$E$8","v":0},{"$f":"'Datos obra'!$E$9","v":0},{"$f":"'Datos obra'!$E$10","v":0},{"$f":"'Datos obra'!$E$11","v":0},null,null,null,null,null,"",null,null,null,null,null,null,"A RELLENAR POR DPTO. COMPRAS"]
[{"$f":"'Datos obra'!$E$5","v":0},{"$f":"'Datos obra'!$E$6","v":0},{"$f":"'Datos obra'!$E$4","v":0},{"$f":"'Datos obra'!$E$7","v":0},{"$f":"'Datos obra'!$E$8","v":0},{"$f":"'Datos obra'!$E$9","v":0},{"$f":"'Datos obra'!$E$10","v":0},{"$f":"'Datos obra'!$E$11","v":0},null,null,null,null,null,"",null,null,null,null,null,null,"A RELLENAR POR DPTO. COMPRAS"]
[{"$f":"'Datos obra'!$E$5","v":0},{"$f":"'Datos obra'!$E$6","v":0},{"$f":"'Datos obra'!$E$4","v":0},{"$f":"'Datos obra'!$E$7","v":0},{"$f":"'Datos obra'!$E$8","v":0},{"$f":"'Datos obra'!$E$9","v":0},{"$f":"'Datos obra'!$E$10","v":0},{"$f":"'Datos obra'!$E$11","v":0},null,null,null,null,null,"",null,null,null,null,null,null,"A RELLENAR POR DPTO. COMPRAS"]
[{"$f":"'Datos obra'!$E$5","v":0},{"$f":"'Datos obra'!$E$6","v":0},{"$f":"'Datos obra'!$E$4","v":0},{"$f":"'Datos obra'!$E$7","v":0},{"$f":"'Datos obra'!$E$8","v":0},{"$f":"'Datos obra'!$E$9","v":0},{"$f":"'Datos obra'!$E$10","v":0},{"$f":"'Datos obra'!$E$11","v":0},null,null,null,null,null,"",null,null,null,null,null,null,"A RELLENAR POR DPTO. COMPRAS"]
[{"$f":"'Datos obra'!$E$5","v":0},{"$f":"'Datos obra'!$E$6","v":0},{"$f":"'Datos obra'!$E$4","v":0},{"$f":"'Datos obra'!$E$7","v":0},{"$f":"'Datos obra'!$E$8","v":0},{"$f":"'Datos obra'!$E$9","v":0},{"$f":"'Datos obra'!$E$10","v":0},{"$f":"'Datos obra'!$E$11","v":0},null,null,null,null,null,"",null,null,null,null,null,null,"A RELLENAR POR DPTO. COMPRAS"]
[{"$f":"'Datos obra'!$E$5","v":0},{"$f":"'Datos obra'!$E$6","v":0},{"$f":"'Datos obra'!$E$4","v":0},{"$f":"'Datos obra'!$E$7","v":0},{"$f":"'Datos obra'!$E$8","v":0},{"$f":"'Datos obra'!$E$9","v":0},{"$f":"'Datos obra'!$E$10","v":0},{"$f":"'Datos obra'!$E$11","v":0},null,null,null,null,null,"",null,null,null,null,null,null,"A RELLENAR POR DPTO. COMPRAS"]
[{"$f":"'Datos obra'!$E$5","v":0},{"$f":"'Datos obra'!$E$6","v":0},{"$f":"'Datos obra'!$E$4","v":0},{"$f":"'Datos obra'!$E$7","v":0},{"$f":"'Datos obra'!$E$8","v":0},{"$f":"'Datos obra'!$E$9","v":0},{"$f":"'Datos obra'!$E$10","v":0},{"$f":"'Datos obra'!$E$11","v":0},null,null,null,null,null,"",null,null,null,null,null,null,"A RELLENAR POR DPTO. COMPRAS"]
[{"$f":"'Datos obra'!$E$5","v":0},{"$f":"'Datos obra'!$E$6","v":0},{"$f":"'Datos obra'!$E$4","v":0},{"$f":"'Datos obra'!$E$7","v":0},{"$f":"'Datos obra'!$E$8","v":0},{"$f":"'Datos obra'!$E$9","v":0},{"$f":"'Datos obra'!$E$10","v":0},{"$f":"'Datos obra'!$E$11","v":0},null,null,null,null,null,"",null,null,null,null,null,null,"A RELLENAR POR DPTO. COMPRAS"]
[{"$f":"'Datos obra'!$E$5","v":0},{"$f":"'Datos obra'!$E$6","v":0},{"$f":"'Datos obra'!$E$4","v":0},{"$f":"'Datos obra'!$E$7","v":0},{"$f":"'Datos obra'!$E$8","v":0},{"$f":"'Datos obra'!$E$9","v":0},{"$f":"'Datos obra'!$E$10","v":0},{"$f":"'Datos obra'!$E$11","v":0},null,null,null,null,null,"",null,null,null,null,null,null,"A RELLENAR POR DPTO. COMPRAS"]
[{"$f":"'Datos obra'!$E$5","v":0},{"$f":"'Datos obra'!$E$6","v":0},{"$f":"'Datos obra'!$E$4","v":0},{"$f":"'Datos obra'!$E$7","v":0},{"$f":"'Datos obra'!$E$8","v":0},{"$f":"'Datos obra'!$E$9","v":0},{"$f":"'Datos obra'!$E$10","v":0},{"$f":"'Datos obra'!$E$11","v":0},null,null,null,null,null,"",null,null,null,null,null,null,"A RELLENAR POR DPTO. COMPRAS"]
[{"$f":"'Datos obra'!$E$5","v":0},{"$f":"'Datos obra'!$E$6","v":0},{"$f":"'Datos obra'!$E$4","v":0},{"$f":"'Datos obra'!$E$7","v":0},{"$f":"'Datos obra'!$E$8","v":0},{"$f":"'Datos obra'!$E$9","v":0},{"$f":"'Datos obra'!$E$10","v":0},{"$f":"'Datos obra'!$E$11","v":0},null,null,null,null,null,"",null,null,null,null,null,null,"A RELLENAR POR DPTO. COMPRAS"]
[{"$f":"'Datos obra'!$E$5","v":0},{"$f":"'Datos obra'!$E$6","v":0},{"$f":"'Datos obra'!$E$4","v":0},{"$f":"'Datos obra'!$E$7","v":0},{"$f":"'Datos obra'!$E$8","v":0},{"$f":"'Datos obra'!$E$9","v":0},{"$f":"'Datos obra'!$E$10","v":0},{"$f":"'Datos obra'!$E$11","v":0},null,null,null,null,null,"",null,null,null,null,null,null,"A RELLENAR POR DPTO. COMPRAS"]
[{"$f":"'Datos obra'!$E$5","v":0},{"$f":"'Datos obra'!$E$6","v":0},{"$f":"'Datos obra'!$E$4","v":0},{"$f":"'Datos obra'!$E$7","v":0},{"$f":"'Datos obra'!$E$8","v":0},{"$f":"'Datos obra'!$E$9","v":0},{"$f":"'Datos obra'!$E$10","v":0},{"$f":"'Datos obra'!$E$11","v":0},null,null,null,null,null,"",null,null,null,null,null,null,"A RELLENAR POR DPTO. COMPRAS"]
[{"$f":"'Datos obra'!$E$5","v":0},{"$f":"'Datos obra'!$E$6","v":0},{"$f":"'Datos obra'!$E$4","v":0},{"$f":"'Datos obra'!$E$7","v":0},{"$f":"'Datos obra'!$E$8","v":0},{"$f":"'Datos obra'!$E$9","v":0},{"$f":"'Datos obra'!$E$10","v":0},{"$f":"'Datos obra'!$E$11","v":0},null,null,null,null,null,"",null,null,null,null,null,null,"A RELLENAR POR DPTO. COMPRAS"]
[{"$f":"'Datos obra'!$E$5","v":0},{"$f":"'Datos obra'!$E$6","v":0},{"$f":"'Datos obra'!$E$4","v":0},{"$f":"'Datos obra'!$E$7","v":0},{"$f":"'Datos obra'!$E$8","v":0},{"$f":"'Datos obra'!$E$9","v":0},{"$f":"'Datos obra'!$E$10","v":0},{"$f":"'Datos obra'!$E$11","v":0},null,null,null,null,null,"",null,null,null,null,null,null,"A RELLENAR POR DPTO. COMPRAS"]
[{"$f":"'Datos obra'!$E$5","v":0},{"$f":"'Datos obra'!$E$6","v":0},{"$f":"'Datos obra'!$E$4","v":0},{"$f":"'Datos obra'!$E$7","v":0},{"$f":"'Datos obra'!$E$8","v":0},{"$f":"'Datos obra'!$E$9","v":0},{"$f":"'Datos obra'!$E$10","v":0},{"$f":"'Datos obra'!$E$11","v":0},null,null,null,null,null,"",null,null,null,null,null,null,"A RELLENAR POR DPTO. COMPRAS"]
[{"$f":"'Datos obra'!$E$5","v":0},{"$f":"'Datos obra'!$E$6","v":0},{"$f":"'Datos obra'!$E$4","v":0},{"$f":"'Datos obra'!$E$7","v":0},{"$f":"'Datos obra'!$E$8","v":0},{"$f":"'Datos obra'!$E$9","v":0},{"$f":"'Datos obra'!$E$10","v":0},{"$f":"'Datos obra'!$E$11","v":0},null,null,null,null,null,"",null,null,null,null,null,null,"A RELLENAR POR DPTO. COMPRAS"]
[{"$f":"'Datos obra'!$E$5","v":0},{"$f":"'Datos obra'!$E$6","v":0},{"$f":"'Datos obra'!$E$4","v":0},{"$f":"'Datos obra'!$E$7","v":0},{"$f":"'Datos obra'!$E$8","v":0},{"$f":"'Datos obra'!$E$9","v":0},{"$f":"'Datos obra'!$E$10","v":0},{"$f":"'Datos obra'!$E$11","v":0},null,null,null,null,null,"",null,null,null,null,null,null,"A RELLENAR POR DPTO. COMPRAS"]
[{"$f":"'Datos obra'!$E$5","v":0},{"$f":"'Datos obra'!$E$6","v":0},{"$f":"'Datos obra'!$E$4","v":0},{"$f":"'Datos obra'!$E$7","v":0},{"$f":"'Datos obra'!$E$8","v":0},{"$f":"'Datos obra'!$E$9","v":0},{"$f":"'Datos obra'!$E$10","v":0},{"$f":"'Datos obra'!$E$11","v":0},null,null,null,null,null,"",null,null,null,null,null,null,"A RELLENAR POR DPTO. COMPRAS"]
[{"$f":"'Datos obra'!$E$5","v":0},{"$f":"'Datos obra'!$E$6","v":0},{"$f":"'Datos obra'!$E$4","v":0},{"$f":"'Datos obra'!$E$7","v":0},{"$f":"'Datos obra'!$E$8","v":0},{"$f":"'Datos obra'!$E$9","v":0},{"$f":"'Datos obra'!$E$10","v":0},{"$f":"'Datos obra'!$E$11","v":0},null,null,null,null,null,"",null,null,null,null,null,null,"A RELLENAR POR DPTO. COMPRAS"]
[{"$f":"'Datos obra'!$E$5","v":0},{"$f":"'Datos obra'!$E$6","v":0},{"$f":"'Datos obra'!$E$4","v":0},{"$f":"'Datos obra'!$E$7","v":0},{"$f":"'Datos obra'!$E$8","v":0},{"$f":"'Datos obra'!$E$9","v":0},{"$f":"'Datos obra'!$E$10","v":0},{"$f":"'Datos obra'!$E$11","v":0},null,null,null,null,null,"",null,null,null,null,null,null,"A RELLENAR POR DPTO. COMPRAS"]
[{"$f":"'Datos obra'!$E$5","v":0},{"$f":"'Datos obra'!$E$6","v":0},{"$f":"'Datos obra'!$E$4","v":0},{"$f":"'Datos obra'!$E$7","v":0},{"$f":"'Datos obra'!$E$8","v":0},{"$f":"'Datos obra'!$E$9","v":0},{"$f":"'Datos obra'!$E$10","v":0},{"$f":"'Datos obra'!$E$11","v":0},null,null,null,null,null,"",null,null,null,null,null,null,"A RELLENAR POR DPTO. COMPRAS"]
[{"$f":"'Datos obra'!$E$5","v":0},{"$f":"'Datos obra'!$E$6","v":0},{"$f":"'Datos obra'!$E$4","v":0},{"$f":"'Datos obra'!$E$7","v":0},{"$f":"'Datos obra'!$E$8","v":0},{"$f":"'Datos obra'!$E$9","v":0},{"$f":"'Datos obra'!$E$10","v":0},{"$f":"'Datos obra'!$E$11","v":0},null,null,null,null,null,{"$f":"IF(M129=\"\",\"\",M129+42)","v":""},null,null,null,null,null,null,"A RELLENAR POR DPTO. COMPRAS"]
[{"$f":"'Datos obra'!$E$5","v":0},{"$f":"'Datos obra'!$E$6","v":0},{"$f":"'Datos obra'!$E$4","v":0},{"$f":"'Datos obra'!$E$7","v":0},{"$f":"'Datos obra'!$E$8","v":0},{"$f":"'Datos obra'!$E$9","v":0},{"$f":"'Datos obra'!$E$10","v":0},{"$f":"'Datos obra'!$E$11","v":0},null,null,null,null,null,"",null,null,null,null,null,null,"A RELLENAR POR DPTO. COMPRAS"]
[{"$f":"'Datos obra'!$E$5","v":0},{"$f":"'Datos obra'!$E$6","v":0},{"$f":"'Datos obra'!$E$4","v":0},{"$f":"'Datos obra'!$E$7","v":0},{"$f":"'Datos obra'!$E$8","v":0},{"$f":"'Datos obra'!$E$9","v":0},{"$f":"'Datos obra'!$E$10","v":0},{"$f":"'Datos obra'!$E$11","v":0},null,null,null,null,null,"",null,null,null,null,null,null,"A RELLENAR POR DPTO. COMPRAS"]
[{"$f":"'Datos obra'!$E$5","v":0},{"$f":"'Datos obra'!$E$6","v":0},{"$f":"'Datos obra'!$E$4","v":0},{"$f":"'Datos obra'!$E$7","v":0},{"$f":"'Datos obra'!$E$8","v":0},{"$f":"'Datos obra'!$E$9","v":0},{"$f":"'Datos obra'!$E$10","v":0},{"$f":"'Datos obra'!$E$11","v":0},null,null,null,null,null,"",null,null,null,null,null,null,"A RELLENAR POR DPTO. COMPRAS"]
[{"$f":"'Datos obra'!$E$5","v":0},{"$f":"'Datos obra'!$E$6","v":0},{"$f":"'Datos obra'!$E$4","v":0},{"$f":"'Datos obra'!$E$7","v":0},{"$f":"'Datos obra'!$E$8","v":0},{"$f":"'Datos obra'!$E$9","v":0},{"$f":"'Datos obra'!$E$10","v":0},{"$f":"'Datos obra'!$E$11","v":0},null,null,null,null,null,"",null,null,null,null,null,null,"A RELLENAR POR DPTO. COMPRAS"]
[{"$f":"'Datos obra'!$E$5","v":0},{"$f":"'Datos obra'!$E$6","v":0},{"$f":"'Datos obra'!$E$4","v":0},{"$f":"'Datos obra'!$E$7","v":0},{"$f":"'Datos obra'!$E$8","v":0},{"$f":"'Datos obra'!$E$9","v":0},{"$f":"'Datos obra'!$E$10","v":0},{"$f":"'Datos obra'!$E$11","v":0},null,null,null,null,null,"",null,null,null,null,null,null,"A RELLENAR POR DPTO. COMPRAS"]
[{"$f":"'Datos obra'!$E$5","v":0},{"$f":"'Datos obra'!$E$6","v":0},{"$f":"'Datos obra'!$E$4","v":0},{"$f":"'Datos obra'!$E$7","v":0},{"$f":"'Datos obra'!$E$8","v":0},{"$f":"'Datos obra'!$E$9","v":0},{"$f":"'Datos obra'!$E$10","v":0},{"$f":"'Datos obra'!$E$11","v":0},null,null,null,null,null,"",null,null,null,null,null,null,"A RELLENAR POR DPTO. COMPRAS"]
[{"$f":"'Datos obra'!$E$5","v":0},{"$f":"'Datos obra'!$E$6","v":0},{"$f":"'Datos obra'!$E$4","v":0},{"$f":"'Datos obra'!$E$7","v":0},{"$f":"'Datos obra'!$E$8","v":0},{"$f":"'Datos obra'!$E$9","v":0},{"$f":"'Datos obra'!$E$10","v":0},{"$f":"'Datos obra'!$E$11","v":0},null,null,null,null,null,"",null,null,null,null,null,null,"A RELLENAR POR DPTO. COMPRAS"]
[{"$f":"'Datos obra'!$E$5","v":0},{"$f":"'Datos obra'!$E$6","v":0},{"$f":"'Datos obra'!$E$4","v":0},{"$f":"'Datos obra'!$E$7","v":0},{"$f":"'Datos obra'!$E$8","v":0},{"$f":"'Datos obra'!$E$9","v":0},{"$f":"'Datos obra'!$E$10","v":0},{"$f":"'Datos obra'!$E$11","v":0},null,null,null,null,null,"",null,null,null,null,null,null,"A RELLENAR POR DPTO. COMPRAS"]
[{"$f":"'Datos obra'!$E$5","v":0},{"$f":"'Datos obra'!$E$6","v":0},{"$f":"'Datos obra'!$E$4","v":0},{"$f":"'Datos obra'!$E$7","v":0},{"$f":"'Datos obra'!$E$8","v":0},{"$f":"'Datos obra'!$E$9","v":0},{"$f":"'Datos obra'!$E$10","v":0},{"$f":"'Datos obra'!$E$11","v":0},null,null,null,null,null,"",null,null,null,null,null,null,"A RELLENAR POR DPTO. COMPRAS"]
[{"$f":"'Datos obra'!$E$5","v":0},{"$f":"'Datos obra'!$E$6","v":0},{"$f":"'Datos obra'!$E$4","v":0},{"$f":"'Datos obra'!$E$7","v":0},{"$f":"'Datos obra'!$E$8","v":0},{"$f":"'Datos obra'!$E$9","v":0},{"$f":"'Datos obra'!$E$10","v":0},{"$f":"'Datos obra'!$E$11","v":0},null,null,null,null,null,"",null,null,null,null,null,null,"A RELLENAR POR DPTO. COMPRAS"]
[{"$f":"'Datos obra'!$E$5","v":0},{"$f":"'Datos obra'!$E$6","v":0},{"$f":"'Datos obra'!$E$4","v":0},{"$f":"'Datos obra'!$E$7","v":0},{"$f":"'Datos obra'!$E$8","v":0},{"$f":"'Datos obra'!$E$9","v":0},{"$f":"'Datos obra'!$E$10","v":0},{"$f":"'Datos obra'!$E$11","v":0},null,null,null,null,null,"",null,null,null,null,null,null,"A RELLENAR POR DPTO. COMPRAS"]
[{"$f":"'Datos obra'!$E$5","v":0},{"$f":"'Datos obra'!$E$6","v":0},{"$f":"'Datos obra'!$E$4","v":0},{"$f":"'Datos obra'!$E$7","v":0},{"$f":"'Datos obra'!$E$8","v":0},{"$f":"'Datos obra'!$E$9","v":0},{"$f":"'Datos obra'!$E$10","v":0},{"$f":"'Datos obra'!$E$11","v":0},null,null,null,null,null,"",null,null,null,null,null,null,"A RELLENAR POR DPTO. COMPRAS"]
[{"$f":"'Datos obra'!$E$5","v":0},{"$f":"'Datos obra'!$E$6","v":0},{"$f":"'Datos obra'!$E$4","v":0},{"$f":"'Datos obra'!$E$7","v":0},{"$f":"'Datos obra'!$E$8","v":0},{"$f":"'Datos obra'!$E$9","v":0},{"$f":"'Datos obra'!$E$10","v":0},{"$f":"'Datos obra'!$E$11","v":0},null,null,null,null,null,"",null,null,null,null,null,null,"A RELLENAR POR DPTO. COMPRAS"]
[{"$f":"'Datos obra'!$E$5","v":0},{"$f":"'Datos obra'!$E$6","v":0},{"$f":"'Datos obra'!$E$4","v":0},{"$f":"'Datos obra'!$E$7","v":0},{"$f":"'Datos obra'!$E$8","v":0},{"$f":"'Datos obra'!$E$9","v":0},{"$f":"'Datos obra'!$E$10","v":0},{"$f":"'Datos obra'!$E$11","v":0},null,null,null,null,null,"",null,null,null,null,null,null,"A RELLENAR POR DPTO. COMPRAS"]
[{"$f":"'Datos obra'!$E$5","v":0},{"$f":"'Datos obra'!$E$6","v":0},{"$f":"'Datos obra'!$E$4","v":0},{"$f":"'Datos obra'!$E$7","v":0},{"$f":"'Datos obra'!$E$8","v":0},{"$f":"'Datos obra'!$E$9","v":0},{"$f":"'Datos obra'!$E$10","v":0},{"$f":"'Datos obra'!$E$11","v":0},null,null,null,null,null,"",null,null,null,null,null,null,"A RELLENAR POR DPTO. COMPRAS"]
[{"$f":"'Datos obra'!$E$5","v":0},{"$f":"'Datos obra'!$E$6","v":0},{"$f":"'Datos obra'!$E$4","v":0},{"$f":"'Datos obra'!$E$7","v":0},{"$f":"'Datos obra'!$E$8","v":0},{"$f":"'Datos obra'!$E$9","v":0},{"$f":"'Datos obra'!$E$10","v":0},{"$f":"'Datos obra'!$E$11","v":0},null,null,null,null,null,"",null,null,null,null,null,null,"A RELLENAR POR DPTO. COMPRAS"]
[{"$f":"'Datos obra'!$E$5","v":0},{"$f":"'Datos obra'!$E$6","v":0},{"$f":"'Datos obra'!$E$4","v":0},{"$f":"'Datos obra'!$E$7","v":0},{"$f":"'Datos obra'!$E$8","v":0},{"$f":"'Datos obra'!$E$9","v":0},{"$f":"'Datos obra'!$E$10","v":0},{"$f":"'Datos obra'!$E$11","v":0},null,null,null,null,null,"",null,null,null,null,null,null,"A RELLENAR POR DPTO. COMPRAS"]
[{"$f":"'Datos obra'!$E$5","v":0},{"$f":"'Datos obra'!$E$6","v":0},{"$f":"'Datos obra'!$E$4","v":0},{"$f":"'Datos obra'!$E$7","v":0},{"$f":"'Datos obra'!$E$8","v":0},{"$f":"'Datos obra'!$E$9","v":0},{"$f":"'Datos obra'!$E$10","v":0},{"$f":"'Datos obra'!$E$11","v":0},null,null,null,null,null,"",null,null,null,null,null,null,"A RELLENAR POR DPTO. COMPRAS"]
[{"$f":"'Datos obra'!$E$5","v":0},{"$f":"'Datos obra'!$E$6","v":0},{"$f":"'Datos obra'!$E$4","v":0},{"$f":"'Datos obra'!$E$7","v":0},{"$f":"'Datos obra'!$E$8","v":0},{"$f":"'Datos obra'!$E$9","v":0},{"$f":"'Datos obra'!$E$10","v":0},{"$f":"'Datos obra'!$E$11","v":0},null,null,null,null,null,"",null,null,null,null,null,null,"A RELLENAR POR DPTO. COMPRAS"]
[{"$f":"'Datos obra'!$E$5","v":0},{"$f":"'Datos obra'!$E$6","v":0},{"$f":"'Datos obra'!$E$4","v":0},{"$f":"'Datos obra'!$E$7","v":0},{"$f":"'Datos obra'!$E$8","v":0},{"$f":"'Datos obra'!$E$9","v":0},{"$f":"'Datos obra'!$E$10","v":0},{"$f":"'Datos obra'!$E$11","v":0},null,null,null,null,null,"",null,null,null,null,null,null,"A RELLENAR POR DPTO. COMPRAS"]
[{"$f":"'Datos obra'!$E$5","v":0},{"$f":"'Datos obra'!$E$6","v":0},{"$f":"'Datos obra'!$E$4","v":0},{"$f":"'Datos obra'!$E$7","v":0},{"$f":"'Datos obra'!$E$8","v":0},{"$f":"'Datos obra'!$E$9","v":0},{"$f":"'Datos obra'!$E$10","v":0},{"$f":"'Datos obra'!$E$11","v":0},null,null,null,null,null,"",null,null,null,null,null,null,"A RELLENAR POR DPTO. COMPRAS"]
[{"$f":"'Datos obra'!$E$5","v":0},{"$f":"'Datos obra'!$E$6","v":0},{"$f":"'Datos obra'!$E$4","v":0},{"$f":"'Datos obra'!$E$7","v":0},{"$f":"'Datos obra'!$E$8","v":0},{"$f":"'Datos obra'!$E$9","v":0},{"$f":"'Datos obra'!$E$10","v":0},{"$f":"'Datos obra'!$E$11","v":0},null,null,null,null,null,"",null,null,null,null,null,null,"A RELLENAR POR DPTO. COMPRAS"]
[{"$f":"'Datos obra'!$E$5","v":0},{"$f":"'Datos obra'!$E$6","v":0},{"$f":"'Datos obra'!$E$4","v":0},{"$f":"'Datos obra'!$E$7","v":0},{"$f":"'Datos obra'!$E$8","v":0},{"$f":"'Datos obra'!$E$9","v":0},{"$f":"'Datos obra'!$E$10","v":0},{"$f":"'Datos obra'!$E$11","v":0},null,null,null,null,null,"",null,null,null,null,null,null,"A RELLENAR POR DPTO. COMPRAS"]
[{"$f":"'Datos obra'!$E$5","v":0},{"$f":"'Datos obra'!$E$6","v":0},{"$f":"'Datos obra'!$E$4","v":0},{"$f":"'Datos obra'!$E$7","v":0},{"$f":"'Datos obra'!$E$8","v":0},{"$f":"'Datos obra'!$E$9","v":0},{"$f":"'Datos obra'!$E$10","v":0},{"$f":"'Datos obra'!$E$11","v":0},null,null,null,null,null,"",null,null,null,null,null,null,"A RELLENAR POR DPTO. COMPRAS"]
[{"$f":"'Datos obra'!$E$5","v":0},{"$f":"'Datos obra'!$E$6","v":0},{"$f":"'Datos obra'!$E$4","v":0},{"$f":"'Datos obra'!$E$7","v":0},{"$f":"'Datos obra'!$E$8","v":0},{"$f":"'Datos obra'!$E$9","v":0},{"$f":"'Datos obra'!$E$10","v":0},{"$f":"'Datos obra'!$E$11","v":0},null,null,null,null,null,"",null,null,null,null,null,null,"A RELLENAR POR DPTO. COMPRAS"]
[{"$f":"'Datos obra'!$E$5","v":0},{"$f":"'Datos obra'!$E$6","v":0},{"$f":"'Datos obra'!$E$4","v":0},{"$f":"'Datos obra'!$E$7","v":0},{"$f":"'Datos obra'!$E$8","v":0},{"$f":"'Datos obra'!$E$9","v":0},{"$f":"'Datos obra'!$E$10","v":0},{"$f":"'Datos obra'!$E$11","v":0},null,null,null,null,null,"",null,null,null,null,null,null,"A RELLENAR POR DPTO. COMPRAS"]
[{"$f":"'Datos obra'!$E$5","v":0},{"$f":"'Datos obra'!$E$6","v":0},{"$f":"'Datos obra'!$E$4","v":0},{"$f":"'Datos obra'!$E$7","v":0},{"$f":"'Datos obra'!$E$8","v":0},{"$f":"'Datos obra'!$E$9","v":0},{"$f":"'Datos obra'!$E$10","v":0},{"$f":"'Datos obra'!$E$11","v":0},null,null,null,null,null,"",null,null,null,null,null,null,"A RELLENAR POR DPTO. COMPRAS"]
[{"$f":"'Datos obra'!$E$5","v":0},{"$f":"'Datos obra'!$E$6","v":0},{"$f":"'Datos obra'!$E$4","v":0},{"$f":"'Datos obra'!$E$7","v":0},{"$f":"'Datos obra'!$E$8","v":0},{"$f":"'Datos obra'!$E$9","v":0},{"$f":"'Datos obra'!$E$10","v":0},{"$f":"'Datos obra'!$E$11","v":0},null,null,null,null,null,"",null,null,null,null,null,null,"A RELLENAR POR DPTO. COMPRAS"]
[{"$f":"'Datos obra'!$E$5","v":0},{"$f":"'Datos obra'!$E$6","v":0},{"$f":"'Datos obra'!$E$4","v":0},{"$f":"'Datos obra'!$E$7","v":0},{"$f":"'Datos obra'!$E$8","v":0},{"$f":"'Datos obra'!$E$9","v":0},{"$f":"'Datos obra'!$E$10","v":0},{"$f":"'Datos obra'!$E$11","v":0},null,null,null,null,null,"",null,null,null,null,null,null,"A RELLENAR POR DPTO. COMPRAS"]
[{"$f":"'Datos obra'!$E$5","v":0},{"$f":"'Datos obra'!$E$6","v":0},{"$f":"'Datos obra'!$E$4","v":0},{"$f":"'Datos obra'!$E$7","v":0},{"$f":"'Datos obra'!$E$8","v":0},{"$f":"'Datos obra'!$E$9","v":0},{"$f":"'Datos obra'!$E$10","v":0},{"$f":"'Datos obra'!$E$11","v":0},null,null,null,null,null,"",null,null,null,null,null,null,"A RELLENAR POR DPTO. COMPRAS"]
[{"$f":"'Datos obra'!$E$5","v":0},{"$f":"'Datos obra'!$E$6","v":0},{"$f":"'Datos obra'!$E$4","v":0},{"$f":"'Datos obra'!$E$7","v":0},{"$f":"'Datos obra'!$E$8","v":0},{"$f":"'Datos obra'!$E$9","v":0},{"$f":"'Datos obra'!$E$10","v":0},{"$f":"'Datos obra'!$E$11","v":0},null,null,null,null,null,"",null,null,null,null,null,null,"A RELLENAR POR DPTO. COMPRAS"]
[{"$f":"'Datos obra'!$E$5","v":0},{"$f":"'Datos obra'!$E$6","v":0},{"$f":"'Datos obra'!$E$4","v":0},{"$f":"'Datos obra'!$E$7","v":0},{"$f":"'Datos obra'!$E$8","v":0},{"$f":"'Datos obra'!$E$9","v":0},{"$f":"'Datos obra'!$E$10","v":0},{"$f":"'Datos obra'!$E$11","v":0},null,null,null,null,null,"",null,null,null,null,null,null,"A RELLENAR POR DPTO. COMPRAS"]
[{"$f":"'Datos obra'!$E$5","v":0},{"$f":"'Datos obra'!$E$6","v":0},{"$f":"'Datos obra'!$E$4","v":0},{"$f":"'Datos obra'!$E$7","v":0},{"$f":"'Datos obra'!$E$8","v":0},{"$f":"'Datos obra'!$E$9","v":0},{"$f":"'Datos obra'!$E$10","v":0},{"$f":"'Datos obra'!$E$11","v":0},null,null,null,null,null,"",null,null,null,null,null,null,"A RELLENAR POR DPTO. COMPRAS"]
[{"$f":"'Datos obra'!$E$5","v":0},{"$f":"'Datos obra'!$E$6","v":0},{"$f":"'Datos obra'!$E$4","v":0},{"$f":"'Datos obra'!$E$7","v":0},{"$f":"'Datos obra'!$E$8","v":0},{"$f":"'Datos obra'!$E$9","v":0},{"$f":"'Datos obra'!$E$10","v":0},{"$f":"'Datos obra'!$E$11","v":0},null,null,null,null,null,"",null,null,null,null,null,null,"A RELLENAR POR DPTO. COMPRAS"]
[{"$f":"'Datos obra'!$E$5","v":0},{"$f":"'Datos obra'!$E$6","v":0},{"$f":"'Datos obra'!$E$4","v":0},{"$f":"'Datos obra'!$E$7","v":0},{"$f":"'Datos obra'!$E$8","v":0},{"$f":"'Datos obra'!$E$9","v":0},{"$f":"'Datos obra'!$E$10","v":0},{"$f":"'Datos obra'!$E$11","v":0},null,null,null,null,null,"",null,null,null,null,null,null,"A RELLENAR POR DPTO. COMPRAS"]
[{"$f":"'Datos obra'!$E$5","v":0},{"$f":"'Datos obra'!$E$6","v":0},{"$f":"'Datos obra'!$E$4","v":0},{"$f":"'Datos obra'!$E$7","v":0},{"$f":"'Datos obra'!$E$8","v":0},{"$f":"'Datos obra'!$E$9","v":0},{"$f":"'Datos obra'!$E$10","v":0},{"$f":"'Datos obra'!$E$11","v":0},null,null,null,null,null,"",null,null,null,null,null,null,"A RELLENAR POR DPTO. COMPRAS"]
[{"$f":"'Datos obra'!$E$5","v":0},{"$f":"'Datos obra'!$E$6","v":0},{"$f":"'Datos obra'!$E$4","v":0},{"$f":"'Datos obra'!$E$7","v":0},{"$f":"'Datos obra'!$E$8","v":0},{"$f":"'Datos obra'!$E$9","v":0},{"$f":"'Datos obra'!$E$10","v":0},{"$f":"'Datos obra'!$E$11","v":0},null,null,null,null,null,"",null,null,null,null,null,null,"A RELLENAR POR DPTO. COMPRAS"]
[{"$f":"'Datos obra'!$E$5","v":0},{"$f":"'Datos obra'!$E$6","v":0},{"$f":"'Datos obra'!$E$4","v":0},{"$f":"'Datos obra'!$E$7","v":0},{"$f":"'Datos obra'!$E$8","v":0},{"$f":"'Datos obra'!$E$9","v":0},{"$f":"'Datos obra'!$E$10","v":0},{"$f":"'Datos obra'!$E$11","v":0},null,null,null,null,null,"",null,null,null,null,null,null,"A RELLENAR POR DPTO. COMPRAS"]
[{"$f":"'Datos obra'!$E$5","v":0},{"$f":"'Datos obra'!$E$6","v":0},{"$f":"'Datos obra'!$E$4","v":0},{"$f":"'Datos obra'!$E$7","v":0},{"$f":"'Datos obra'!$E$8","v":0},{"$f":"'Datos obra'!$E$9","v":0},{"$f":"'Datos obra'!$E$10","v":0},{"$f":"'Datos obra'!$E$11","v":0},null,null,null,null,null,"",null,null,null,null,null,null,"A RELLENAR POR DPTO. COMPRAS"]
[{"$f":"'Datos obra'!$E$5","v":0},{"$f":"'Datos obra'!$E$6","v":0},{"$f":"'Datos obra'!$E$4","v":0},{"$f":"'Datos obra'!$E$7","v":0},{"$f":"'Datos obra'!$E$8","v":0},{"$f":"'Datos obra'!$E$9","v":0},{"$f":"'Datos obra'!$E$10","v":0},{"$f":"'Datos obra'!$E$11","v":0},null,null,null,null,null,"",null,null,null,null,null,null,"A RELLENAR POR DPTO. COMPRAS"]
[{"$f":"'Datos obra'!$E$5","v":0},{"$f":"'Datos obra'!$E$6","v":0},{"$f":"'Datos obra'!$E$4","v":0},{"$f":"'Datos obra'!$E$7","v":0},{"$f":"'Datos obra'!$E$8","v":0},{"$f":"'Datos obra'!$E$9","v":0},{"$f":"'Datos obra'!$E$10","v":0},{"$f":"'Datos obra'!$E$11","v":0},null,null,null,null,null,"",null,null,null,null,null,null,"A RELLENAR POR DPTO. COMPRAS"]
[{"$f":"'Datos obra'!$E$5","v":0},{"$f":"'Datos obra'!$E$6","v":0},{"$f":"'Datos obra'!$E$4","v":0},{"$f":"'Datos obra'!$E$7","v":0},{"$f":"'Datos obra'!$E$8","v":0},{"$f":"'Datos obra'!$E$9","v":0},{"$f":"'Datos obra'!$E$10","v":0},{"$f":"'Datos obra'!$E$11","v":0},null,null,null,null,null,"",null,null,null,null,null,null,"A RELLENAR POR DPTO. COMPRAS"]
[{"$f":"'Datos obra'!$E$5","v":0},{"$f":"'Datos obra'!$E$6","v":0},{"$f":"'Datos obra'!$E$4","v":0},{"$f":"'Datos obra'!$E$7","v":0},{"$f":"'Datos obra'!$E$8","v":0},{"$f":"'Datos obra'!$E$9","v":0},{"$f":"'Datos obra'!$E$10","v":0},{"$f":"'Datos obra'!$E$11","v":0},null,null,null,null,null,"",null,null,null,null,null,null,"A RELLENAR POR DPTO. COMPRAS"]
[{"$f":"'Datos obra'!$E$5","v":0},{"$f":"'Datos obra'!$E$6","v":0},{"$f":"'Datos obra'!$E$4","v":0},{"$f":"'Datos obra'!$E$7","v":0},{"$f":"'Datos obra'!$E$8","v":0},{"$f":"'Datos obra'!$E$9","v":0},{"$f":"'Datos obra'!$E$10","v":0},{"$f":"'Datos obra'!$E$11","v":0},null,null,null,null,null,"",null,null,null,null,null,null,"A RELLENAR POR DPTO. COMPRAS"]
[{"$f":"'Datos obra'!$E$5","v":0},{"$f":"'Datos obra'!$E$6","v":0},{"$f":"'Datos obra'!$E$4","v":0},{"$f":"'Datos obra'!$E$7","v":0},{"$f":"'Datos obra'!$E$8","v":0},{"$f":"'Datos obra'!$E$9","v":0},{"$f":"'Datos obra'!$E$10","v":0},{"$f":"'Datos obra'!$E$11","v":0},null,null,null,null,null,"",null,null,null,null,null,null,"A RELLENAR POR DPTO. COMPRAS"]
[{"$f":"'Datos obra'!$E$5","v":0},{"$f":"'Datos obra'!$E$6","v":0},{"$f":"'Datos obra'!$E$4","v":0},{"$f":"'Datos obra'!$E$7","v":0},{"$f":"'Datos obra'!$E$8","v":0},{"$f":"'Datos obra'!$E$9","v":0},{"$f":"'Datos obra'!$E$10","v":0},{"$f":"'Datos obra'!$E$11","v":0},null,null,null,null,null,"",null,null,null,null,null,null,"A RELLENAR POR DPTO. COMPRAS"]
[{"$f":"'Datos obra'!$E$5","v":0},{"$f":"'Datos obra'!$E$6","v":0},{"$f":"'Datos obra'!$E$4","v":0},{"$f":"'Datos obra'!$E$7","v":0},{"$f":"'Datos obra'!$E$8","v":0},{"$f":"'Datos obra'!$E$9","v":0},{"$f":"'Datos obra'!$E$10","v":0},{"$f":"'Datos obra'!$E$11","v":0},null,null,null,null,null,"",null,null,null,null,null,null,"A RELLENAR POR DPTO. COMPRAS"]
[{"$f":"'Datos obra'!$E$5","v":0},{"$f":"'Datos obra'!$E$6","v":0},{"$f":"'Datos obra'!$E$4","v":0},{"$f":"'Datos obra'!$E$7","v":0},{"$f":"'Datos obra'!$E$8","v":0},{"$f":"'Datos obra'!$E$9","v":0},{"$f":"'Datos obra'!$E$10","v":0},{"$f":"'Datos obra'!$E$11","v":0},null,null,null,null,null,"",null,null,null,null,null,null,"A RELLENAR POR DPTO. COMPRAS"]
[{"$f":"'Datos obra'!$E$5","v":0},{"$f":"'Datos obra'!$E$6","v":0},{"$f":"'Datos obra'!$E$4","v":0},{"$f":"'Datos obra'!$E$7","v":0},{"$f":"'Datos obra'!$E$8","v":0},{"$f":"'Datos obra'!$E$9","v":0},{"$f":"'Datos obra'!$E$10","v":0},{"$f":"'Datos obra'!$E$11","v":0},null,null,null,null,null,"",null,null,null,null,null,null,"A RELLENAR POR DPTO. COMPRAS"]
[{"$f":"'Datos obra'!$E$5","v":0},{"$f":"'Datos obra'!$E$6","v":0},{"$f":"'Datos obra'!$E$4","v":0},{"$f":"'Datos obra'!$E$7","v":0},{"$f":"'Datos obra'!$E$8","v":0},{"$f":"'Datos obra'!$E$9","v":0},{"$f":"'Datos obra'!$E$10","v":0},{"$f":"'Datos obra'!$E$11","v":0},null,null,null,null,null,"",null,null,null,null,null,null,"A RELLENAR POR DPTO. COMPRAS"]
[{"$f":"'Datos obra'!$E$5","v":0},{"$f":"'Datos obra'!$E$6","v":0},{"$f":"'Datos obra'!$E$4","v":0},{"$f":"'Datos obra'!$E$7","v":0},{"$f":"'Datos obra'!$E$8","v":0},{"$f":"'Datos obra'!$E$9","v":0},{"$f":"'Datos obra'!$E$10","v":0},{"$f":"'Datos obra'!$E$11","v":0},null,null,null,null,null,"",null,null,null,null,null,null,"A RELLENAR POR DPTO. COMPRAS"]
[{"$f":"'Datos obra'!$E$5","v":0},{"$f":"'Datos obra'!$E$6","v":0},{"$f":"'Datos obra'!$E$4","v":0},{"$f":"'Datos obra'!$E$7","v":0},{"$f":"'Datos obra'!$E$8","v":0},{"$f":"'Datos obra'!$E$9","v":0},{"$f":"'Datos obra'!$E$10","v":0},{"$f":"'Datos obra'!$E$11","v":0},null,null,null,null,null,"",null,null,null,null,null,null,"A RELLENAR POR DPTO. COMPRAS"]
[{"$f":"'Datos obra'!$E$5","v":0},{"$f":"'Datos obra'!$E$6","v":0},{"$f":"'Datos obra'!$E$4","v":0},{"$f":"'Datos obra'!$E$7","v":0},{"$f":"'Datos obra'!$E$8","v":0},{"$f":"'Datos obra'!$E$9","v":0},{"$f":"'Datos obra'!$E$10","v":0},{"$f":"'Datos obra'!$E$11","v":0},null,null,null,null,null,"",null,null,null,null,null,null,"A RELLENAR POR DPTO. COMPRAS"]
[{"$f":"'Datos obra'!$E$5","v":0},{"$f":"'Datos obra'!$E$6","v":0},{"$f":"'Datos obra'!$E$4","v":0},{"$f":"'Datos obra'!$E$7","v":0},{"$f":"'Datos obra'!$E$8","v":0},{"$f":"'Datos obra'!$E$9","v":0},{"$f":"'Datos obra'!$E$10","v":0},{"$f":"'Datos obra'!$E$11","v":0},null,null,null,null,null,"",null,null,null,null,null,null,"A RELLENAR POR DPTO. COMPRAS"]
[{"$f":"'Datos obra'!$E$5","v":0},{"$f":"'Datos obra'!$E$6","v":0},{"$f":"'Datos obra'!$E$4","v":0},{"$f":"'Datos obra'!$E$7","v":0},{"$f":"'Datos obra'!$E$8","v":0},{"$f":"'Datos obra'!$E$9","v":0},{"$f":"'Datos obra'!$E$10","v":0},{"$f":"'Datos obra'!$E$11","v":0},null,null,null,null,null,"",null,null,null,null,null,null,"A RELLENAR POR DPTO. COMPRAS"]
[{"$f":"'Datos obra'!$E$5","v":0},{"$f":"'Datos obra'!$E$6","v":0},{"$f":"'Datos obra'!$E$4","v":0},{"$f":"'Datos obra'!$E$7","v":0},{"$f":"'Datos obra'!$E$8","v":0},{"$f":"'Datos obra'!$E$9","v":0},{"$f":"'Datos obra'!$E$10","v":0},{"$f":"'Datos obra'!$E$11","v":0},null,null,null,null,null,"",null,null,null,null,null,null,"A RELLENAR POR DPTO. COMPRAS"]
[{"$f":"'Datos obra'!$E$5","v":0},{"$f":"'Datos obra'!$E$6","v":0},{"$f":"'Datos obra'!$E$4","v":0},{"$f":"'Datos obra'!$E$7","v":0},{"$f":"'Datos obra'!$E$8","v":0},{"$f":"'Datos obra'!$E$9","v":0},{"$f":"'Datos obra'!$E$10","v":0},{"$f":"'Datos obra'!$E$11","v":0},null,null,null,null,null,"",null,null,null,null,null,null,"A RELLENAR POR DPTO. COMPRAS"]
[{"$f":"'Datos obra'!$E$5","v":0},{"$f":"'Datos obra'!$E$6","v":0},{"$f":"'Datos obra'!$E$4","v":0},{"$f":"'Datos obra'!$E$7","v":0},{"$f":"'Datos obra'!$E$8","v":0},{"$f":"'Datos obra'!$E$9","v":0},{"$f":"'Datos obra'!$E$10","v":0},{"$f":"'Datos obra'!$E$11","v":0},null,null,null,null,null,"",null,null,null,null,null,null,"A RELLENAR POR DPTO. COMPRAS"]
[{"$f":"'Datos obra'!$E$5","v":0},{"$f":"'Datos obra'!$E$6","v":0},{"$f":"'Datos obra'!$E$4","v":0},{"$f":"'Datos obra'!$E$7","v":0},{"$f":"'Datos obra'!$E$8","v":0},{"$f":"'Datos obra'!$E$9","v":0},{"$f":"'Datos obra'!$E$10","v":0},{"$f":"'Datos obra'!$E$11","v":0},null,null,null,null,null,"",null,null,null,null,null,null,"A RELLENAR POR DPTO. COMPRAS"]
[{"$f":"'Datos obra'!$E$5","v":0},{"$f":"'Datos obra'!$E$6","v":0},{"$f":"'Datos obra'!$E$4","v":0},{"$f":"'Datos obra'!$E$7","v":0},{"$f":"'Datos obra'!$E$8","v":0},{"$f":"'Datos obra'!$E$9","v":0},{"$f":"'Datos obra'!$E$10","v":0},{"$f":"'Datos obra'!$E$11","v":0},null,null,null,null,null,"",null,null,null,null,null,null,"A RELLENAR POR DPTO. COMPRAS"]
[{"$f":"'Datos obra'!$E$5","v":0},{"$f":"'Datos obra'!$E$6","v":0},{"$f":"'Datos obra'!$E$4","v":0},{"$f":"'Datos obra'!$E$7","v":0},{"$f":"'Datos obra'!$E$8","v":0},{"$f":"'Datos obra'!$E$9","v":0},{"$f":"'Datos obra'!$E$10","v":0},{"$f":"'Datos obra'!$E$11","v":0},null,null,null,null,null,"",null,null,null,null,null,null,"A RELLENAR POR DPTO. COMPRAS"]
[{"$f":"'Datos obra'!$E$5","v":0},{"$f":"'Datos obra'!$E$6","v":0},{"$f":"'Datos obra'!$E$4","v":0},{"$f":"'Datos obra'!$E$7","v":0},{"$f":"'Datos obra'!$E$8","v":0},{"$f":"'Datos obra'!$E$9","v":0},{"$f":"'Datos obra'!$E$10","v":0},{"$f":"'Datos obra'!$E$11","v":0},null,null,null,null,null,"",null,null,null,null,null,null,"A RELLENAR POR DPTO. COMPRAS"]
[{"$f":"'Datos obra'!$E$5","v":0},{"$f":"'Datos obra'!$E$6","v":0},{"$f":"'Datos obra'!$E$4","v":0},{"$f":"'Datos obra'!$E$7","v":0},{"$f":"'Datos obra'!$E$8","v":0},{"$f":"'Datos obra'!$E$9","v":0},{"$f":"'Datos obra'!$E$10","v":0},{"$f":"'Datos obra'!$E$11","v":0},null,null,null,null,null,"",null,null,null,null,null,null,"A RELLENAR POR DPTO. COMPRAS"]
[{"$f":"'Datos obra'!$E$5","v":0},{"$f":"'Datos obra'!$E$6","v":0},{"$f":"'Datos obra'!$E$4","v":0},{"$f":"'Datos obra'!$E$7","v":0},{"$f":"'Datos obra'!$E$8","v":0},{"$f":"'Datos obra'!$E$9","v":0},{"$f":"'Datos obra'!$E$10","v":0},{"$f":"'Datos obra'!$E$11","v":0},null,null,null,null,null,{"$f":"IF(M193=\"\",\"\",M193+42)","v":""},null,null,null,null,null,null,"A RELLENAR POR DPTO. COMPRAS"]
[{"$f":"'Datos obra'!$E$5","v":0},{"$f":"'Datos obra'!$E$6","v":0},{"$f":"'Datos obra'!$E$4","v":0},{"$f":"'Datos obra'!$E$7","v":0},{"$f":"'Datos obra'!$E$8","v":0},{"$f":"'Datos obra'!$E$9","v":0},{"$f":"'Datos obra'!$E$10","v":0},{"$f":"'Datos obra'!$E$11","v":0},null,null,null,null,null,"",null,null,null,null,null,null,"A RELLENAR POR DPTO. COMPRAS"]
[{"$f":"'Datos obra'!$E$5","v":0},{"$f":"'Datos obra'!$E$6","v":0},{"$f":"'Datos obra'!$E$4","v":0},{"$f":"'Datos obra'!$E$7","v":0},{"$f":"'Datos obra'!$E$8","v":0},{"$f":"'Datos obra'!$E$9","v":0},{"$f":"'Datos obra'!$E$10","v":0},{"$f":"'Datos obra'!$E$11","v":0},null,null,null,null,null,"",null,null,null,null,null,null,"A RELLENAR POR DPTO. COMPRAS"]
[{"$f":"'Datos obra'!$E$5","v":0},{"$f":"'Datos obra'!$E$6","v":0},{"$f":"'Datos obra'!$E$4","v":0},{"$f":"'Datos obra'!$E$7","v":0},{"$f":"'Datos obra'!$E$8","v":0},{"$f":"'Datos obra'!$E$9","v":0},{"$f":"'Datos obra'!$E$10","v":0},{"$f":"'Datos obra'!$E$11","v":0},null,null,null,null,null,"",null,null,null,null,null,null,"A RELLENAR POR DPTO. COMPRAS"]
[{"$f":"'Datos obra'!$E$5","v":0},{"$f":"'Datos obra'!$E$6","v":0},{"$f":"'Datos obra'!$E$4","v":0},{"$f":"'Datos obra'!$E$7","v":0},{"$f":"'Datos obra'!$E$8","v":0},{"$f":"'Datos obra'!$E$9","v":0},{"$f":"'Datos obra'!$E$10","v":0},{"$f":"'Datos obra'!$E$11","v":0},null,null,null,null,null,"",null,null,null,null,null,null,"A RELLENAR POR DPTO. COMPRAS"]
[{"$f":"'Datos obra'!$E$5","v":0},{"$f":"'Datos obra'!$E$6","v":0},{"$f":"'Datos obra'!$E$4","v":0},{"$f":"'Datos obra'!$E$7","v":0},{"$f":"'Datos obra'!$E$8","v":0},{"$f":"'Datos obra'!$E$9","v":0},{"$f":"'Datos obra'!$E$10","v":0},{"$f":"'Datos obra'!$E$11","v":0},null,null,null,null,null,"",null,null,null,null,null,null,"A RELLENAR POR DPTO. COMPRAS"]
[{"$f":"'Datos obra'!$E$5","v":0},{"$f":"'Datos obra'!$E$6","v":0},{"$f":"'Datos obra'!$E$4","v":0},{"$f":"'Datos obra'!$E$7","v":0},{"$f":"'Datos obra'!$E$8","v":0},{"$f":"'Datos obra'!$E$9","v":0},{"$f":"'Datos obra'!$E$10","v":0},{"$f":"'Datos obra'!$E$11","v":0},null,null,null,null,null,"",null,null,null,null,null,null,"A RELLENAR POR DPTO. COMPRAS"]
[{"$f":"'Datos obra'!$E$5","v":0},{"$f":"'Datos obra'!$E$6","v":0},{"$f":"'Datos obra'!$E$4","v":0},{"$f":"'Datos obra'!$E$7","v":0},{"$f":"'Datos obra'!$E$8","v":0},{"$f":"'Datos obra'!$E$9","v":0},{"$f":"'Datos obra'!$E$10","v":0},{"$f":"'Datos obra'!$E$11","v":0},null,null,null,null,null,"",null,null,null,null,null,null,"A RELLENAR POR DPTO. COMPRAS"]
[{"$f":"'Datos obra'!$E$5","v":0},{"$f":"'Datos obra'!$E$6","v":0},{"$f":"'Datos obra'!$E$4","v":0},{"$f":"'Datos obra'!$E$7","v":0},{"$f":"'Datos obra'!$E$8","v":0},{"$f":"'Datos obra'!$E$9","v":0},{"$f":"'Datos obra'!$E$10","v":0},{"$f":"'Datos obra'!$E$11","v":0},null,null,null,null,null,"",null,null,null,null,null,null,"A RELLENAR POR DPTO. COMPRAS"]
[{"$f":"'Datos obra'!$E$5","v":0},{"$f":"'Datos obra'!$E$6","v":0},{"$f":"'Datos obra'!$E$4","v":0},{"$f":"'Datos obra'!$E$7","v":0},{"$f":"'Datos obra'!$E$8","v":0},{"$f":"'Datos obra'!$E$9","v":0},{"$f":"'Datos obra'!$E$10","v":0},{"$f":"'Datos obra'!$E$11","v":0},null,null,null,null,null,"",null,null,null,null,null,null,"A RELLENAR POR DPTO. COMPRAS"]
[{"$f":"'Datos obra'!$E$5","v":0},{"$f":"'Datos obra'!$E$6","v":0},{"$f":"'Datos obra'!$E$4","v":0},{"$f":"'Datos obra'!$E$7","v":0},{"$f":"'Datos obra'!$E$8","v":0},{"$f":"'Datos obra'!$E$9","v":0},{"$f":"'Datos obra'!$E$10","v":0},{"$f":"'Datos obra'!$E$11","v":0},null,null,null,null,null,"",null,null,null,null,null,null,"A RELLENAR POR DPTO. COMPRAS"]
[{"$f":"'Datos obra'!$E$5","v":0},{"$f":"'Datos obra'!$E$6","v":0},{"$f":"'Datos obra'!$E$4","v":0},{"$f":"'Datos obra'!$E$7","v":0},{"$f":"'Datos obra'!$E$8","v":0},{"$f":"'Datos obra'!$E$9","v":0},{"$f":"'Datos obra'!$E$10","v":0},{"$f":"'Datos obra'!$E$11","v":0},null,null,null,null,null,"",null,null,null,null,null,null,"A RELLENAR POR DPTO. COMPRAS"]
[{"$f":"'Datos obra'!$E$5","v":0},{"$f":"'Datos obra'!$E$6","v":0},{"$f":"'Datos obra'!$E$4","v":0},{"$f":"'Datos obra'!$E$7","v":0},{"$f":"'Datos obra'!$E$8","v":0},{"$f":"'Datos obra'!$E$9","v":0},{"$f":"'Datos obra'!$E$10","v":0},{"$f":"'Datos obra'!$E$11","v":0},null,null,null,null,null,"",null,null,null,null,null,null,"A RELLENAR POR DPTO. COMPRAS"]
[{"$f":"'Datos obra'!$E$5","v":0},{"$f":"'Datos obra'!$E$6","v":0},{"$f":"'Datos obra'!$E$4","v":0},{"$f":"'Datos obra'!$E$7","v":0},{"$f":"'Datos obra'!$E$8","v":0},{"$f":"'Datos obra'!$E$9","v":0},{"$f":"'Datos obra'!$E$10","v":0},{"$f":"'Datos obra'!$E$11","v":0},null,null,null,null,null,"",null,null,null,null,null,null,"A RELLENAR POR DPTO. COMPRAS"]
[{"$f":"'Datos obra'!$E$5","v":0},{"$f":"'Datos obra'!$E$6","v":0},{"$f":"'Datos obra'!$E$4","v":0},{"$f":"'Datos obra'!$E$7","v":0},{"$f":"'Datos obra'!$E$8","v":0},{"$f":"'Datos obra'!$E$9","v":0},{"$f":"'Datos obra'!$E$10","v":0},{"$f":"'Datos obra'!$E$11","v":0},null,null,null,null,null,"",null,null,null,null,null,null,"A RELLENAR POR DPTO. COMPRAS"]
[{"$f":"'Datos obra'!$E$5","v":0},{"$f":"'Datos obra'!$E$6","v":0},{"$f":"'Datos obra'!$E$4","v":0},{"$f":"'Datos obra'!$E$7","v":0},{"$f":"'Datos obra'!$E$8","v":0},{"$f":"'Datos obra'!$E$9","v":0},{"$f":"'Datos obra'!$E$10","v":0},{"$f":"'Datos obra'!$E$11","v":0},null,null,null,null,null,"",null,null,null,null,null,null,"A RELLENAR POR DPTO. COMPRAS"]
[{"$f":"'Datos obra'!$E$5","v":0},{"$f":"'Datos obra'!$E$6","v":0},{"$f":"'Datos obra'!$E$4","v":0},{"$f":"'Datos obra'!$E$7","v":0},{"$f":"'Datos obra'!$E$8","v":0},{"$f":"'Datos obra'!$E$9","v":0},{"$f":"'Datos obra'!$E$10","v":0},{"$f":"'Datos obra'!$E$11","v":0},null,null,null,null,null,"",null,null,null,null,null,null,"A RELLENAR POR DPTO. COMPRAS"]
[{"$f":"'Datos obra'!$E$5","v":0},{"$f":"'Datos obra'!$E$6","v":0},{"$f":"'Datos obra'!$E$4","v":0},{"$f":"'Datos obra'!$E$7","v":0},{"$f":"'Datos obra'!$E$8","v":0},{"$f":"'Datos obra'!$E$9","v":0},{"$f":"'Datos obra'!$E$10","v":0},{"$f":"'Datos obra'!$E$11","v":0},null,null,null,null,null,"",null,null,null,null,null,null,"A RELLENAR POR DPTO. COMPRAS"]
[{"$f":"'Datos obra'!$E$5","v":0},{"$f":"'Datos obra'!$E$6","v":0},{"$f":"'Datos obra'!$E$4","v":0},{"$f":"'Datos obra'!$E$7","v":0},{"$f":"'Datos obra'!$E$8","v":0},{"$f":"'Datos obra'!$E$9","v":0},{"$f":"'Datos obra'!$E$10","v":0},{"$f":"'Datos obra'!$E$11","v":0},null,null,null,null,null,"",null,null,null,null,null,null,"A RELLENAR POR DPTO. COMPRAS"]
[{"$f":"'Datos obra'!$E$5","v":0},{"$f":"'Datos obra'!$E$6","v":0},{"$f":"'Datos obra'!$E$4","v":0},{"$f":"'Datos obra'!$E$7","v":0},{"$f":"'Datos obra'!$E$8","v":0},{"$f":"'Datos obra'!$E$9","v":0},{"$f":"'Datos obra'!$E$10","v":0},{"$f":"'Datos obra'!$E$11","v":0},null,null,null,null,null,"",null,null,null,null,null,null,"A RELLENAR POR DPTO. COMPRAS"]
[{"$f":"'Datos obra'!$E$5","v":0},{"$f":"'Datos obra'!$E$6","v":0},{"$f":"'Datos obra'!$E$4","v":0},{"$f":"'Datos obra'!$E$7","v":0},{"$f":"'Datos obra'!$E$8","v":0},{"$f":"'Datos obra'!$E$9","v":0},{"$f":"'Datos obra'!$E$10","v":0},{"$f":"'Datos obra'!$E$11","v":0},null,null,null,null,null,"",null,null,null,null,null,null,"A RELLENAR POR DPTO. COMPRAS"]
[{"$f":"'Datos obra'!$E$5","v":0},{"$f":"'Datos obra'!$E$6","v":0},{"$f":"'Datos obra'!$E$4","v":0},{"$f":"'Datos obra'!$E$7","v":0},{"$f":"'Datos obra'!$E$8","v":0},{"$f":"'Datos obra'!$E$9","v":0},{"$f":"'Datos obra'!$E$10","v":0},{"$f":"'Datos obra'!$E$11","v":0},null,null,null,null,null,"",null,null,null,null,null,null,"A RELLENAR POR DPTO. COMPRAS"]
[{"$f":"'Datos obra'!$E$5","v":0},{"$f":"'Datos obra'!$E$6","v":0},{"$f":"'Datos obra'!$E$4","v":0},{"$f":"'Datos obra'!$E$7","v":0},{"$f":"'Datos obra'!$E$8","v":0},{"$f":"'Datos obra'!$E$9","v":0},{"$f":"'Datos obra'!$E$10","v":0},{"$f":"'Datos obra'!$E$11","v":0},null,null,null,null,null,"",null,null,null,null,null,null,"A RELLENAR POR DPTO. COMPRAS"]
[{"$f":"'Datos obra'!$E$5","v":0},{"$f":"'Datos obra'!$E$6","v":0},{"$f":"'Datos obra'!$E$4","v":0},{"$f":"'Datos obra'!$E$7","v":0},{"$f":"'Datos obra'!$E$8","v":0},{"$f":"'Datos obra'!$E$9","v":0},{"$f":"'Datos obra'!$E$10","v":0},{"$f":"'Datos obra'!$E$11","v":0},null,null,null,null,null,"",null,null,null,null,null,null,"A RELLENAR POR DPTO. COMPRAS"]
[{"$f":"'Datos obra'!$E$5","v":0},{"$f":"'Datos obra'!$E$6","v":0},{"$f":"'Datos obra'!$E$4","v":0},{"$f":"'Datos obra'!$E$7","v":0},{"$f":"'Datos obra'!$E$8","v":0},{"$f":"'Datos obra'!$E$9","v":0},{"$f":"'Datos obra'!$E$10","v":0},{"$f":"'Datos obra'!$E$11","v":0},null,null,null,null,null,"",null,null,null,null,null,null,"A RELLENAR POR DPTO. COMPRAS"]
[{"$f":"'Datos obra'!$E$5","v":0},{"$f":"'Datos obra'!$E$6","v":0},{"$f":"'Datos obra'!$E$4","v":0},{"$f":"'Datos obra'!$E$7","v":0},{"$f":"'Datos obra'!$E$8","v":0},{"$f":"'Datos obra'!$E$9","v":0},{"$f":"'Datos obra'!$E$10","v":0},{"$f":"'Datos obra'!$E$11","v":0},null,null,null,null,null,"",null,null,null,null,null,null,"A RELLENAR POR DPTO. COMPRAS"]
[{"$f":"'Datos obra'!$E$5","v":0},{"$f":"'Datos obra'!$E$6","v":0},{"$f":"'Datos obra'!$E$4","v":0},{"$f":"'Datos obra'!$E$7","v":0},{"$f":"'Datos obra'!$E$8","v":0},{"$f":"'Datos obra'!$E$9","v":0},{"$f":"'Datos obra'!$E$10","v":0},{"$f":"'Datos obra'!$E$11","v":0},null,null,null,null,null,"",null,null,null,null,null,null,"A RELLENAR POR DPTO. COMPRAS"]
[{"$f":"'Datos obra'!$E$5","v":0},{"$f":"'Datos obra'!$E$6","v":0},{"$f":"'Datos obra'!$E$4","v":0},{"$f":"'Datos obra'!$E$7","v":0},{"$f":"'Datos obra'!$E$8","v":0},{"$f":"'Datos obra'!$E$9","v":0},{"$f":"'Datos obra'!$E$10","v":0},{"$f":"'Datos obra'!$E$11","v":0},null,null,null,null,null,"",null,null,null,null,null,null,"A RELLENAR POR DPTO. COMPRAS"]
[{"$f":"'Datos obra'!$E$5","v":0},{"$f":"'Datos obra'!$E$6","v":0},{"$f":"'Datos obra'!$E$4","v":0},{"$f":"'Datos obra'!$E$7","v":0},{"$f":"'Datos obra'!$E$8","v":0},{"$f":"'Datos obra'!$E$9","v":0},{"$f":"'Datos obra'!$E$10","v":0},{"$f":"'Datos obra'!$E$11","v":0},null,null,null,null,null,"",null,null,null,null,null,null,"A RELLENAR POR DPTO. COMPRAS"]
[{"$f":"'Datos obra'!$E$5","v":0},{"$f":"'Datos obra'!$E$6","v":0},{"$f":"'Datos obra'!$E$4","v":0},{"$f":"'Datos obra'!$E$7","v":0},{"$f":"'Datos obra'!$E$8","v":0},{"$f":"'Datos obra'!$E$9","v":0},{"$f":"'Datos obra'!$E$10","v":0},{"$f":"'Datos obra'!$E$11","v":0},null,null,null,null,null,"",null,null,null,null,null,null,"A RELLENAR POR DPTO. COMPRAS"]
[{"$f":"'Datos obra'!$E$5","v":0},{"$f":"'Datos obra'!$E$6","v":0},{"$f":"'Datos obra'!$E$4","v":0},{"$f":"'Datos obra'!$E$7","v":0},{"$f":"'Datos obra'!$E$8","v":0},{"$f":"'Datos obra'!$E$9","v":0},{"$f":"'Datos obra'!$E$10","v":0},{"$f":"'Datos obra'!$E$11","v":0},null,null,null,null,null,"",null,null,null,null,null,null,"A RELLENAR POR DPTO. COMPRAS"]
[{"$f":"'Datos obra'!$E$5","v":0},{"$f":"'Datos obra'!$E$6","v":0},{"$f":"'Datos obra'!$E$4","v":0},{"$f":"'Datos obra'!$E$7","v":0},{"$f":"'Datos obra'!$E$8","v":0},{"$f":"'Datos obra'!$E$9","v":0},{"$f":"'Datos obra'!$E$10","v":0},{"$f":"'Datos obra'!$E$11","v":0},null,null,null,null,null,"",null,null,null,null,null,null,"A RELLENAR POR DPTO. COMPRAS"]
[{"$f":"'Datos obra'!$E$5","v":0},{"$f":"'Datos obra'!$E$6","v":0},{"$f":"'Datos obra'!$E$4","v":0},{"$f":"'Datos obra'!$E$7","v":0},{"$f":"'Datos obra'!$E$8","v":0},{"$f":"'Datos obra'!$E$9","v":0},{"$f":"'Datos obra'!$E$10","v":0},{"$f":"'Datos obra'!$E$11","v":0},null,null,null,null,null,"",null,null,null,null,null,null,"A RELLENAR POR DPTO. COMPRAS"]
[{"$f":"'Datos obra'!$E$5","v":0},{"$f":"'Datos obra'!$E$6","v":0},{"$f":"'Datos obra'!$E$4","v":0},{"$f":"'Datos obra'!$E$7","v":0},{"$f":"'Datos obra'!$E$8","v":0},{"$f":"'Datos obra'!$E$9","v":0},{"$f":"'Datos obra'!$E$10","v":0},{"$f":"'Datos obra'!$E$11","v":0},null,null,null,null,null,"",null,null,null,null,null,null,"A RELLENAR POR DPTO. COMPRAS"]
[{"$f":"'Datos obra'!$E$5","v":0},{"$f":"'Datos obra'!$E$6","v":0},{"$f":"'Datos obra'!$E$4","v":0},{"$f":"'Datos obra'!$E$7","v":0},{"$f":"'Datos obra'!$E$8","v":0},{"$f":"'Datos obra'!$E$9","v":0},{"$f":"'Datos obra'!$E$10","v":0},{"$f":"'Datos obra'!$E$11","v":0},null,null,null,null,null,"",null,null,null,null,null,null,"A RELLENAR POR DPTO. COMPRAS"]
[{"$f":"'Datos obra'!$E$5","v":0},{"$f":"'Datos obra'!$E$6","v":0},{"$f":"'Datos obra'!$E$4","v":0},{"$f":"'Datos obra'!$E$7","v":0},{"$f":"'Datos obra'!$E$8","v":0},{"$f":"'Datos obra'!$E$9","v":0},{"$f":"'Datos obra'!$E$10","v":0},{"$f":"'Datos obra'!$E$11","v":0},null,null,null,null,null,"",null,null,null,null,null,null,"A RELLENAR POR DPTO. COMPRAS"]
[{"$f":"'Datos obra'!$E$5","v":0},{"$f":"'Datos obra'!$E$6","v":0},{"$f":"'Datos obra'!$E$4","v":0},{"$f":"'Datos obra'!$E$7","v":0},{"$f":"'Datos obra'!$E$8","v":0},{"$f":"'Datos obra'!$E$9","v":0},{"$f":"'Datos obra'!$E$10","v":0},{"$f":"'Datos obra'!$E$11","v":0},null,null,null,null,null,"",null,null,null,null,null,null,"A RELLENAR POR DPTO. COMPRAS"]
[{"$f":"'Datos obra'!$E$5","v":0},{"$f":"'Datos obra'!$E$6","v":0},{"$f":"'Datos obra'!$E$4","v":0},{"$f":"'Datos obra'!$E$7","v":0},{"$f":"'Datos obra'!$E$8","v":0},{"$f":"'Datos obra'!$E$9","v":0},{"$f":"'Datos obra'!$E$10","v":0},{"$f":"'Datos obra'!$E$11","v":0},null,null,null,null,null,"",null,null,null,null,null,null,"A RELLENAR POR DPTO. COMPRAS"]
[{"$f":"'Datos obra'!$E$5","v":0},{"$f":"'Datos obra'!$E$6","v":0},{"$f":"'Datos obra'!$E$4","v":0},{"$f":"'Datos obra'!$E$7","v":0},{"$f":"'Datos obra'!$E$8","v":0},{"$f":"'Datos obra'!$E$9","v":0},{"$f":"'Datos obra'!$E$10","v":0},{"$f":"'Datos obra'!$E$11","v":0},null,null,null,null,null,"",null,null,null,null,null,null,"A RELLENAR POR DPTO. COMPRAS"]
[{"$f":"'Datos obra'!$E$5","v":0},{"$f":"'Datos obra'!$E$6","v":0},{"$f":"'Datos obra'!$E$4","v":0},{"$f":"'Datos obra'!$E$7","v":0},{"$f":"'Datos obra'!$E$8","v":0},{"$f":"'Datos obra'!$E$9","v":0},{"$f":"'Datos obra'!$E$10","v":0},{"$f":"'Datos obra'!$E$11","v":0},null,null,null,null,null,"",null,null,null,null,null,null,"A RELLENAR POR DPTO. COMPRAS"]
[{"$f":"'Datos obra'!$E$5","v":0},{"$f":"'Datos obra'!$E$6","v":0},{"$f":"'Datos obra'!$E$4","v":0},{"$f":"'Datos obra'!$E$7","v":0},{"$f":"'Datos obra'!$E$8","v":0},{"$f":"'Datos obra'!$E$9","v":0},{"$f":"'Datos obra'!$E$10","v":0},{"$f":"'Datos obra'!$E$11","v":0},null,null,null,null,null,"",null,null,null,null,null,null,"A RELLENAR POR DPTO. COMPRAS"]
[{"$f":"'Datos obra'!$E$5","v":0},{"$f":"'Datos obra'!$E$6","v":0},{"$f":"'Datos obra'!$E$4","v":0},{"$f":"'Datos obra'!$E$7","v":0},{"$f":"'Datos obra'!$E$8","v":0},{"$f":"'Datos obra'!$E$9","v":0},{"$f":"'Datos obra'!$E$10","v":0},{"$f":"'Datos obra'!$E$11","v":0},null,null,null,null,null,"",null,null,null,null,null,null,"A RELLENAR POR DPTO. COMPRAS"]
[{"$f":"'Datos obra'!$E$5","v":0},{"$f":"'Datos obra'!$E$6","v":0},{"$f":"'Datos obra'!$E$4","v":0},{"$f":"'Datos obra'!$E$7","v":0},{"$f":"'Datos obra'!$E$8","v":0},{"$f":"'Datos obra'!$E$9","v":0},{"$f":"'Datos obra'!$E$10","v":0},{"$f":"'Datos obra'!$E$11","v":0},null,null,null,null,null,"",null,null,null,null,null,null,"A RELLENAR POR DPTO. COMPRAS"]
[{"$f":"'Datos obra'!$E$5","v":0},{"$f":"'Datos obra'!$E$6","v":0},{"$f":"'Datos obra'!$E$4","v":0},{"$f":"'Datos obra'!$E$7","v":0},{"$f":"'Datos obra'!$E$8","v":0},{"$f":"'Datos obra'!$E$9","v":0},{"$f":"'Datos obra'!$E$10","v":0},{"$f":"'Datos obra'!$E$11","v":0},null,null,null,null,null,"",null,null,null,null,null,null,"A RELLENAR POR DPTO. COMPRAS"]
[{"$f":"'Datos obra'!$E$5","v":0},{"$f":"'Datos obra'!$E$6","v":0},{"$f":"'Datos obra'!$E$4","v":0},{"$f":"'Datos obra'!$E$7","v":0},{"$f":"'Datos obra'!$E$8","v":0},{"$f":"'Datos obra'!$E$9","v":0},{"$f":"'Datos obra'!$E$10","v":0},{"$f":"'Datos obra'!$E$11","v":0},null,null,null,null,null,"",null,null,null,null,null,null,"A RELLENAR POR DPTO. COMPRAS"]
[{"$f":"'Datos obra'!$E$5","v":0},{"$f":"'Datos obra'!$E$6","v":0},{"$f":"'Datos obra'!$E$4","v":0},{"$f":"'Datos obra'!$E$7","v":0},{"$f":"'Datos obra'!$E$8","v":0},{"$f":"'Datos obra'!$E$9","v":0},{"$f":"'Datos obra'!$E$10","v":0},{"$f":"'Datos obra'!$E$11","v":0},null,null,null,null,null,"",null,null,null,null,null,null,"A RELLENAR POR DPTO. COMPRAS"]
[{"$f":"'Datos obra'!$E$5","v":0},{"$f":"'Datos obra'!$E$6","v":0},{"$f":"'Datos obra'!$E$4","v":0},{"$f":"'Datos obra'!$E$7","v":0},{"$f":"'Datos obra'!$E$8","v":0},{"$f":"'Datos obra'!$E$9","v":0},{"$f":"'Datos obra'!$E$10","v":0},{"$f":"'Datos obra'!$E$11","v":0},null,null,null,null,null,"",null,null,null,null,null,null,"A RELLENAR POR DPTO. COMPRAS"]
[{"$f":"'Datos obra'!$E$5","v":0},{"$f":"'Datos obra'!$E$6","v":0},{"$f":"'Datos obra'!$E$4","v":0},{"$f":"'Datos obra'!$E$7","v":0},{"$f":"'Datos obra'!$E$8","v":0},{"$f":"'Datos obra'!$E$9","v":0},{"$f":"'Datos obra'!$E$10","v":0},{"$f":"'Datos obra'!$E$11","v":0},null,null,null,null,null,"",null,null,null,null,null,null,"A RELLENAR POR DPTO. COMPRAS"]
[{"$f":"'Datos obra'!$E$5","v":0},{"$f":"'Datos obra'!$E$6","v":0},{"$f":"'Datos obra'!$E$4","v":0},{"$f":"'Datos obra'!$E$7","v":0},{"$f":"'Datos obra'!$E$8","v":0},{"$f":"'Datos obra'!$E$9","v":0},{"$f":"'Datos obra'!$E$10","v":0},{"$f":"'Datos obra'!$E$11","v":0},null,null,null,null,null,"",null,null,null,null,null,null,"A RELLENAR POR DPTO. COMPRAS"]
[{"$f":"'Datos obra'!$E$5","v":0},{"$f":"'Datos obra'!$E$6","v":0},{"$f":"'Datos obra'!$E$4","v":0},{"$f":"'Datos obra'!$E$7","v":0},{"$f":"'Datos obra'!$E$8","v":0},{"$f":"'Datos obra'!$E$9","v":0},{"$f":"'Datos obra'!$E$10","v":0},{"$f":"'Datos obra'!$E$11","v":0},null,null,null,null,null,"",null,null,null,null,null,null,"A RELLENAR POR DPTO. COMPRAS"]
[{"$f":"'Datos obra'!$E$5","v":0},{"$f":"'Datos obra'!$E$6","v":0},{"$f":"'Datos obra'!$E$4","v":0},{"$f":"'Datos obra'!$E$7","v":0},{"$f":"'Datos obra'!$E$8","v":0},{"$f":"'Datos obra'!$E$9","v":0},{"$f":"'Datos obra'!$E$10","v":0},{"$f":"'Datos obra'!$E$11","v":0},null,null,null,null,null,"",null,null,null,null,null,null,"A RELLENAR POR DPTO. COMPRAS"]
[{"$f":"'Datos obra'!$E$5","v":0},{"$f":"'Datos obra'!$E$6","v":0},{"$f":"'Datos obra'!$E$4","v":0},{"$f":"'Datos obra'!$E$7","v":0},{"$f":"'Datos obra'!$E$8","v":0},{"$f":"'Datos obra'!$E$9","v":0},{"$f":"'Datos obra'!$E$10","v":0},{"$f":"'Datos obra'!$E$11","v":0},null,null,null,null,null,"",null,null,null,null,null,null,"A RELLENAR POR DPTO. COMPRAS"]
[{"$f":"'Datos obra'!$E$5","v":0},{"$f":"'Datos obra'!$E$6","v":0},{"$f":"'Datos obra'!$E$4","v":0},{"$f":"'Datos obra'!$E$7","v":0},{"$f":"'Datos obra'!$E$8","v":0},{"$f":"'Datos obra'!$E$9","v":0},{"$f":"'Datos obra'!$E$10","v":0},{"$f":"'Datos obra'!$E$11","v":0},null,null,null,null,null,"",null,null,null,null,null,null,"A RELLENAR POR DPTO. COMPRAS"]
[{"$f":"'Datos obra'!$E$5","v":0},{"$f":"'Datos obra'!$E$6","v":0},{"$f":"'Datos obra'!$E$4","v":0},{"$f":"'Datos obra'!$E$7","v":0},{"$f":"'Datos obra'!$E$8","v":0},{"$f":"'Datos obra'!$E$9","v":0},{"$f":"'Datos obra'!$E$10","v":0},{"$f":"'Datos obra'!$E$11","v":0},null,null,null,null,null,"",null,null,null,null,null,null,"A RELLENAR POR DPTO. COMPRAS"]
[{"$f":"'Datos obra'!$E$5","v":0},{"$f":"'Datos obra'!$E$6","v":0},{"$f":"'Datos obra'!$E$4","v":0},{"$f":"'Datos obra'!$E$7","v":0},{"$f":"'Datos obra'!$E$8","v":0},{"$f":"'Datos obra'!$E$9","v":0},{"$f":"'Datos obra'!$E$10","v":0},{"$f":"'Datos obra'!$E$11","v":0},null,null,null,null,null,"",null,null,null,null,null,null,"A RELLENAR POR DPTO. COMPRAS"]
[{"$f":"'Datos obra'!$E$5","v":0},{"$f":"'Datos obra'!$E$6","v":0},{"$f":"'Datos obra'!$E$4","v":0},{"$f":"'Datos obra'!$E$7","v":0},{"$f":"'Datos obra'!$E$8","v":0},{"$f":"'Datos obra'!$E$9","v":0},{"$f":"'Datos obra'!$E$10","v":0},{"$f":"'Datos obra'!$E$11","v":0},null,null,null,null,null,"",null,null,null,null,null,null,"A RELLENAR POR DPTO. COMPRAS"]
[{"$f":"'Datos obra'!$E$5","v":0},{"$f":"'Datos obra'!$E$6","v":0},{"$f":"'Datos obra'!$E$4","v":0},{"$f":"'Datos obra'!$E$7","v":0},{"$f":"'Datos obra'!$E$8","v":0},{"$f":"'Datos obra'!$E$9","v":0},{"$f":"'Datos obra'!$E$10","v":0},{"$f":"'Datos obra'!$E$11","v":0},null,null,null,null,null,"",null,null,null,null,null,null,"A RELLENAR POR DPTO. COMPRAS"]
[{"$f":"'Datos obra'!$E$5","v":0},{"$f":"'Datos obra'!$E$6","v":0},{"$f":"'Datos obra'!$E$4","v":0},{"$f":"'Datos obra'!$E$7","v":0},{"$f":"'Datos obra'!$E$8","v":0},{"$f":"'Datos obra'!$E$9","v":0},{"$f":"'Datos obra'!$E$10","v":0},{"$f":"'Datos obra'!$E$11","v":0},null,null,null,null,null,"",null,null,null,null,null,null,"A RELLENAR POR DPTO. COMPRAS"]
[{"$f":"'Datos obra'!$E$5","v":0},{"$f":"'Datos obra'!$E$6","v":0},{"$f":"'Datos obra'!$E$4","v":0},{"$f":"'Datos obra'!$E$7","v":0},{"$f":"'Datos obra'!$E$8","v":0},{"$f":"'Datos obra'!$E$9","v":0},{"$f":"'Datos obra'!$E$10","v":0},{"$f":"'Datos obra'!$E$11","v":0},null,null,null,null,null,"",null,null,null,null,null,null,"A RELLENAR POR DPTO. COMPRAS"]
[{"$f":"'Datos obra'!$E$5","v":0},{"$f":"'Datos obra'!$E$6","v":0},{"$f":"'Datos obra'!$E$4","v":0},{"$f":"'Datos obra'!$E$7","v":0},{"$f":"'Datos obra'!$E$8","v":0},{"$f":"'Datos obra'!$E$9","v":0},{"$f":"'Datos obra'!$E$10","v":0},{"$f":"'Datos obra'!$E$11","v":0},null,null,null,null,null,"",null,null,null,null,null,null,"A RELLENAR POR DPTO. COMPRAS"]
[{"$f":"'Datos obra'!$E$5","v":0},{"$f":"'Datos obra'!$E$6","v":0},{"$f":"'Datos obra'!$E$4","v":0},{"$f":"'Datos obra'!$E$7","v":0},{"$f":"'Datos obra'!$E$8","v":0},{"$f":"'Datos obra'!$E$9","v":0},{"$f":"'Datos obra'!$E$10","v":0},{"$f":"'Datos obra'!$E$11","v":0},null,null,null,null,null,"",null,null,null,null,null,null,"A RELLENAR POR DPTO. COMPRAS"]
[{"$f":"'Datos obra'!$E$5","v":0},{"$f":"'Datos obra'!$E$6","v":0},{"$f":"'Datos obra'!$E$4","v":0},{"$f":"'Datos obra'!$E$7","v":0},{"$f":"'Datos obra'!$E$8","v":0},{"$f":"'Datos obra'!$E$9","v":0},{"$f":"'Datos obra'!$E$10","v":0},{"$f":"'Datos obra'!$E$11","v":0},null,null,null,null,null,"",null,null,null,null,null,null,"A RELLENAR POR DPTO. COMPRAS"]
[{"$f":"'Datos obra'!$E$5","v":0},{"$f":"'Datos obra'!$E$6","v":0},{"$f":"'Datos obra'!$E$4","v":0},{"$f":"'Datos obra'!$E$7","v":0},{"$f":"'Datos obra'!$E$8","v":0},{"$f":"'Datos obra'!$E$9","v":0},{"$f":"'Datos obra'!$E$10","v":0},{"$f":"'Datos obra'!$E$11","v":0},null,null,null,null,null,"",null,null,null,null,null,null,"A RELLENAR POR DPTO. COMPRAS"]
[{"$f":"'Datos obra'!$E$5","v":0},{"$f":"'Datos obra'!$E$6","v":0},{"$f":"'Datos obra'!$E$4","v":0},{"$f":"'Datos obra'!$E$7","v":0},{"$f":"'Datos obra'!$E$8","v":0},{"$f":"'Datos obra'!$E$9","v":0},{"$f":"'Datos obra'!$E$10","v":0},{"$f":"'Datos obra'!$E$11","v":0},null,null,null,null,null,"",null,null,null,null,null,null,"A RELLENAR POR DPTO. COMPRAS"]
[{"$f":"'Datos obra'!$E$5","v":0},{"$f":"'Datos obra'!$E$6","v":0},{"$f":"'Datos obra'!$E$4","v":0},{"$f":"'Datos obra'!$E$7","v":0},{"$f":"'Datos obra'!$E$8","v":0},{"$f":"'Datos obra'!$E$9","v":0},{"$f":"'Datos obra'!$E$10","v":0},{"$f":"'Datos obra'!$E$11","v":0},null,null,null,null,null,{"$f":"IF(M257=\"\",\"\",M257+42)","v":""},null,null,null,null,null,null,"A RELLENAR POR DPTO. COMPRAS"]
[{"$f":"'Datos obra'!$E$5","v":0},{"$f":"'Datos obra'!$E$6","v":0},{"$f":"'Datos obra'!$E$4","v":0},{"$f":"'Datos obra'!$E$7","v":0},{"$f":"'Datos obra'!$E$8","v":0},{"$f":"'Datos obra'!$E$9","v":0},{"$f":"'Datos obra'!$E$10","v":0},{"$f":"'Datos obra'!$E$11","v":0},null,null,null,null,null,"",null,null,null,null,null,null,"A RELLENAR POR DPTO. COMPRAS"]
[{"$f":"'Datos obra'!$E$5","v":0},{"$f":"'Datos obra'!$E$6","v":0},{"$f":"'Datos obra'!$E$4","v":0},{"$f":"'Datos obra'!$E$7","v":0},{"$f":"'Datos obra'!$E$8","v":0},{"$f":"'Datos obra'!$E$9","v":0},{"$f":"'Datos obra'!$E$10","v":0},{"$f":"'Datos obra'!$E$11","v":0},null,null,null,null,null,"",null,null,null,null,null,null,"A RELLENAR POR DPTO. COMPRAS"]
[{"$f":"'Datos obra'!$E$5","v":0},{"$f":"'Datos obra'!$E$6","v":0},{"$f":"'Datos obra'!$E$4","v":0},{"$f":"'Datos obra'!$E$7","v":0},{"$f":"'Datos obra'!$E$8","v":0},{"$f":"'Datos obra'!$E$9","v":0},{"$f":"'Datos obra'!$E$10","v":0},{"$f":"'Datos obra'!$E$11","v":0},null,null,null,null,null,"",null,null,null,null,null,null,"A RELLENAR POR DPTO. COMPRAS"]
[{"$f":"'Datos obra'!$E$5","v":0},{"$f":"'Datos obra'!$E$6","v":0},{"$f":"'Datos obra'!$E$4","v":0},{"$f":"'Datos obra'!$E$7","v":0},{"$f":"'Datos obra'!$E$8","v":0},{"$f":"'Datos obra'!$E$9","v":0},{"$f":"'Datos obra'!$E$10","v":0},{"$f":"'Datos obra'!$E$11","v":0},null,null,null,null,null,"",null,null,null,null,null,null,"A RELLENAR POR DPTO. COMPRAS"]
[{"$f":"'Datos obra'!$E$5","v":0},{"$f":"'Datos obra'!$E$6","v":0},{"$f":"'Datos obra'!$E$4","v":0},{"$f":"'Datos obra'!$E$7","v":0},{"$f":"'Datos obra'!$E$8","v":0},{"$f":"'Datos obra'!$E$9","v":0},{"$f":"'Datos obra'!$E$10","v":0},{"$f":"'Datos obra'!$E$11","v":0},null,null,null,null,null,"",null,null,null,null,null,null,"A RELLENAR POR DPTO. COMPRAS"]
[{"$f":"'Datos obra'!$E$5","v":0},{"$f":"'Datos obra'!$E$6","v":0},{"$f":"'Datos obra'!$E$4","v":0},{"$f":"'Datos obra'!$E$7","v":0},{"$f":"'Datos obra'!$E$8","v":0},{"$f":"'Datos obra'!$E$9","v":0},{"$f":"'Datos obra'!$E$10","v":0},{"$f":"'Datos obra'!$E$11","v":0},null,null,null,null,null,"",null,null,null,null,null,null,"A RELLENAR POR DPTO. COMPRAS"]
[{"$f":"'Datos obra'!$E$5","v":0},{"$f":"'Datos obra'!$E$6","v":0},{"$f":"'Datos obra'!$E$4","v":0},{"$f":"'Datos obra'!$E$7","v":0},{"$f":"'Datos obra'!$E$8","v":0},{"$f":"'Datos obra'!$E$9","v":0},{"$f":"'Datos obra'!$E$10","v":0},{"$f":"'Datos obra'!$E$11","v":0},null,null,null,null,null,"",null,null,null,null,null,null,"A RELLENAR POR DPTO. COMPRAS"]
[{"$f":"'Datos obra'!$E$5","v":0},{"$f":"'Datos obra'!$E$6","v":0},{"$f":"'Datos obra'!$E$4","v":0},{"$f":"'Datos obra'!$E$7","v":0},{"$f":"'Datos obra'!$E$8","v":0},{"$f":"'Datos obra'!$E$9","v":0},{"$f":"'Datos obra'!$E$10","v":0},{"$f":"'Datos obra'!$E$11","v":0},null,null,null,null,null,"",null,null,null,null,null,null,"A RELLENAR POR DPTO. COMPRAS"]
[{"$f":"'Datos obra'!$E$5","v":0},{"$f":"'Datos obra'!$E$6","v":0},{"$f":"'Datos obra'!$E$4","v":0},{"$f":"'Datos obra'!$E$7","v":0},{"$f":"'Datos obra'!$E$8","v":0},{"$f":"'Datos obra'!$E$9","v":0},{"$f":"'Datos obra'!$E$10","v":0},{"$f":"'Datos obra'!$E$11","v":0},null,null,null,null,null,"",null,null,null,null,null,null,"A RELLENAR POR DPTO. COMPRAS"]
[{"$f":"'Datos obra'!$E$5","v":0},{"$f":"'Datos obra'!$E$6","v":0},{"$f":"'Datos obra'!$E$4","v":0},{"$f":"'Datos obra'!$E$7","v":0},{"$f":"'Datos obra'!$E$8","v":0},{"$f":"'Datos obra'!$E$9","v":0},{"$f":"'Datos obra'!$E$10","v":0},{"$f":"'Datos obra'!$E$11","v":0},null,null,null,null,null,"",null,null,null,null,null,null,"A RELLENAR POR DPTO. COMPRAS"]
[{"$f":"'Datos obra'!$E$5","v":0},{"$f":"'Datos obra'!$E$6","v":0},{"$f":"'Datos obra'!$E$4","v":0},{"$f":"'Datos obra'!$E$7","v":0},{"$f":"'Datos obra'!$E$8","v":0},{"$f":"'Datos obra'!$E$9","v":0},{"$f":"'Datos obra'!$E$10","v":0},{"$f":"'Datos obra'!$E$11","v":0},null,null,null,null,null,"",null,null,null,null,null,null,"A RELLENAR POR DPTO. COMPRAS"]
[{"$f":"'Datos obra'!$E$5","v":0},{"$f":"'Datos obra'!$E$6","v":0},{"$f":"'Datos obra'!$E$4","v":0},{"$f":"'Datos obra'!$E$7","v":0},{"$f":"'Datos obra'!$E$8","v":0},{"$f":"'Datos obra'!$E$9","v":0},{"$f":"'Datos obra'!$E$10","v":0},{"$f":"'Datos obra'!$E$11","v":0},null,null,null,null,null,"",null,null,null,null,null,null,"A RELLENAR POR DPTO. COMPRAS"]
[{"$f":"'Datos obra'!$E$5","v":0},{"$f":"'Datos obra'!$E$6","v":0},{"$f":"'Datos obra'!$E$4","v":0},{"$f":"'Datos obra'!$E$7","v":0},{"$f":"'Datos obra'!$E$8","v":0},{"$f":"'Datos obra'!$E$9","v":0},{"$f":"'Datos obra'!$E$10","v":0},{"$f":"'Datos obra'!$E$11","v":0},null,null,null,null,null,"",null,null,null,null,null,null,"A RELLENAR POR DPTO. COMPRAS"]
[{"$f":"'Datos obra'!$E$5","v":0},{"$f":"'Datos obra'!$E$6","v":0},{"$f":"'Datos obra'!$E$4","v":0},{"$f":"'Datos obra'!$E$7","v":0},{"$f":"'Datos obra'!$E$8","v":0},{"$f":"'Datos obra'!$E$9","v":0},{"$f":"'Datos obra'!$E$10","v":0},{"$f":"'Datos obra'!$E$11","v":0},null,null,null,null,null,"",null,null,null,null,null,null,"A RELLENAR POR DPTO. COMPRAS"]
[{"$f":"'Datos obra'!$E$5","v":0},{"$f":"'Datos obra'!$E$6","v":0},{"$f":"'Datos obra'!$E$4","v":0},{"$f":"'Datos obra'!$E$7","v":0},{"$f":"'Datos obra'!$E$8","v":0},{"$f":"'Datos obra'!$E$9","v":0},{"$f":"'Datos obra'!$E$10","v":0},{"$f":"'Datos obra'!$E$11","v":0},null,null,null,null,null,"",null,null,null,null,null,null,"A RELLENAR POR DPTO. COMPRAS"]
[{"$f":"'Datos obra'!$E$5","v":0},{"$f":"'Datos obra'!$E$6","v":0},{"$f":"'Datos obra'!$E$4","v":0},{"$f":"'Datos obra'!$E$7","v":0},{"$f":"'Datos obra'!$E$8","v":0},{"$f":"'Datos obra'!$E$9","v":0},{"$f":"'Datos obra'!$E$10","v":0},{"$f":"'Datos obra'!$E$11","v":0},null,null,null,null,null,"",null,null,null,null,null,null,"A RELLENAR POR DPTO. COMPRAS"]
[{"$f":"'Datos obra'!$E$5","v":0},{"$f":"'Datos obra'!$E$6","v":0},{"$f":"'Datos obra'!$E$4","v":0},{"$f":"'Datos obra'!$E$7","v":0},{"$f":"'Datos obra'!$E$8","v":0},{"$f":"'Datos obra'!$E$9","v":0},{"$f":"'Datos obra'!$E$10","v":0},{"$f":"'Datos obra'!$E$11","v":0},null,null,null,null,null,"",null,null,null,null,null,null,"A RELLENAR POR DPTO. COMPRAS"]
[{"$f":"'Datos obra'!$E$5","v":0},{"$f":"'Datos obra'!$E$6","v":0},{"$f":"'Datos obra'!$E$4","v":0},{"$f":"'Datos obra'!$E$7","v":0},{"$f":"'Datos obra'!$E$8","v":0},{"$f":"'Datos obra'!$E$9","v":0},{"$f":"'Datos obra'!$E$10","v":0},{"$f":"'Datos obra'!$E$11","v":0},null,null,null,null,null,"",null,null,null,null,null,null,"A RELLENAR POR DPTO. COMPRAS"]
[{"$f":"'Datos obra'!$E$5","v":0},{"$f":"'Datos obra'!$E$6","v":0},{"$f":"'Datos obra'!$E$4","v":0},{"$f":"'Datos obra'!$E$7","v":0},{"$f":"'Datos obra'!$E$8","v":0},{"$f":"'Datos obra'!$E$9","v":0},{"$f":"'Datos obra'!$E$10","v":0},{"$f":"'Datos obra'!$E$11","v":0},null,null,null,null,null,"",null,null,null,null,null,null,"A RELLENAR POR DPTO. COMPRAS"]
[{"$f":"'Datos obra'!$E$5","v":0},{"$f":"'Datos obra'!$E$6","v":0},{"$f":"'Datos obra'!$E$4","v":0},{"$f":"'Datos obra'!$E$7","v":0},{"$f":"'Datos obra'!$E$8","v":0},{"$f":"'Datos obra'!$E$9","v":0},{"$f":"'Datos obra'!$E$10","v":0},{"$f":"'Datos obra'!$E$11","v":0},null,null,null,null,null,"",null,null,null,null,null,null,"A RELLENAR POR DPTO. COMPRAS"]
[{"$f":"'Datos obra'!$E$5","v":0},{"$f":"'Datos obra'!$E$6","v":0},{"$f":"'Datos obra'!$E$4","v":0},{"$f":"'Datos obra'!$E$7","v":0},{"$f":"'Datos obra'!$E$8","v":0},{"$f":"'Datos obra'!$E$9","v":0},{"$f":"'Datos obra'!$E$10","v":0},{"$f":"'Datos obra'!$E$11","v":0},null,null,null,null,null,"",null,null,null,null,null,null,"A RELLENAR POR DPTO. COMPRAS"]
[{"$f":"'Datos obra'!$E$5","v":0},{"$f":"'Datos obra'!$E$6","v":0},{"$f":"'Datos obra'!$E$4","v":0},{"$f":"'Datos obra'!$E$7","v":0},{"$f":"'Datos obra'!$E$8","v":0},{"$f":"'Datos obra'!$E$9","v":0},{"$f":"'Datos obra'!$E$10","v":0},{"$f":"'Datos obra'!$E$11","v":0},null,null,null,null,null,"",null,null,null,null,null,null,"A RELLENAR POR DPTO. COMPRAS"]
[{"$f":"'Datos obra'!$E$5","v":0},{"$f":"'Datos obra'!$E$6","v":0},{"$f":"'Datos obra'!$E$4","v":0},{"$f":"'Datos obra'!$E$7","v":0},{"$f":"'Datos obra'!$E$8","v":0},{"$f":"'Datos obra'!$E$9","v":0},{"$f":"'Datos obra'!$E$10","v":0},{"$f":"'Datos obra'!$E$11","v":0},null,null,null,null,null,"",null,null,null,null,null,null,"A RELLENAR POR DPTO. COMPRAS"]
[{"$f":"'Datos obra'!$E$5","v":0},{"$f":"'Datos obra'!$E$6","v":0},{"$f":"'Datos obra'!$E$4","v":0},{"$f":"'Datos obra'!$E$7","v":0},{"$f":"'Datos obra'!$E$8","v":0},{"$f":"'Datos obra'!$E$9","v":0},{"$f":"'Datos obra'!$E$10","v":0},{"$f":"'Datos obra'!$E$11","v":0},null,null,null,null,null,"",null,null,null,null,null,null,"A RELLENAR POR DPTO. COMPRAS"]
[{"$f":"'Datos obra'!$E$5","v":0},{"$f":"'Datos obra'!$E$6","v":0},{"$f":"'Datos obra'!$E$4","v":0},{"$f":"'Datos obra'!$E$7","v":0},{"$f":"'Datos obra'!$E$8","v":0},{"$f":"'Datos obra'!$E$9","v":0},{"$f":"'Datos obra'!$E$10","v":0},{"$f":"'Datos obra'!$E$11","v":0},null,null,null,null,null,"",null,null,null,null,null,null,"A RELLENAR POR DPTO. COMPRAS"]
[{"$f":"'Datos obra'!$E$5","v":0},{"$f":"'Datos obra'!$E$6","v":0},{"$f":"'Datos obra'!$E$4","v":0},{"$f":"'Datos obra'!$E$7","v":0},{"$f":"'Datos obra'!$E$8","v":0},{"$f":"'Datos obra'!$E$9","v":0},{"$f":"'Datos obra'!$E$10","v":0},{"$f":"'Datos obra'!$E$11","v":0},null,null,null,null,null,"",null,null,null,null,null,null,"A RELLENAR POR DPTO. COMPRAS"]
[{"$f":"'Datos obra'!$E$5","v":0},{"$f":"'Datos obra'!$E$6","v":0},{"$f":"'Datos obra'!$E$4","v":0},{"$f":"'Datos obra'!$E$7","v":0},{"$f":"'Datos obra'!$E$8","v":0},{"$f":"'Datos obra'!$E$9","v":0},{"$f":"'Datos obra'!$E$10","v":0},{"$f":"'Datos obra'!$E$11","v":0},null,null,null,null,null,"",null,null,null,null,null,null,"A RELLENAR POR DPTO. COMPRAS"]
[{"$f":"'Datos obra'!$E$5","v":0},{"$f":"'Datos obra'!$E$6","v":0},{"$f":"'Datos obra'!$E$4","v":0},{"$f":"'Datos obra'!$E$7","v":0},{"$f":"'Datos obra'!$E$8","v":0},{"$f":"'Datos obra'!$E$9","v":0},{"$f":"'Datos obra'!$E$10","v":0},{"$f":"'Datos obra'!$E$11","v":0},null,null,null,null,null,"",null,null,null,null,null,null,"A RELLENAR POR DPTO. COMPRAS"]
[{"$f":"'Datos obra'!$E$5","v":0},{"$f":"'Datos obra'!$E$6","v":0},{"$f":"'Datos obra'!$E$4","v":0},{"$f":"'Datos obra'!$E$7","v":0},{"$f":"'Datos obra'!$E$8","v":0},{"$f":"'Datos obra'!$E$9","v":0},{"$f":"'Datos obra'!$E$10","v":0},{"$f":"'Datos obra'!$E$11","v":0},null,null,null,null,null,"",null,null,null,null,null,null,"A RELLENAR POR DPTO. COMPRAS"]
[{"$f":"'Datos obra'!$E$5","v":0},{"$f":"'Datos obra'!$E$6","v":0},{"$f":"'Datos obra'!$E$4","v":0},{"$f":"'Datos obra'!$E$7","v":0},{"$f":"'Datos obra'!$E$8","v":0},{"$f":"'Datos obra'!$E$9","v":0},{"$f":"'Datos obra'!$E$10","v":0},{"$f":"'Datos obra'!$E$11","v":0},null,null,null,null,null,"",null,null,null,null,null,null,"A RELLENAR POR DPTO. COMPRAS"]
[{"$f":"'Datos obra'!$E$5","v":0},{"$f":"'Datos obra'!$E$6","v":0},{"$f":"'Datos obra'!$E$4","v":0},{"$f":"'Datos obra'!$E$7","v":0},{"$f":"'Datos obra'!$E$8","v":0},{"$f":"'Datos obra'!$E$9","v":0},{"$f":"'Datos obra'!$E$10","v":0},{"$f":"'Datos obra'!$E$11","v":0},null,null,null,null,null,"",null,null,null,null,null,null,"A RELLENAR POR DPTO. COMPRAS"]
[{"$f":"'Datos obra'!$E$5","v":0},{"$f":"'Datos obra'!$E$6","v":0},{"$f":"'Datos obra'!$E$4","v":0},{"$f":"'Datos obra'!$E$7","v":0},{"$f":"'Datos obra'!$E$8","v":0},{"$f":"'Datos obra'!$E$9","v":0},{"$f":"'Datos obra'!$E$10","v":0},{"$f":"'Datos obra'!$E$11","v":0},null,null,null,null,null,"",null,null,null,null,null,null,"A RELLENAR POR DPTO. COMPRAS"]
[{"$f":"'Datos obra'!$E$5","v":0},{"$f":"'Datos obra'!$E$6","v":0},{"$f":"'Datos obra'!$E$4","v":0},{"$f":"'Datos obra'!$E$7","v":0},{"$f":"'Datos obra'!$E$8","v":0},{"$f":"'Datos obra'!$E$9","v":0},{"$f":"'Datos obra'!$E$10","v":0},{"$f":"'Datos obra'!$E$11","v":0},null,null,null,null,null,"",null,null,null,null,null,null,"A RELLENAR POR DPTO. COMPRAS"]
[{"$f":"'Datos obra'!$E$5","v":0},{"$f":"'Datos obra'!$E$6","v":0},{"$f":"'Datos obra'!$E$4","v":0},{"$f":"'Datos obra'!$E$7","v":0},{"$f":"'Datos obra'!$E$8","v":0},{"$f":"'Datos obra'!$E$9","v":0},{"$f":"'Datos obra'!$E$10","v":0},{"$f":"'Datos obra'!$E$11","v":0},null,null,null,null,null,"",null,null,null,null,null,null,"A RELLENAR POR DPTO. COMPRAS"]
[{"$f":"'Datos obra'!$E$5","v":0},{"$f":"'Datos obra'!$E$6","v":0},{"$f":"'Datos obra'!$E$4","v":0},{"$f":"'Datos obra'!$E$7","v":0},{"$f":"'Datos obra'!$E$8","v":0},{"$f":"'Datos obra'!$E$9","v":0},{"$f":"'Datos obra'!$E$10","v":0},{"$f":"'Datos obra'!$E$11","v":0},null,null,null,null,null,"",null,null,null,null,null,null,"A RELLENAR POR DPTO. COMPRAS"]
[{"$f":"'Datos obra'!$E$5","v":0},{"$f":"'Datos obra'!$E$6","v":0},{"$f":"'Datos obra'!$E$4","v":0},{"$f":"'Datos obra'!$E$7","v":0},{"$f":"'Datos obra'!$E$8","v":0},{"$f":"'Datos obra'!$E$9","v":0},{"$f":"'Datos obra'!$E$10","v":0},{"$f":"'Datos obra'!$E$11","v":0},null,null,null,null,null,"",null,null,null,null,null,null,"A RELLENAR POR DPTO. COMPRAS"]
[{"$f":"'Datos obra'!$E$5","v":0},{"$f":"'Datos obra'!$E$6","v":0},{"$f":"'Datos obra'!$E$4","v":0},{"$f":"'Datos obra'!$E$7","v":0},{"$f":"'Datos obra'!$E$8","v":0},{"$f":"'Datos obra'!$E$9","v":0},{"$f":"'Datos obra'!$E$10","v":0},{"$f":"'Datos obra'!$E$11","v":0},null,null,null,null,null,"",null,null,null,null,null,null,"A RELLENAR POR DPTO. COMPRAS"]
[{"$f":"'Datos obra'!$E$5","v":0},{"$f":"'Datos obra'!$E$6","v":0},{"$f":"'Datos obra'!$E$4","v":0},{"$f":"'Datos obra'!$E$7","v":0},{"$f":"'Datos obra'!$E$8","v":0},{"$f":"'Datos obra'!$E$9","v":0},{"$f":"'Datos obra'!$E$10","v":0},{"$f":"'Datos obra'!$E$11","v":0},null,null,null,null,null,"",null,null,null,null,null,null,"A RELLENAR POR DPTO. COMPRAS"]
[{"$f":"'Datos obra'!$E$5","v":0},{"$f":"'Datos obra'!$E$6","v":0},{"$f":"'Datos obra'!$E$4","v":0},{"$f":"'Datos obra'!$E$7","v":0},{"$f":"'Datos obra'!$E$8","v":0},{"$f":"'Datos obra'!$E$9","v":0},{"$f":"'Datos obra'!$E$10","v":0},{"$f":"'Datos obra'!$E$11","v":0},null,null,null,null,null,"",null,null,null,null,null,null,"A RELLENAR POR DPTO. COMPRAS"]
[{"$f":"'Datos obra'!$E$5","v":0},{"$f":"'Datos obra'!$E$6","v":0},{"$f":"'Datos obra'!$E$4","v":0},{"$f":"'Datos obra'!$E$7","v":0},{"$f":"'Datos obra'!$E$8","v":0},{"$f":"'Datos obra'!$E$9","v":0},{"$f":"'Datos obra'!$E$10","v":0},{"$f":"'Datos obra'!$E$11","v":0},null,null,null,null,null,"",null,null,null,null,null,null,"A RELLENAR POR DPTO. COMPRAS"]
[{"$f":"'Datos obra'!$E$5","v":0},{"$f":"'Datos obra'!$E$6","v":0},{"$f":"'Datos obra'!$E$4","v":0},{"$f":"'Datos obra'!$E$7","v":0},{"$f":"'Datos obra'!$E$8","v":0},{"$f":"'Datos obra'!$E$9","v":0},{"$f":"'Datos obra'!$E$10","v":0},{"$f":"'Datos obra'!$E$11","v":0},null,null,null,null,null,"",null,null,null,null,null,null,"A RELLENAR POR DPTO. COMPRAS"]
[{"$f":"'Datos obra'!$E$5","v":0},{"$f":"'Datos obra'!$E$6","v":0},{"$f":"'Datos obra'!$E$4","v":0},{"$f":"'Datos obra'!$E$7","v":0},{"$f":"'Datos obra'!$E$8","v":0},{"$f":"'Datos obra'!$E$9","v":0},{"$f":"'Datos obra'!$E$10","v":0},{"$f":"'Datos obra'!$E$11","v":0},null,null,null,null,null,"",null,null,null,null,null,null,"A RELLENAR POR DPTO. COMPRAS"]
[{"$f":"'Datos obra'!$E$5","v":0},{"$f":"'Datos obra'!$E$6","v":0},{"$f":"'Datos obra'!$E$4","v":0},{"$f":"'Datos obra'!$E$7","v":0},{"$f":"'Datos obra'!$E$8","v":0},{"$f":"'Datos obra'!$E$9","v":0},{"$f":"'Datos obra'!$E$10","v":0},{"$f":"'Datos obra'!$E$11","v":0},null,null,null,null,null,"",null,null,null,null,null,null,"A RELLENAR POR DPTO. COMPRAS"]
[{"$f":"'Datos obra'!$E$5","v":0},{"$f":"'Datos obra'!$E$6","v":0},{"$f":"'Datos obra'!$E$4","v":0},{"$f":"'Datos obra'!$E$7","v":0},{"$f":"'Datos obra'!$E$8","v":0},{"$f":"'Datos obra'!$E$9","v":0},{"$f":"'Datos obra'!$E$10","v":0},{"$f":"'Datos obra'!$E$11","v":0},null,null,null,null,null,"",null,null,null,null,null,null,"A RELLENAR POR DPTO. COMPRAS"]
[{"$f":"'Datos obra'!$E$5","v":0},{"$f":"'Datos obra'!$E$6","v":0},{"$f":"'Datos obra'!$E$4","v":0},{"$f":"'Datos obra'!$E$7","v":0},{"$f":"'Datos obra'!$E$8","v":0},{"$f":"'Datos obra'!$E$9","v":0},{"$f":"'Datos obra'!$E$10","v":0},{"$f":"'Datos obra'!$E$11","v":0},null,null,null,null,null,"",null,null,null,null,null,null,"A RELLENAR POR DPTO. COMPRAS"]
[{"$f":"'Datos obra'!$E$5","v":0},{"$f":"'Datos obra'!$E$6","v":0},{"$f":"'Datos obra'!$E$4","v":0},{"$f":"'Datos obra'!$E$7","v":0},{"$f":"'Datos obra'!$E$8","v":0},{"$f":"'Datos obra'!$E$9","v":0},{"$f":"'Datos obra'!$E$10","v":0},{"$f":"'Datos obra'!$E$11","v":0},null,null,null,null,null,"",null,null,null,null,null,null,"A RELLENAR POR DPTO. COMPRAS"]
[{"$f":"'Datos obra'!$E$5","v":0},{"$f":"'Datos obra'!$E$6","v":0},{"$f":"'Datos obra'!$E$4","v":0},{"$f":"'Datos obra'!$E$7","v":0},{"$f":"'Datos obra'!$E$8","v":0},{"$f":"'Datos obra'!$E$9","v":0},{"$f":"'Datos obra'!$E$10","v":0},{"$f":"'Datos obra'!$E$11","v":0},null,null,null,null,null,"",null,null,null,null,null,null,"A RELLENAR POR DPTO. COMPRAS"]
[{"$f":"'Datos obra'!$E$5","v":0},{"$f":"'Datos obra'!$E$6","v":0},{"$f":"'Datos obra'!$E$4","v":0},{"$f":"'Datos obra'!$E$7","v":0},{"$f":"'Datos obra'!$E$8","v":0},{"$f":"'Datos obra'!$E$9","v":0},{"$f":"'Datos obra'!$E$10","v":0},{"$f":"'Datos obra'!$E$11","v":0},null,null,null,null,null,"",null,null,null,null,null,null,"A RELLENAR POR DPTO. COMPRAS"]
[{"$f":"'Datos obra'!$E$5","v":0},{"$f":"'Datos obra'!$E$6","v":0},{"$f":"'Datos obra'!$E$4","v":0},{"$f":"'Datos obra'!$E$7","v":0},{"$f":"'Datos obra'!$E$8","v":0},{"$f":"'Datos obra'!$E$9","v":0},{"$f":"'Datos obra'!$E$10","v":0},{"$f":"'Datos obra'!$E$11","v":0},null,null,null,null,null,"",null,null,null,null,null,null,"A RELLENAR POR DPTO. COMPRAS"]
[{"$f":"'Datos obra'!$E$5","v":0},{"$f":"'Datos obra'!$E$6","v":0},{"$f":"'Datos obra'!$E$4","v":0},{"$f":"'Datos obra'!$E$7","v":0},{"$f":"'Datos obra'!$E$8","v":0},{"$f":"'Datos obra'!$E$9","v":0},{"$f":"'Datos obra'!$E$10","v":0},{"$f":"'Datos obra'!$E$11","v":0},null,null,null,null,null,"",null,null,null,null,null,null,"A RELLENAR POR DPTO. COMPRAS"]
[{"$f":"'Datos obra'!$E$5","v":0},{"$f":"'Datos obra'!$E$6","v":0},{"$f":"'Datos obra'!$E$4","v":0},{"$f":"'Datos obra'!$E$7","v":0},{"$f":"'Datos obra'!$E$8","v":0},{"$f":"'Datos obra'!$E$9","v":0},{"$f":"'Datos obra'!$E$10","v":0},{"$f":"'Datos obra'!$E$11","v":0},null,null,null,null,null,"",null,null,null,null,null,null,"A RELLENAR POR DPTO. COMPRAS"]
[{"$f":"'Datos obra'!$E$5","v":0},{"$f":"'Datos obra'!$E$6","v":0},{"$f":"'Datos obra'!$E$4","v":0},{"$f":"'Datos obra'!$E$7","v":0},{"$f":"'Datos obra'!$E$8","v":0},{"$f":"'Datos obra'!$E$9","v":0},{"$f":"'Datos obra'!$E$10","v":0},{"$f":"'Datos obra'!$E$11","v":0},null,null,null,null,null,"",null,null,null,null,null,null,"A RELLENAR POR DPTO. COMPRAS"]
[{"$f":"'Datos obra'!$E$5","v":0},{"$f":"'Datos obra'!$E$6","v":0},{"$f":"'Datos obra'!$E$4","v":0},{"$f":"'Datos obra'!$E$7","v":0},{"$f":"'Datos obra'!$E$8","v":0},{"$f":"'Datos obra'!$E$9","v":0},{"$f":"'Datos obra'!$E$10","v":0},{"$f":"'Datos obra'!$E$11","v":0},null,null,null,null,null,"",null,null,null,null,null,null,"A RELLENAR POR DPTO. COMPRAS"]
[{"$f":"'Datos obra'!$E$5","v":0},{"$f":"'Datos obra'!$E$6","v":0},{"$f":"'Datos obra'!$E$4","v":0},{"$f":"'Datos obra'!$E$7","v":0},{"$f":"'Datos obra'!$E$8","v":0},{"$f":"'Datos obra'!$E$9","v":0},{"$f":"'Datos obra'!$E$10","v":0},{"$f":"'Datos obra'!$E$11","v":0},null,null,null,null,null,"",null,null,null,null,null,null,"A RELLENAR POR DPTO. COMPRAS"]
[{"$f":"'Datos obra'!$E$5","v":0},{"$f":"'Datos obra'!$E$6","v":0},{"$f":"'Datos obra'!$E$4","v":0},{"$f":"'Datos obra'!$E$7","v":0},{"$f":"'Datos obra'!$E$8","v":0},{"$f":"'Datos obra'!$E$9","v":0},{"$f":"'Datos obra'!$E$10","v":0},{"$f":"'Datos obra'!$E$11","v":0},null,null,null,null,null,"",null,null,null,null,null,null,"A RELLENAR POR DPTO. COMPRAS"]
[{"$f":"'Datos obra'!$E$5","v":0},{"$f":"'Datos obra'!$E$6","v":0},{"$f":"'Datos obra'!$E$4","v":0},{"$f":"'Datos obra'!$E$7","v":0},{"$f":"'Datos obra'!$E$8","v":0},{"$f":"'Datos obra'!$E$9","v":0},{"$f":"'Datos obra'!$E$10","v":0},{"$f":"'Datos obra'!$E$11","v":0},null,null,null,null,null,"",null,null,null,null,null,null,"A RELLENAR POR DPTO. COMPRAS"]
[{"$f":"'Datos obra'!$E$5","v":0},{"$f":"'Datos obra'!$E$6","v":0},{"$f":"'Datos obra'!$E$4","v":0},{"$f":"'Datos obra'!$E$7","v":0},{"$f":"'Datos obra'!$E$8","v":0},{"$f":"'Datos obra'!$E$9","v":0},{"$f":"'Datos obra'!$E$10","v":0},{"$f":"'Datos obra'!$E$11","v":0},null,null,null,null,null,"",null,null,null,null,null,null,"A RELLENAR POR DPTO. COMPRAS"]
[{"$f":"'Datos obra'!$E$5","v":0},{"$f":"'Datos obra'!$E$6","v":0},{"$f":"'Datos obra'!$E$4","v":0},{"$f":"'Datos obra'!$E$7","v":0},{"$f":"'Datos obra'!$E$8","v":0},{"$f":"'Datos obra'!$E$9","v":0},{"$f":"'Datos obra'!$E$10","v":0},{"$f":"'Datos obra'!$E$11","v":0},null,null,null,null,null,"",null,null,null,null,null,null,"A RELLENAR POR DPTO. COMPRAS"]
[{"$f":"'Datos obra'!$E$5","v":0},{"$f":"'Datos obra'!$E$6","v":0},{"$f":"'Datos obra'!$E$4","v":0},{"$f":"'Datos obra'!$E$7","v":0},{"$f":"'Datos obra'!$E$8","v":0},{"$f":"'Datos obra'!$E$9","v":0},{"$f":"'Datos obra'!$E$10","v":0},{"$f":"'Datos obra'!$E$11","v":0},null,null,null,null,null,"",null,null,null,null,null,null,"A RELLENAR POR DPTO. COMPRAS"]
[{"$f":"'Datos obra'!$E$5","v":0},{"$f":"'Datos obra'!$E$6","v":0},{"$f":"'Datos obra'!$E$4","v":0},{"$f":"'Datos obra'!$E$7","v":0},{"$f":"'Datos obra'!$E$8","v":0},{"$f":"'Datos obra'!$E$9","v":0},{"$f":"'Datos obra'!$E$10","v":0},{"$f":"'Datos obra'!$E$11","v":0},null,null,null,null,null,"",null,null,null,null,null,null,"A RELLENAR POR DPTO. COMPRAS"]
[{"$f":"'Datos obra'!$E$5","v":0},{"$f":"'Datos obra'!$E$6","v":0},{"$f":"'Datos obra'!$E$4","v":0},{"$f":"'Datos obra'!$E$7","v":0},{"$f":"'Datos obra'!$E$8","v":0},{"$f":"'Datos obra'!$E$9","v":0},{"$f":"'Datos obra'!$E$10","v":0},{"$f":"'Datos obra'!$E$11","v":0},null,null,null,null,null,"",null,null,null,null,null,null,"A RELLENAR POR DPTO. COMPRAS"]
[{"$f":"'Datos obra'!$E$5","v":0},{"$f":"'Datos obra'!$E$6","v":0},{"$f":"'Datos obra'!$E$4","v":0},{"$f":"'Datos obra'!$E$7","v":0},{"$f":"'Datos obra'!$E$8","v":0},{"$f":"'Datos obra'!$E$9","v":0},{"$f":"'Datos obra'!$E$10","v":0},{"$f":"'Datos obra'!$E$11","v":0},null,null,null,null,null,"",null,null,null,null,null,null,"A RELLENAR POR DPTO. COMPRAS"]
[{"$f":"'Datos obra'!$E$5","v":0},{"$f":"'Datos obra'!$E$6","v":0},{"$f":"'Datos obra'!$E$4","v":0},{"$f":"'Datos obra'!$E$7","v":0},{"$f":"'Datos obra'!$E$8","v":0},{"$f":"'Datos obra'!$E$9","v":0},{"$f":"'Datos obra'!$E$10","v":0},{"$f":"'Datos obra'!$E$11","v":0},null,null,null,null,null,"",null,null,null,null,null,null,"A RELLENAR POR DPTO. COMPRAS"]
[{"$f":"'Datos obra'!$E$5","v":0},{"$f":"'Datos obra'!$E$6","v":0},{"$f":"'Datos obra'!$E$4","v":0},{"$f":"'Datos obra'!$E$7","v":0},{"$f":"'Datos obra'!$E$8","v":0},{"$f":"'Datos obra'!$E$9","v":0},{"$f":"'Datos obra'!$E$10","v":0},{"$f":"'Datos obra'!$E$11","v":0},null,null,null,null,null,{"$f":"IF(M321=\"\",\"\",M321+42)","v":""},null,null,null,null,null,null,"A RELLENAR POR DPTO. COMPRAS"]
[{"$f":"'Datos obra'!$E$5","v":0},{"$f":"'Datos obra'!$E$6","v":0},{"$f":"'Datos obra'!$E$4","v":0},{"$f":"'Datos obra'!$E$7","v":0},{"$f":"'Datos obra'!$E$8","v":0},{"$f":"'Datos obra'!$E$9","v":0},{"$f":"'Datos obra'!$E$10","v":0},{"$f":"'Datos obra'!$E$11","v":0},null,null,null,null,null,"",null,null,null,null,null,null,"A RELLENAR POR DPTO. COMPRAS"]
[{"$f":"'Datos obra'!$E$5","v":0},{"$f":"'Datos obra'!$E$6","v":0},{"$f":"'Datos obra'!$E$4","v":0},{"$f":"'Datos obra'!$E$7","v":0},{"$f":"'Datos obra'!$E$8","v":0},{"$f":"'Datos obra'!$E$9","v":0},{"$f":"'Datos obra'!$E$10","v":0},{"$f":"'Datos obra'!$E$11","v":0},null,null,null,null,null,"",null,null,null,null,null,null,"A RELLENAR POR DPTO. COMPRAS"]
[{"$f":"'Datos obra'!$E$5","v":0},{"$f":"'Datos obra'!$E$6","v":0},{"$f":"'Datos obra'!$E$4","v":0},{"$f":"'Datos obra'!$E$7","v":0},{"$f":"'Datos obra'!$E$8","v":0},{"$f":"'Datos obra'!$E$9","v":0},{"$f":"'Datos obra'!$E$10","v":0},{"$f":"'Datos obra'!$E$11","v":0},null,null,null,null,null,"",null,null,null,null,null,null,"A RELLENAR POR DPTO. COMPRAS"]
[{"$f":"'Datos obra'!$E$5","v":0},{"$f":"'Datos obra'!$E$6","v":0},{"$f":"'Datos obra'!$E$4","v":0},{"$f":"'Datos obra'!$E$7","v":0},{"$f":"'Datos obra'!$E$8","v":0},{"$f":"'Datos obra'!$E$9","v":0},{"$f":"'Datos obra'!$E$10","v":0},{"$f":"'Datos obra'!$E$11","v":0},null,null,null,null,null,"",null,null,null,null,null,null,"A RELLENAR POR DPTO. COMPRAS"]
[{"$f":"'Datos obra'!$E$5","v":0},{"$f":"'Datos obra'!$E$6","v":0},{"$f":"'Datos obra'!$E$4","v":0},{"$f":"'Datos obra'!$E$7","v":0},{"$f":"'Datos obra'!$E$8","v":0},{"$f":"'Datos obra'!$E$9","v":0},{"$f":"'Datos obra'!$E$10","v":0},{"$f":"'Datos obra'!$E$11","v":0},null,null,null,null,null,"",null,null,null,null,null,null,"A RELLENAR POR DPTO. COMPRAS"]
[{"$f":"'Datos obra'!$E$5","v":0},{"$f":"'Datos obra'!$E$6","v":0},{"$f":"'Datos obra'!$E$4","v":0},{"$f":"'Datos obra'!$E$7","v":0},{"$f":"'Datos obra'!$E$8","v":0},{"$f":"'Datos obra'!$E$9","v":0},{"$f":"'Datos obra'!$E$10","v":0},{"$f":"'Datos obra'!$E$11","v":0},null,null,null,null,null,"",null,null,null,null,null,null,"A RELLENAR POR DPTO. COMPRAS"]
[{"$f":"'Datos obra'!$E$5","v":0},{"$f":"'Datos obra'!$E$6","v":0},{"$f":"'Datos obra'!$E$4","v":0},{"$f":"'Datos obra'!$E$7","v":0},{"$f":"'Datos obra'!$E$8","v":0},{"$f":"'Datos obra'!$E$9","v":0},{"$f":"'Datos obra'!$E$10","v":0},{"$f":"'Datos obra'!$E$11","v":0},null,null,null,null,null,"",null,null,null,null,null,null,"A RELLENAR POR DPTO. COMPRAS"]
[{"$f":"'Datos obra'!$E$5","v":0},{"$f":"'Datos obra'!$E$6","v":0},{"$f":"'Datos obra'!$E$4","v":0},{"$f":"'Datos obra'!$E$7","v":0},{"$f":"'Datos obra'!$E$8","v":0},{"$f":"'Datos obra'!$E$9","v":0},{"$f":"'Datos obra'!$E$10","v":0},{"$f":"'Datos obra'!$E$11","v":0},null,null,null,null,null,"",null,null,null,null,null,null,"A RELLENAR POR DPTO. COMPRAS"]
[{"$f":"'Datos obra'!$E$5","v":0},{"$f":"'Datos obra'!$E$6","v":0},{"$f":"'Datos obra'!$E$4","v":0},{"$f":"'Datos obra'!$E$7","v":0},{"$f":"'Datos obra'!$E$8","v":0},{"$f":"'Datos obra'!$E$9","v":0},{"$f":"'Datos obra'!$E$10","v":0},{"$f":"'Datos obra'!$E$11","v":0},null,null,null,null,null,"",null,null,null,null,null,null,"A RELLENAR POR DPTO. COMPRAS"]
[{"$f":"'Datos obra'!$E$5","v":0},{"$f":"'Datos obra'!$E$6","v":0},{"$f":"'Datos obra'!$E$4","v":0},{"$f":"'Datos obra'!$E$7","v":0},{"$f":"'Datos obra'!$E$8","v":0},{"$f":"'Datos obra'!$E$9","v":0},{"$f":"'Datos obra'!$E$10","v":0},{"$f":"'Datos obra'!$E$11","v":0},null,null,null,null,null,"",null,null,null,null,null,null,"A RELLENAR POR DPTO. COMPRAS"]
[{"$f":"'Datos obra'!$E$5","v":0},{"$f":"'Datos obra'!$E$6","v":0},{"$f":"'Datos obra'!$E$4","v":0},{"$f":"'Datos obra'!$E$7","v":0},{"$f":"'Datos obra'!$E$8","v":0},{"$f":"'Datos obra'!$E$9","v":0},{"$f":"'Datos obra'!$E$10","v":0},{"$f":"'Datos obra'!$E$11","v":0},null,null,null,null,null,"",null,null,null,null,null,null,"A RELLENAR POR DPTO. COMPRAS"]
[{"$f":"'Datos obra'!$E$5","v":0},{"$f":"'Datos obra'!$E$6","v":0},{"$f":"'Datos obra'!$E$4","v":0},{"$f":"'Datos obra'!$E$7","v":0},{"$f":"'Datos obra'!$E$8","v":0},{"$f":"'Datos obra'!$E$9","v":0},{"$f":"'Datos obra'!$E$10","v":0},{"$f":"'Datos obra'!$E$11","v":0},null,null,null,null,null,"",null,null,null,null,null,null,"A RELLENAR POR DPTO. COMPRAS"]
[{"$f":"'Datos obra'!$E$5","v":0},{"$f":"'Datos obra'!$E$6","v":0},{"$f":"'Datos obra'!$E$4","v":0},{"$f":"'Datos obra'!$E$7","v":0},{"$f":"'Datos obra'!$E$8","v":0},{"$f":"'Datos obra'!$E$9","v":0},{"$f":"'Datos obra'!$E$10","v":0},{"$f":"'Datos obra'!$E$11","v":0},null,null,null,null,null,"",null,null,null,null,null,null,"A RELLENAR POR DPTO. COMPRAS"]
[{"$f":"'Datos obra'!$E$5","v":0},{"$f":"'Datos obra'!$E$6","v":0},{"$f":"'Datos obra'!$E$4","v":0},{"$f":"'Datos obra'!$E$7","v":0},{"$f":"'Datos obra'!$E$8","v":0},{"$f":"'Datos obra'!$E$9","v":0},{"$f":"'Datos obra'!$E$10","v":0},{"$f":"'Datos obra'!$E$11","v":0},null,null,null,null,null,"",null,null,null,null,null,null,"A RELLENAR POR DPTO. COMPRAS"]
[{"$f":"'Datos obra'!$E$5","v":0},{"$f":"'Datos obra'!$E$6","v":0},{"$f":"'Datos obra'!$E$4","v":0},{"$f":"'Datos obra'!$E$7","v":0},{"$f":"'Datos obra'!$E$8","v":0},{"$f":"'Datos obra'!$E$9","v":0},{"$f":"'Datos obra'!$E$10","v":0},{"$f":"'Datos obra'!$E$11","v":0},null,null,null,null,null,"",null,null,null,null,null,null,"A RELLENAR POR DPTO. COMPRAS"]
[{"$f":"'Datos obra'!$E$5","v":0},{"$f":"'Datos obra'!$E$6","v":0},{"$f":"'Datos obra'!$E$4","v":0},{"$f":"'Datos obra'!$E$7","v":0},{"$f":"'Datos obra'!$E$8","v":0},{"$f":"'Datos obra'!$E$9","v":0},{"$f":"'Datos obra'!$E$10","v":0},{"$f":"'Datos obra'!$E$11","v":0},null,null,null,null,null,"",null,null,null,null,null,null,"A RELLENAR POR DPTO. COMPRAS"]
[{"$f":"'Datos obra'!$E$5","v":0},{"$f":"'Datos obra'!$E$6","v":0},{"$f":"'Datos obra'!$E$4","v":0},{"$f":"'Datos obra'!$E$7","v":0},{"$f":"'Datos obra'!$E$8","v":0},{"$f":"'Datos obra'!$E$9","v":0},{"$f":"'Datos obra'!$E$10","v":0},{"$f":"'Datos obra'!$E$11","v":0},null,null,null,null,null,"",null,null,null,null,null,null,"A RELLENAR POR DPTO. COMPRAS"]
[{"$f":"'Datos obra'!$E$5","v":0},{"$f":"'Datos obra'!$E$6","v":0},{"$f":"'Datos obra'!$E$4","v":0},{"$f":"'Datos obra'!$E$7","v":0},{"$f":"'Datos obra'!$E$8","v":0},{"$f":"'Datos obra'!$E$9","v":0},{"$f":"'Datos obra'!$E$10","v":0},{"$f":"'Datos obra'!$E$11","v":0},null,null,null,null,null,"",null,null,null,null,null,null,"A RELLENAR POR DPTO. COMPRAS"]
[{"$f":"'Datos obra'!$E$5","v":0},{"$f":"'Datos obra'!$E$6","v":0},{"$f":"'Datos obra'!$E$4","v":0},{"$f":"'Datos obra'!$E$7","v":0},{"$f":"'Datos obra'!$E$8","v":0},{"$f":"'Datos obra'!$E$9","v":0},{"$f":"'Datos obra'!$E$10","v":0},{"$f":"'Datos obra'!$E$11","v":0},null,null,null,null,null,"",null,null,null,null,null,null,"A RELLENAR POR DPTO. COMPRAS"]
[{"$f":"'Datos obra'!$E$5","v":0},{"$f":"'Datos obra'!$E$6","v":0},{"$f":"'Datos obra'!$E$4","v":0},{"$f":"'Datos obra'!$E$7","v":0},{"$f":"'Datos obra'!$E$8","v":0},{"$f":"'Datos obra'!$E$9","v":0},{"$f":"'Datos obra'!$E$10","v":0},{"$f":"'Datos obra'!$E$11","v":0},null,null,null,null,null,"",null,null,null,null,null,null,"A RELLENAR POR DPTO. COMPRAS"]
[{"$f":"'Datos obra'!$E$5","v":0},{"$f":"'Datos obra'!$E$6","v":0},{"$f":"'Datos obra'!$E$4","v":0},{"$f":"'Datos obra'!$E$7","v":0},{"$f":"'Datos obra'!$E$8","v":0},{"$f":"'Datos obra'!$E$9","v":0},{"$f":"'Datos obra'!$E$10","v":0},{"$f":"'Datos obra'!$E$11","v":0},null,null,null,null,null,"",null,null,null,null,null,null,"A RELLENAR POR DPTO. COMPRAS"]
[{"$f":"'Datos obra'!$E$5","v":0},{"$f":"'Datos obra'!$E$6","v":0},{"$f":"'Datos obra'!$E$4","v":0},{"$f":"'Datos obra'!$E$7","v":0},{"$f":"'Datos obra'!$E$8","v":0},{"$f":"'Datos obra'!$E$9","v":0},{"$f":"'Datos obra'!$E$10","v":0},{"$f":"'Datos obra'!$E$11","v":0},null,null,null,null,null,"",null,null,null,null,null,null,"A RELLENAR POR DPTO. COMPRAS"]
[{"$f":"'Datos obra'!$E$5","v":0},{"$f":"'Datos obra'!$E$6","v":0},{"$f":"'Datos obra'!$E$4","v":0},{"$f":"'Datos obra'!$E$7","v":0},{"$f":"'Datos obra'!$E$8","v":0},{"$f":"'Datos obra'!$E$9","v":0},{"$f":"'Datos obra'!$E$10","v":0},{"$f":"'Datos obra'!$E$11","v":0},null,null,null,null,null,"",null,null,null,null,null,null,"A RELLENAR POR DPTO. COMPRAS"]
[{"$f":"'Datos obra'!$E$5","v":0},{"$f":"'Datos obra'!$E$6","v":0},{"$f":"'Datos obra'!$E$4","v":0},{"$f":"'Datos obra'!$E$7","v":0},{"$f":"'Datos obra'!$E$8","v":0},{"$f":"'Datos obra'!$E$9","v":0},{"$f":"'Datos obra'!$E$10","v":0},{"$f":"'Datos obra'!$E$11","v":0},null,null,null,null,null,"",null,null,null,null,null,null,"A RELLENAR POR DPTO. COMPRAS"]
[{"$f":"'Datos obra'!$E$5","v":0},{"$f":"'Datos obra'!$E$6","v":0},{"$f":"'Datos obra'!$E$4","v":0},{"$f":"'Datos obra'!$E$7","v":0},{"$f":"'Datos obra'!$E$8","v":0},{"$f":"'Datos obra'!$E$9","v":0},{"$f":"'Datos obra'!$E$10","v":0},{"$f":"'Datos obra'!$E$11","v":0},null,null,null,null,null,"",null,null,null,null,null,null,"A RELLENAR POR DPTO. COMPRAS"]
[{"$f":"'Datos obra'!$E$5","v":0},{"$f":"'Datos obra'!$E$6","v":0},{"$f":"'Datos obra'!$E$4","v":0},{"$f":"'Datos obra'!$E$7","v":0},{"$f":"'Datos obra'!$E$8","v":0},{"$f":"'Datos obra'!$E$9","v":0},{"$f":"'Datos obra'!$E$10","v":0},{"$f":"'Datos obra'!$E$11","v":0},null,null,null,null,null,"",null,null,null,null,null,null,"A RELLENAR POR DPTO. COMPRAS"]
[{"$f":"'Datos obra'!$E$5","v":0},{"$f":"'Datos obra'!$E$6","v":0},{"$f":"'Datos obra'!$E$4","v":0},{"$f":"'Datos obra'!$E$7","v":0},{"$f":"'Datos obra'!$E$8","v":0},{"$f":"'Datos obra'!$E$9","v":0},{"$f":"'Datos obra'!$E$10","v":0},{"$f":"'Datos obra'!$E$11","v":0},null,null,null,null,null,"",null,null,null,null,null,null,"A RELLENAR POR DPTO. COMPRAS"]
[{"$f":"'Datos obra'!$E$5","v":0},{"$f":"'Datos obra'!$E$6","v":0},{"$f":"'Datos obra'!$E$4","v":0},{"$f":"'Datos obra'!$E$7","v":0},{"$f":"'Datos obra'!$E$8","v":0},{"$f":"'Datos obra'!$E$9","v":0},{"$f":"'Datos obra'!$E$10","v":0},{"$f":"'Datos obra'!$E$11","v":0},null,null,null,null,null,"",null,null,null,null,null,null,"A RELLENAR POR DPTO. COMPRAS"]
[{"$f":"'Datos obra'!$E$5","v":0},{"$f":"'Datos obra'!$E$6","v":0},{"$f":"'Datos obra'!$E$4","v":0},{"$f":"'Datos obra'!$E$7","v":0},{"$f":"'Datos obra'!$E$8","v":0},{"$f":"'Datos obra'!$E$9","v":0},{"$f":"'Datos obra'!$E$10","v":0},{"$f":"'Datos obra'!$E$11","v":0},null,null,null,null,null,"",null,null,null,null,null,null,"A RELLENAR POR DPTO. COMPRAS"]
[{"$f":"'Datos obra'!$E$5","v":0},{"$f":"'Datos obra'!$E$6","v":0},{"$f":"'Datos obra'!$E$4","v":0},{"$f":"'Datos obra'!$E$7","v":0},{"$f":"'Datos obra'!$E$8","v":0},{"$f":"'Datos obra'!$E$9","v":0},{"$f":"'Datos obra'!$E$10","v":0},{"$f":"'Datos obra'!$E$11","v":0},null,null,null,null,null,"",null,null,null,null,null,null,"A RELLENAR POR DPTO. COMPRAS"]
[{"$f":"'Datos obra'!$E$5","v":0},{"$f":"'Datos obra'!$E$6","v":0},{"$f":"'Datos obra'!$E$4","v":0},{"$f":"'Datos obra'!$E$7","v":0},{"$f":"'Datos obra'!$E$8","v":0},{"$f":"'Datos obra'!$E$9","v":0},{"$f":"'Datos obra'!$E$10","v":0},{"$f":"'Datos obra'!$E$11","v":0},null,null,null,null,null,"",null,null,null,null,null,null,"A RELLENAR POR DPTO. COMPRAS"]
[{"$f":"'Datos obra'!$E$5","v":0},{"$f":"'Datos obra'!$E$6","v":0},{"$f":"'Datos obra'!$E$4","v":0},{"$f":"'Datos obra'!$E$7","v":0},{"$f":"'Datos obra'!$E$8","v":0},{"$f":"'Datos obra'!$E$9","v":0},{"$f":"'Datos obra'!$E$10","v":0},{"$f":"'Datos obra'!$E$11","v":0},null,null,null,null,null,"",null,null,null,null,null,null,"A RELLENAR POR DPTO. COMPRAS"]
[{"$f":"'Datos obra'!$E$5","v":0},{"$f":"'Datos obra'!$E$6","v":0},{"$f":"'Datos obra'!$E$4","v":0},{"$f":"'Datos obra'!$E$7","v":0},{"$f":"'Datos obra'!$E$8","v":0},{"$f":"'Datos obra'!$E$9","v":0},{"$f":"'Datos obra'!$E$10","v":0},{"$f":"'Datos obra'!$E$11","v":0},null,null,null,null,null,"",null,null,null,null,null,null,"A RELLENAR POR DPTO. COMPRAS"]
[{"$f":"'Datos obra'!$E$5","v":0},{"$f":"'Datos obra'!$E$6","v":0},{"$f":"'Datos obra'!$E$4","v":0},{"$f":"'Datos obra'!$E$7","v":0},{"$f":"'Datos obra'!$E$8","v":0},{"$f":"'Datos obra'!$E$9","v":0},{"$f":"'Datos obra'!$E$10","v":0},{"$f":"'Datos obra'!$E$11","v":0},null,null,null,null,null,"",null,null,null,null,null,null,"A RELLENAR POR DPTO. COMPRAS"]
[{"$f":"'Datos obra'!$E$5","v":0},{"$f":"'Datos obra'!$E$6","v":0},{"$f":"'Datos obra'!$E$4","v":0},{"$f":"'Datos obra'!$E$7","v":0},{"$f":"'Datos obra'!$E$8","v":0},{"$f":"'Datos obra'!$E$9","v":0},{"$f":"'Datos obra'!$E$10","v":0},{"$f":"'Datos obra'!$E$11","v":0},null,null,null,null,null,"",null,null,null,null,null,null,"A RELLENAR POR DPTO. COMPRAS"]
[{"$f":"'Datos obra'!$E$5","v":0},{"$f":"'Datos obra'!$E$6","v":0},{"$f":"'Datos obra'!$E$4","v":0},{"$f":"'Datos obra'!$E$7","v":0},{"$f":"'Datos obra'!$E$8","v":0},{"$f":"'Datos obra'!$E$9","v":0},{"$f":"'Datos obra'!$E$10","v":0},{"$f":"'Datos obra'!$E$11","v":0},null,null,null,null,null,"",null,null,null,null,null,null,"A RELLENAR POR DPTO. COMPRAS"]
[{"$f":"'Datos obra'!$E$5","v":0},{"$f":"'Datos obra'!$E$6","v":0},{"$f":"'Datos obra'!$E$4","v":0},{"$f":"'Datos obra'!$E$7","v":0},{"$f":"'Datos obra'!$E$8","v":0},{"$f":"'Datos obra'!$E$9","v":0},{"$f":"'Datos obra'!$E$10","v":0},{"$f":"'Datos obra'!$E$11","v":0},null,null,null,null,null,"",null,null,null,null,null,null,"A RELLENAR POR DPTO. COMPRAS"]
[{"$f":"'Datos obra'!$E$5","v":0},{"$f":"'Datos obra'!$E$6","v":0},{"$f":"'Datos obra'!$E$4","v":0},{"$f":"'Datos obra'!$E$7","v":0},{"$f":"'Datos obra'!$E$8","v":0},{"$f":"'Datos obra'!$E$9","v":0},{"$f":"'Datos obra'!$E$10","v":0},{"$f":"'Datos obra'!$E$11","v":0},null,null,null,null,null,"",null,null,null,null,null,null,"A RELLENAR POR DPTO. COMPRAS"]
[{"$f":"'Datos obra'!$E$5","v":0},{"$f":"'Datos obra'!$E$6","v":0},{"$f":"'Datos obra'!$E$4","v":0},{"$f":"'Datos obra'!$E$7","v":0},{"$f":"'Datos obra'!$E$8","v":0},{"$f":"'Datos obra'!$E$9","v":0},{"$f":"'Datos obra'!$E$10","v":0},{"$f":"'Datos obra'!$E$11","v":0},null,null,null,null,null,"",null,null,null,null,null,null,"A RELLENAR POR DPTO. COMPRAS"]
[{"$f":"'Datos obra'!$E$5","v":0},{"$f":"'Datos obra'!$E$6","v":0},{"$f":"'Datos obra'!$E$4","v":0},{"$f":"'Datos obra'!$E$7","v":0},{"$f":"'Datos obra'!$E$8","v":0},{"$f":"'Datos obra'!$E$9","v":0},{"$f":"'Datos obra'!$E$10","v":0},{"$f":"'Datos obra'!$E$11","v":0},null,null,null,null,null,"",null,null,null,null,null,null,"A RELLENAR POR DPTO. COMPRAS"]
[{"$f":"'Datos obra'!$E$5","v":0},{"$f":"'Datos obra'!$E$6","v":0},{"$f":"'Datos obra'!$E$4","v":0},{"$f":"'Datos obra'!$E$7","v":0},{"$f":"'Datos obra'!$E$8","v":0},{"$f":"'Datos obra'!$E$9","v":0},{"$f":"'Datos obra'!$E$10","v":0},{"$f":"'Datos obra'!$E$11","v":0},null,null,null,null,null,"",null,null,null,null,null,null,"A RELLENAR POR DPTO. COMPRAS"]
[{"$f":"'Datos obra'!$E$5","v":0},{"$f":"'Datos obra'!$E$6","v":0},{"$f":"'Datos obra'!$E$4","v":0},{"$f":"'Datos obra'!$E$7","v":0},{"$f":"'Datos obra'!$E$8","v":0},{"$f":"'Datos obra'!$E$9","v":0},{"$f":"'Datos obra'!$E$10","v":0},{"$f":"'Datos obra'!$E$11","v":0},null,null,null,null,null,"",null,null,null,null,null,null,"A RELLENAR POR DPTO. COMPRAS"]
[{"$f":"'Datos obra'!$E$5","v":0},{"$f":"'Datos obra'!$E$6","v":0},{"$f":"'Datos obra'!$E$4","v":0},{"$f":"'Datos obra'!$E$7","v":0},{"$f":"'Datos obra'!$E$8","v":0},{"$f":"'Datos obra'!$E$9","v":0},{"$f":"'Datos obra'!$E$10","v":0},{"$f":"'Datos obra'!$E$11","v":0},null,null,null,null,null,"",null,null,null,null,null,null,"A RELLENAR POR DPTO. COMPRAS"]
[{"$f":"'Datos obra'!$E$5","v":0},{"$f":"'Datos obra'!$E$6","v":0},{"$f":"'Datos obra'!$E$4","v":0},{"$f":"'Datos obra'!$E$7","v":0},{"$f":"'Datos obra'!$E$8","v":0},{"$f":"'Datos obra'!$E$9","v":0},{"$f":"'Datos obra'!$E$10","v":0},{"$f":"'Datos obra'!$E$11","v":0},null,null,null,null,null,"",null,null,null,null,null,null,"A RELLENAR POR DPTO. COMPRAS"]
[{"$f":"'Datos obra'!$E$5","v":0},{"$f":"'Datos obra'!$E$6","v":0},{"$f":"'Datos obra'!$E$4","v":0},{"$f":"'Datos obra'!$E$7","v":0},{"$f":"'Datos obra'!$E$8","v":0},{"$f":"'Datos obra'!$E$9","v":0},{"$f":"'Datos obra'!$E$10","v":0},{"$f":"'Datos obra'!$E$11","v":0},null,null,null,null,null,"",null,null,null,null,null,null,"A RELLENAR POR DPTO. COMPRAS"]
[{"$f":"'Datos obra'!$E$5","v":0},{"$f":"'Datos obra'!$E$6","v":0},{"$f":"'Datos obra'!$E$4","v":0},{"$f":"'Datos obra'!$E$7","v":0},{"$f":"'Datos obra'!$E$8","v":0},{"$f":"'Datos obra'!$E$9","v":0},{"$f":"'Datos obra'!$E$10","v":0},{"$f":"'Datos obra'!$E$11","v":0},null,null,null,null,null,"",null,null,null,null,null,null,"A RELLENAR POR DPTO. COMPRAS"]
[{"$f":"'Datos obra'!$E$5","v":0},{"$f":"'Datos obra'!$E$6","v":0},{"$f":"'Datos obra'!$E$4","v":0},{"$f":"'Datos obra'!$E$7","v":0},{"$f":"'Datos obra'!$E$8","v":0},{"$f":"'Datos obra'!$E$9","v":0},{"$f":"'Datos obra'!$E$10","v":0},{"$f":"'Datos obra'!$E$11","v":0},null,null,null,null,null,"",null,null,null,null,null,null,"A RELLENAR POR DPTO. COMPRAS"]
[{"$f":"'Datos obra'!$E$5","v":0},{"$f":"'Datos obra'!$E$6","v":0},{"$f":"'Datos obra'!$E$4","v":0},{"$f":"'Datos obra'!$E$7","v":0},{"$f":"'Datos obra'!$E$8","v":0},{"$f":"'Datos obra'!$E$9","v":0},{"$f":"'Datos obra'!$E$10","v":0},{"$f":"'Datos obra'!$E$11","v":0},null,null,null,null,null,"",null,null,null,null,null,null,"A RELLENAR POR DPTO. COMPRAS"]
[{"$f":"'Datos obra'!$E$5","v":0},{"$f":"'Datos obra'!$E$6","v":0},{"$f":"'Datos obra'!$E$4","v":0},{"$f":"'Datos obra'!$E$7","v":0},{"$f":"'Datos obra'!$E$8","v":0},{"$f":"'Datos obra'!$E$9","v":0},{"$f":"'Datos obra'!$E$10","v":0},{"$f":"'Datos obra'!$E$11","v":0},null,null,null,null,null,"",null,null,null,null,null,null,"A RELLENAR POR DPTO. COMPRAS"]
[{"$f":"'Datos obra'!$E$5","v":0},{"$f":"'Datos obra'!$E$6","v":0},{"$f":"'Datos obra'!$E$4","v":0},{"$f":"'Datos obra'!$E$7","v":0},{"$f":"'Datos obra'!$E$8","v":0},{"$f":"'Datos obra'!$E$9","v":0},{"$f":"'Datos obra'!$E$10","v":0},{"$f":"'Datos obra'!$E$11","v":0},null,null,null,null,null,"",null,null,null,null,null,null,"A RELLENAR POR DPTO. COMPRAS"]
[{"$f":"'Datos obra'!$E$5","v":0},{"$f":"'Datos obra'!$E$6","v":0},{"$f":"'Datos obra'!$E$4","v":0},{"$f":"'Datos obra'!$E$7","v":0},{"$f":"'Datos obra'!$E$8","v":0},{"$f":"'Datos obra'!$E$9","v":0},{"$f":"'Datos obra'!$E$10","v":0},{"$f":"'Datos obra'!$E$11","v":0},null,null,null,null,null,"",null,null,null,null,null,null,"A RELLENAR POR DPTO. COMPRAS"]
[{"$f":"'Datos obra'!$E$5","v":0},{"$f":"'Datos obra'!$E$6","v":0},{"$f":"'Datos obra'!$E$4","v":0},{"$f":"'Datos obra'!$E$7","v":0},{"$f":"'Datos obra'!$E$8","v":0},{"$f":"'Datos obra'!$E$9","v":0},{"$f":"'Datos obra'!$E$10","v":0},{"$f":"'Datos obra'!$E$11","v":0},null,null,null,null,null,"",null,null,null,null,null,null,"A RELLENAR POR DPTO. COMPRAS"]
[{"$f":"'Datos obra'!$E$5","v":0},{"$f":"'Datos obra'!$E$6","v":0},{"$f":"'Datos obra'!$E$4","v":0},{"$f":"'Datos obra'!$E$7","v":0},{"$f":"'Datos obra'!$E$8","v":0},{"$f":"'Datos obra'!$E$9","v":0},{"$f":"'Datos obra'!$E$10","v":0},{"$f":"'Datos obra'!$E$11","v":0},null,null,null,null,null,"",null,null,null,null,null,null,"A RELLENAR POR DPTO. COMPRAS"]
[{"$f":"'Datos obra'!$E$5","v":0},{"$f":"'Datos obra'!$E$6","v":0},{"$f":"'Datos obra'!$E$4","v":0},{"$f":"'Datos obra'!$E$7","v":0},{"$f":"'Datos obra'!$E$8","v":0},{"$f":"'Datos obra'!$E$9","v":0},{"$f":"'Datos obra'!$E$10","v":0},{"$f":"'Datos obra'!$E$11","v":0},null,null,null,null,null,"",null,null,null,null,null,null,"A RELLENAR POR DPTO. COMPRAS"]
[{"$f":"'Datos obra'!$E$5","v":0},{"$f":"'Datos obra'!$E$6","v":0},{"$f":"'Datos obra'!$E$4","v":0},{"$f":"'Datos obra'!$E$7","v":0},{"$f":"'Datos obra'!$E$8","v":0},{"$f":"'Datos obra'!$E$9","v":0},{"$f":"'Datos obra'!$E$10","v":0},{"$f":"'Datos obra'!$E$11","v":0},null,null,null,null,null,"",null,null,null,null,null,null,"A RELLENAR POR DPTO. COMPRAS"]
[{"$f":"'Datos obra'!$E$5","v":0},{"$f":"'Datos obra'!$E$6","v":0},{"$f":"'Datos obra'!$E$4","v":0},{"$f":"'Datos obra'!$E$7","v":0},{"$f":"'Datos obra'!$E$8","v":0},{"$f":"'Datos obra'!$E$9","v":0},{"$f":"'Datos obra'!$E$10","v":0},{"$f":"'Datos obra'!$E$11","v":0},null,null,null,null,null,"",null,null,null,null,null,null,"A RELLENAR POR DPTO. COMPRAS"]
[{"$f":"'Datos obra'!$E$5","v":0},{"$f":"'Datos obra'!$E$6","v":0},{"$f":"'Datos obra'!$E$4","v":0},{"$f":"'Datos obra'!$E$7","v":0},{"$f":"'Datos obra'!$E$8","v":0},{"$f":"'Datos obra'!$E$9","v":0},{"$f":"'Datos obra'!$E$10","v":0},{"$f":"'Datos obra'!$E$11","v":0},null,null,null,null,null,"",null,null,null,null,null,null,"A RELLENAR POR DPTO. COMPRAS"]
[{"$f":"'Datos obra'!$E$5","v":0},{"$f":"'Datos obra'!$E$6","v":0},{"$f":"'Datos obra'!$E$4","v":0},{"$f":"'Datos obra'!$E$7","v":0},{"$f":"'Datos obra'!$E$8","v":0},{"$f":"'Datos obra'!$E$9","v":0},{"$f":"'Datos obra'!$E$10","v":0},{"$f":"'Datos obra'!$E$11","v":0},null,null,null,null,null,"",null,null,null,null,null,null,"A RELLENAR POR DPTO. COMPRAS"]
[{"$f":"'Datos obra'!$E$5","v":0},{"$f":"'Datos obra'!$E$6","v":0},{"$f":"'Datos obra'!$E$4","v":0},{"$f":"'Datos obra'!$E$7","v":0},{"$f":"'Datos obra'!$E$8","v":0},{"$f":"'Datos obra'!$E$9","v":0},{"$f":"'Datos obra'!$E$10","v":0},{"$f":"'Datos obra'!$E$11","v":0},null,null,null,null,null,"",null,null,null,null,null,null,"A RELLENAR POR DPTO. COMPRAS"]
[{"$f":"'Datos obra'!$E$5","v":0},{"$f":"'Datos obra'!$E$6","v":0},{"$f":"'Datos obra'!$E$4","v":0},{"$f":"'Datos obra'!$E$7","v":0},{"$f":"'Datos obra'!$E$8","v":0},{"$f":"'Datos obra'!$E$9","v":0},{"$f":"'Datos obra'!$E$10","v":0},{"$f":"'Datos obra'!$E$11","v":0},null,null,null,null,null,"",null,null,null,null,null,null,"A RELLENAR POR DPTO. COMPRAS"]
[{"$f":"'Datos obra'!$E$5","v":0},{"$f":"'Datos obra'!$E$6","v":0},{"$f":"'Datos obra'!$E$4","v":0},{"$f":"'Datos obra'!$E$7","v":0},{"$f":"'Datos obra'!$E$8","v":0},{"$f":"'Datos obra'!$E$9","v":0},{"$f":"'Datos obra'!$E$10","v":0},{"$f":"'Datos obra'!$E$11","v":0},null,null,null,null,null,"",null,null,null,null,null,null,"A RELLENAR POR DPTO. COMPRAS"]
[{"$f":"'Datos obra'!$E$5","v":0},{"$f":"'Datos obra'!$E$6","v":0},{"$f":"'Datos obra'!$E$4","v":0},{"$f":"'Datos obra'!$E$7","v":0},{"$f":"'Datos obra'!$E$8","v":0},{"$f":"'Datos obra'!$E$9","v":0},{"$f":"'Datos obra'!$E$10","v":0},{"$f":"'Datos obra'!$E$11","v":0},null,null,null,null,null,"",null,null,null,null,null,null,"A RELLENAR POR DPTO. COMPRAS"]
[{"$f":"'Datos obra'!$E$5","v":0},{"$f":"'Datos obra'!$E$6","v":0},{"$f":"'Datos obra'!$E$4","v":0},{"$f":"'Datos obra'!$E$7","v":0},{"$f":"'Datos obra'!$E$8","v":0},{"$f":"'Datos obra'!$E$9","v":0},{"$f":"'Datos obra'!$E$10","v":0},{"$f":"'Datos obra'!$E$11","v":0},null,null,null,null,null,"",null,null,null,null,null,null,"A RELLENAR POR DPTO. COMPRAS"]
[{"$f":"'Datos obra'!$E$5","v":0},{"$f":"'Datos obra'!$E$6","v":0},{"$f":"'Datos obra'!$E$4","v":0},{"$f":"'Datos obra'!$E$7","v":0},{"$f":"'Datos obra'!$E$8","v":0},{"$f":"'Datos obra'!$E$9","v":0},{"$f":"'Datos obra'!$E$10","v":0},{"$f":"'Datos obra'!$E$11","v":0},null,null,null,null,null,{"$f":"IF(M385=\"\",\"\",M385+42)","v":""},null,null,null,null,null,null,"A RELLENAR POR DPTO. COMPRAS"]
[{"$f":"'Datos obra'!$E$5","v":0},{"$f":"'Datos obra'!$E$6","v":0},{"$f":"'Datos obra'!$E$4","v":0},{"$f":"'Datos obra'!$E$7","v":0},{"$f":"'Datos obra'!$E$8","v":0},{"$f":"'Datos obra'!$E$9","v":0},{"$f":"'Datos obra'!$E$10","v":0},{"$f":"'Datos obra'!$E$11","v":0},null,null,null,null,null,"",null,null,null,null,null,null,"A RELLENAR POR DPTO. COMPRAS"]
[{"$f":"'Datos obra'!$E$5","v":0},{"$f":"'Datos obra'!$E$6","v":0},{"$f":"'Datos obra'!$E$4","v":0},{"$f":"'Datos obra'!$E$7","v":0},{"$f":"'Datos obra'!$E$8","v":0},{"$f":"'Datos obra'!$E$9","v":0},{"$f":"'Datos obra'!$E$10","v":0},{"$f":"'Datos obra'!$E$11","v":0},null,null,null,null,null,"",null,null,null,null,null,null,"A RELLENAR POR DPTO. COMPRAS"]
[{"$f":"'Datos obra'!$E$5","v":0},{"$f":"'Datos obra'!$E$6","v":0},{"$f":"'Datos obra'!$E$4","v":0},{"$f":"'Datos obra'!$E$7","v":0},{"$f":"'Datos obra'!$E$8","v":0},{"$f":"'Datos obra'!$E$9","v":0},{"$f":"'Datos obra'!$E$10","v":0},{"$f":"'Datos obra'!$E$11","v":0},null,null,null,null,null,"",null,null,null,null,null,null,"A RELLENAR POR DPTO. COMPRAS"]
[{"$f":"'Datos obra'!$E$5","v":0},{"$f":"'Datos obra'!$E$6","v":0},{"$f":"'Datos obra'!$E$4","v":0},{"$f":"'Datos obra'!$E$7","v":0},{"$f":"'Datos obra'!$E$8","v":0},{"$f":"'Datos obra'!$E$9","v":0},{"$f":"'Datos obra'!$E$10","v":0},{"$f":"'Datos obra'!$E$11","v":0},null,null,null,null,null,"",null,null,null,null,null,null,"A RELLENAR POR DPTO. COMPRAS"]
[{"$f":"'Datos obra'!$E$5","v":0},{"$f":"'Datos obra'!$E$6","v":0},{"$f":"'Datos obra'!$E$4","v":0},{"$f":"'Datos obra'!$E$7","v":0},{"$f":"'Datos obra'!$E$8","v":0},{"$f":"'Datos obra'!$E$9","v":0},{"$f":"'Datos obra'!$E$10","v":0},{"$f":"'Datos obra'!$E$11","v":0},null,null,null,null,null,"",null,null,null,null,null,null,"A RELLENAR POR DPTO. COMPRAS"]
[{"$f":"'Datos obra'!$E$5","v":0},{"$f":"'Datos obra'!$E$6","v":0},{"$f":"'Datos obra'!$E$4","v":0},{"$f":"'Datos obra'!$E$7","v":0},{"$f":"'Datos obra'!$E$8","v":0},{"$f":"'Datos obra'!$E$9","v":0},{"$f":"'Datos obra'!$E$10","v":0},{"$f":"'Datos obra'!$E$11","v":0},null,null,null,null,null,"",null,null,null,null,null,null,"A RELLENAR POR DPTO. COMPRAS"]
[{"$f":"'Datos obra'!$E$5","v":0},{"$f":"'Datos obra'!$E$6","v":0},{"$f":"'Datos obra'!$E$4","v":0},{"$f":"'Datos obra'!$E$7","v":0},{"$f":"'Datos obra'!$E$8","v":0},{"$f":"'Datos obra'!$E$9","v":0},{"$f":"'Datos obra'!$E$10","v":0},{"$f":"'Datos obra'!$E$11","v":0},null,null,null,null,null,"",null,null,null,null,null,null,"A RELLENAR POR DPTO. COMPRAS"]
[{"$f":"'Datos obra'!$E$5","v":0},{"$f":"'Datos obra'!$E$6","v":0},{"$f":"'Datos obra'!$E$4","v":0},{"$f":"'Datos obra'!$E$7","v":0},{"$f":"'Datos obra'!$E$8","v":0},{"$f":"'Datos obra'!$E$9","v":0},{"$f":"'Datos obra'!$E$10","v":0},{"$f":"'Datos obra'!$E$11","v":0},null,null,null,null,null,"",null,null,null,null,null,null,"A RELLENAR POR DPTO. COMPRAS"]
[{"$f":"'Datos obra'!$E$5","v":0},{"$f":"'Datos obra'!$E$6","v":0},{"$f":"'Datos obra'!$E$4","v":0},{"$f":"'Datos obra'!$E$7","v":0},{"$f":"'Datos obra'!$E$8","v":0},{"$f":"'Datos obra'!$E$9","v":0},{"$f":"'Datos obra'!$E$10","v":0},{"$f":"'Datos obra'!$E$11","v":0},null,null,null,null,null,"",null,null,null,null,null,null,"A RELLENAR POR DPTO. COMPRAS"]
[{"$f":"'Datos obra'!$E$5","v":0},{"$f":"'Datos obra'!$E$6","v":0},{"$f":"'Datos obra'!$E$4","v":0},{"$f":"'Datos obra'!$E$7","v":0},{"$f":"'Datos obra'!$E$8","v":0},{"$f":"'Datos obra'!$E$9","v":0},{"$f":"'Datos obra'!$E$10","v":0},{"$f":"'Datos obra'!$E$11","v":0},null,null,null,null,null,"",null,null,null,null,null,null,"A RELLENAR POR DPTO. COMPRAS"]
[{"$f":"'Datos obra'!$E$5","v":0},{"$f":"'Datos obra'!$E$6","v":0},{"$f":"'Datos obra'!$E$4","v":0},{"$f":"'Datos obra'!$E$7","v":0},{"$f":"'Datos obra'!$E$8","v":0},{"$f":"'Datos obra'!$E$9","v":0},{"$f":"'Datos obra'!$E$10","v":0},{"$f":"'Datos obra'!$E$11","v":0},null,null,null,null,null,"",null,null,null,null,null,null,"A RELLENAR POR DPTO. COMPRAS"]
[{"$f":"'Datos obra'!$E$5","v":0},{"$f":"'Datos obra'!$E$6","v":0},{"$f":"'Datos obra'!$E$4","v":0},{"$f":"'Datos obra'!$E$7","v":0},{"$f":"'Datos obra'!$E$8","v":0},{"$f":"'Datos obra'!$E$9","v":0},{"$f":"'Datos obra'!$E$10","v":0},{"$f":"'Datos obra'!$E$11","v":0},null,null,null,null,null,"",null,null,null,null,null,null,"A RELLENAR POR DPTO. COMPRAS"]
[{"$f":"'Datos obra'!$E$5","v":0},{"$f":"'Datos obra'!$E$6","v":0},{"$f":"'Datos obra'!$E$4","v":0},{"$f":"'Datos obra'!$E$7","v":0},{"$f":"'Datos obra'!$E$8","v":0},{"$f":"'Datos obra'!$E$9","v":0},{"$f":"'Datos obra'!$E$10","v":0},{"$f":"'Datos obra'!$E$11","v":0},null,null,null,null,null,"",null,null,null,null,null,null,"A RELLENAR POR DPTO. COMPRAS"]
[{"$f":"'Datos obra'!$E$5","v":0},{"$f":"'Datos obra'!$E$6","v":0},{"$f":"'Datos obra'!$E$4","v":0},{"$f":"'Datos obra'!$E$7","v":0},{"$f":"'Datos obra'!$E$8","v":0},{"$f":"'Datos obra'!$E$9","v":0},{"$f":"'Datos obra'!$E$10","v":0},{"$f":"'Datos obra'!$E$11","v":0},null,null,null,null,null,"",null,null,null,null,null,null,"A RELLENAR POR DPTO. COMPRAS"]
[{"$f":"'Datos obra'!$E$5","v":0},{"$f":"'Datos obra'!$E$6","v":0},{"$f":"'Datos obra'!$E$4","v":0},{"$f":"'Datos obra'!$E$7","v":0},{"$f":"'Datos obra'!$E$8","v":0},{"$f":"'Datos obra'!$E$9","v":0},{"$f":"'Datos obra'!$E$10","v":0},{"$f":"'Datos obra'!$E$11","v":0},null,null,null,null,null,"",null,null,null,null,null,null,"A RELLENAR POR DPTO. COMPRAS"]
[{"$f":"'Datos obra'!$E$5","v":0},{"$f":"'Datos obra'!$E$6","v":0},{"$f":"'Datos obra'!$E$4","v":0},{"$f":"'Datos obra'!$E$7","v":0},{"$f":"'Datos obra'!$E$8","v":0},{"$f":"'Datos obra'!$E$9","v":0},{"$f":"'Datos obra'!$E$10","v":0},{"$f":"'Datos obra'!$E$11","v":0},null,null,null,null,null,"",null,null,null,null,null,null,"A RELLENAR POR DPTO. COMPRAS"]
[{"$f":"'Datos obra'!$E$5","v":0},{"$f":"'Datos obra'!$E$6","v":0},{"$f":"'Datos obra'!$E$4","v":0},{"$f":"'Datos obra'!$E$7","v":0},{"$f":"'Datos obra'!$E$8","v":0},{"$f":"'Datos obra'!$E$9","v":0},{"$f":"'Datos obra'!$E$10","v":0},{"$f":"'Datos obra'!$E$11","v":0},null,null,null,null,null,"",null,null,null,null,null,null,"A RELLENAR POR DPTO. COMPRAS"]
[{"$f":"'Datos obra'!$E$5","v":0},{"$f":"'Datos obra'!$E$6","v":0},{"$f":"'Datos obra'!$E$4","v":0},{"$f":"'Datos obra'!$E$7","v":0},{"$f":"'Datos obra'!$E$8","v":0},{"$f":"'Datos obra'!$E$9","v":0},{"$f":"'Datos obra'!$E$10","v":0},{"$f":"'Datos obra'!$E$11","v":0},null,null,null,null,null,"",null,null,null,null,null,null,"A RELLENAR POR DPTO. COMPRAS"]
[{"$f":"'Datos obra'!$E$5","v":0},{"$f":"'Datos obra'!$E$6","v":0},{"$f":"'Datos obra'!$E$4","v":0},{"$f":"'Datos obra'!$E$7","v":0},{"$f":"'Datos obra'!$E$8","v":0},{"$f":"'Datos obra'!$E$9","v":0},{"$f":"'Datos obra'!$E$10","v":0},{"$f":"'Datos obra'!$E$11","v":0},null,null,null,null,null,"",null,null,null,null,null,null,"A RELLENAR POR DPTO. COMPRAS"]
[{"$f":"'Datos obra'!$E$5","v":0},{"$f":"'Datos obra'!$E$6","v":0},{"$f":"'Datos obra'!$E$4","v":0},{"$f":"'Datos obra'!$E$7","v":0},{"$f":"'Datos obra'!$E$8","v":0},{"$f":"'Datos obra'!$E$9","v":0},{"$f":"'Datos obra'!$E$10","v":0},{"$f":"'Datos obra'!$E$11","v":0},null,null,null,null,null,"",null,null,null,null,null,null,"A RELLENAR POR DPTO. COMPRAS"]
[{"$f":"'Datos obra'!$E$5","v":0},{"$f":"'Datos obra'!$E$6","v":0},{"$f":"'Datos obra'!$E$4","v":0},{"$f":"'Datos obra'!$E$7","v":0},{"$f":"'Datos obra'!$E$8","v":0},{"$f":"'Datos obra'!$E$9","v":0},{"$f":"'Datos obra'!$E$10","v":0},{"$f":"'Datos obra'!$E$11","v":0},null,null,null,null,null,"",null,null,null,null,null,null,"A RELLENAR POR DPTO. COMPRAS"]
[{"$f":"'Datos obra'!$E$5","v":0},{"$f":"'Datos obra'!$E$6","v":0},{"$f":"'Datos obra'!$E$4","v":0},{"$f":"'Datos obra'!$E$7","v":0},{"$f":"'Datos obra'!$E$8","v":0},{"$f":"'Datos obra'!$E$9","v":0},{"$f":"'Datos obra'!$E$10","v":0},{"$f":"'Datos obra'!$E$11","v":0},null,null,null,null,null,"",null,null,null,null,null,null,"A RELLENAR POR DPTO. COMPRAS"]
[{"$f":"'Datos obra'!$E$5","v":0},{"$f":"'Datos obra'!$E$6","v":0},{"$f":"'Datos obra'!$E$4","v":0},{"$f":"'Datos obra'!$E$7","v":0},{"$f":"'Datos obra'!$E$8","v":0},{"$f":"'Datos obra'!$E$9","v":0},{"$f":"'Datos obra'!$E$10","v":0},{"$f":"'Datos obra'!$E$11","v":0},null,null,null,null,null,"",null,null,null,null,null,null,"A RELLENAR POR DPTO. COMPRAS"]
[{"$f":"'Datos obra'!$E$5","v":0},{"$f":"'Datos obra'!$E$6","v":0},{"$f":"'Datos obra'!$E$4","v":0},{"$f":"'Datos obra'!$E$7","v":0},{"$f":"'Datos obra'!$E$8","v":0},{"$f":"'Datos obra'!$E$9","v":0},{"$f":"'Datos obra'!$E$10","v":0},{"$f":"'Datos obra'!$E$11","v":0},null,null,null,null,null,"",null,null,null,null,null,null,"A RELLENAR POR DPTO. COMPRAS"]
[{"$f":"'Datos obra'!$E$5","v":0},{"$f":"'Datos obra'!$E$6","v":0},{"$f":"'Datos obra'!$E$4","v":0},{"$f":"'Datos obra'!$E$7","v":0},{"$f":"'Datos obra'!$E$8","v":0},{"$f":"'Datos obra'!$E$9","v":0},{"$f":"'Datos obra'!$E$10","v":0},{"$f":"'Datos obra'!$E$11","v":0},null,null,null,null,null,"",null,null,null,null,null,null,"A RELLENAR POR DPTO. COMPRAS"]
[{"$f":"'Datos obra'!$E$5","v":0},{"$f":"'Datos obra'!$E$6","v":0},{"$f":"'Datos obra'!$E$4","v":0},{"$f":"'Datos obra'!$E$7","v":0},{"$f":"'Datos obra'!$E$8","v":0},{"$f":"'Datos obra'!$E$9","v":0},{"$f":"'Datos obra'!$E$10","v":0},{"$f":"'Datos obra'!$E$11","v":0},null,null,null,null,null,"",null,null,null,null,null,null,"A RELLENAR POR DPTO. COMPRAS"]
[{"$f":"'Datos obra'!$E$5","v":0},{"$f":"'Datos obra'!$E$6","v":0},{"$f":"'Datos obra'!$E$4","v":0},{"$f":"'Datos obra'!$E$7","v":0},{"$f":"'Datos obra'!$E$8","v":0},{"$f":"'Datos obra'!$E$9","v":0},{"$f":"'Datos obra'!$E$10","v":0},{"$f":"'Datos obra'!$E$11","v":0},null,null,null,null,null,"",null,null,null,null,null,null,"A RELLENAR POR DPTO. COMPRAS"]
[{"$f":"'Datos obra'!$E$5","v":0},{"$f":"'Datos obra'!$E$6","v":0},{"$f":"'Datos obra'!$E$4","v":0},{"$f":"'Datos obra'!$E$7","v":0},{"$f":"'Datos obra'!$E$8","v":0},{"$f":"'Datos obra'!$E$9","v":0},{"$f":"'Datos obra'!$E$10","v":0},{"$f":"'Datos obra'!$E$11","v":0},null,null,null,null,null,"",null,null,null,null,null,null,"A RELLENAR POR DPTO. COMPRAS"]
[{"$f":"'Datos obra'!$E$5","v":0},{"$f":"'Datos obra'!$E$6","v":0},{"$f":"'Datos obra'!$E$4","v":0},{"$f":"'Datos obra'!$E$7","v":0},{"$f":"'Datos obra'!$E$8","v":0},{"$f":"'Datos obra'!$E$9","v":0},{"$f":"'Datos obra'!$E$10","v":0},{"$f":"'Datos obra'!$E$11","v":0},null,null,null,null,null,"",null,null,null,null,null,null,"A RELLENAR POR DPTO. COMPRAS"]
[{"$f":"'Datos obra'!$E$5","v":0},{"$f":"'Datos obra'!$E$6","v":0},{"$f":"'Datos obra'!$E$4","v":0},{"$f":"'Datos obra'!$E$7","v":0},{"$f":"'Datos obra'!$E$8","v":0},{"$f":"'Datos obra'!$E$9","v":0},{"$f":"'Datos obra'!$E$10","v":0},{"$f":"'Datos obra'!$E$11","v":0},null,null,null,null,null,"",null,null,null,null,null,null,"A RELLENAR POR DPTO. COMPRAS"]
[{"$f":"'Datos obra'!$E$5","v":0},{"$f":"'Datos obra'!$E$6","v":0},{"$f":"'Datos obra'!$E$4","v":0},{"$f":"'Datos obra'!$E$7","v":0},{"$f":"'Datos obra'!$E$8","v":0},{"$f":"'Datos obra'!$E$9","v":0},{"$f":"'Datos obra'!$E$10","v":0},{"$f":"'Datos obra'!$E$11","v":0},null,null,null,null,null,"",null,null,null,null,null,null,"A RELLENAR POR DPTO. COMPRAS"]
[{"$f":"'Datos obra'!$E$5","v":0},{"$f":"'Datos obra'!$E$6","v":0},{"$f":"'Datos obra'!$E$4","v":0},{"$f":"'Datos obra'!$E$7","v":0},{"$f":"'Datos obra'!$E$8","v":0},{"$f":"'Datos obra'!$E$9","v":0},{"$f":"'Datos obra'!$E$10","v":0},{"$f":"'Datos obra'!$E$11","v":0},null,null,null,null,null,"",null,null,null,null,null,null,"A RELLENAR POR DPTO. COMPRAS"]
[{"$f":"'Datos obra'!$E$5","v":0},{"$f":"'Datos obra'!$E$6","v":0},{"$f":"'Datos obra'!$E$4","v":0},{"$f":"'Datos obra'!$E$7","v":0},{"$f":"'Datos obra'!$E$8","v":0},{"$f":"'Datos obra'!$E$9","v":0},{"$f":"'Datos obra'!$E$10","v":0},{"$f":"'Datos obra'!$E$11","v":0},null,null,null,null,null,"",null,null,null,null,null,null,"A RELLENAR POR DPTO. COMPRAS"]
[{"$f":"'Datos obra'!$E$5","v":0},{"$f":"'Datos obra'!$E$6","v":0},{"$f":"'Datos obra'!$E$4","v":0},{"$f":"'Datos obra'!$E$7","v":0},{"$f":"'Datos obra'!$E$8","v":0},{"$f":"'Datos obra'!$E$9","v":0},{"$f":"'Datos obra'!$E$10","v":0},{"$f":"'Datos obra'!$E$11","v":0},null,null,null,null,null,"",null,null,null,null,null,null,"A RELLENAR POR DPTO. COMPRAS"]
[{"$f":"'Datos obra'!$E$5","v":0},{"$f":"'Datos obra'!$E$6","v":0},{"$f":"'Datos obra'!$E$4","v":0},{"$f":"'Datos obra'!$E$7","v":0},{"$f":"'Datos obra'!$E$8","v":0},{"$f":"'Datos obra'!$E$9","v":0},{"$f":"'Datos obra'!$E$10","v":0},{"$f":"'Datos obra'!$E$11","v":0},null,null,null,null,null,"",null,null,null,null,null,null,"A RELLENAR POR DPTO. COMPRAS"]
[{"$f":"'Datos obra'!$E$5","v":0},{"$f":"'Datos obra'!$E$6","v":0},{"$f":"'Datos obra'!$E$4","v":0},{"$f":"'Datos obra'!$E$7","v":0},{"$f":"'Datos obra'!$E$8","v":0},{"$f":"'Datos obra'!$E$9","v":0},{"$f":"'Datos obra'!$E$10","v":0},{"$f":"'Datos obra'!$E$11","v":0},null,null,null,null,null,"",null,null,null,null,null,null,"A RELLENAR POR DPTO. COMPRAS"]
[{"$f":"'Datos obra'!$E$5","v":0},{"$f":"'Datos obra'!$E$6","v":0},{"$f":"'Datos obra'!$E$4","v":0},{"$f":"'Datos obra'!$E$7","v":0},{"$f":"'Datos obra'!$E$8","v":0},{"$f":"'Datos obra'!$E$9","v":0},{"$f":"'Datos obra'!$E$10","v":0},{"$f":"'Datos obra'!$E$11","v":0},null,null,null,null,null,"",null,null,null,null,null,null,"A RELLENAR POR DPTO. COMPRAS"]
[{"$f":"'Datos obra'!$E$5","v":0},{"$f":"'Datos obra'!$E$6","v":0},{"$f":"'Datos obra'!$E$4","v":0},{"$f":"'Datos obra'!$E$7","v":0},{"$f":"'Datos obra'!$E$8","v":0},{"$f":"'Datos obra'!$E$9","v":0},{"$f":"'Datos obra'!$E$10","v":0},{"$f":"'Datos obra'!$E$11","v":0},null,null,null,null,null,"",null,null,null,null,null,null,"A RELLENAR POR DPTO. COMPRAS"]
[{"$f":"'Datos obra'!$E$5","v":0},{"$f":"'Datos obra'!$E$6","v":0},{"$f":"'Datos obra'!$E$4","v":0},{"$f":"'Datos obra'!$E$7","v":0},{"$f":"'Datos obra'!$E$8","v":0},{"$f":"'Datos obra'!$E$9","v":0},{"$f":"'Datos obra'!$E$10","v":0},{"$f":"'Datos obra'!$E$11","v":0},null,null,null,null,null,"",null,null,null,null,null,null,"A RELLENAR POR DPTO. COMPRAS"]
[{"$f":"'Datos obra'!$E$5","v":0},{"$f":"'Datos obra'!$E$6","v":0},{"$f":"'Datos obra'!$E$4","v":0},{"$f":"'Datos obra'!$E$7","v":0},{"$f":"'Datos obra'!$E$8","v":0},{"$f":"'Datos obra'!$E$9","v":0},{"$f":"'Datos obra'!$E$10","v":0},{"$f":"'Datos obra'!$E$11","v":0},null,null,null,null,null,"",null,null,null,null,null,null,"A RELLENAR POR DPTO. COMPRAS"]
[{"$f":"'Datos obra'!$E$5","v":0},{"$f":"'Datos obra'!$E$6","v":0},{"$f":"'Datos obra'!$E$4","v":0},{"$f":"'Datos obra'!$E$7","v":0},{"$f":"'Datos obra'!$E$8","v":0},{"$f":"'Datos obra'!$E$9","v":0},{"$f":"'Datos obra'!$E$10","v":0},{"$f":"'Datos obra'!$E$11","v":0},null,null,null,null,null,"",null,null,null,null,null,null,"A RELLENAR POR DPTO. COMPRAS"]

{"sheet":"Hoja1","index":2,"n_rows":74,"n_cols":8,"rows_kept":74,"cut":false,"hidden":true,"merged":[]}
[]
["Subcontratas","Acero corrugado y mallazo (MAT)",null,null,null,null,null,"Sin iniciar"]
["Industriales","Acero no estructural  (MAT)",null,null,null,null,null,"Ofertas solicitadas para la planificación"]
["Maquinaria","Adhesivos, aditivos y resinas  (MAT)"]
["Materiales","Afirmados (SUBC)"]
["Gastos varios","Aglomerados asfalticos y ligantes bituminosos (MAT)"]
["Seguridad y calidad","Aislantes  (MAT)"]
["_","Albañilería y yesos (SUBC)"]
[null,"Alquiler de maquinaria"]
[null,"Áridos y escolleras"]
[null,"Ascensores y elementos de traslación  (SUBC)"]
[null,"Cables estructurales y de tesado (MAT)"]
[null,"Cables estructurales y de tesado (SUBC)"]
[null,"Carpintería de aluminio (SUBC)"]
[null,"Carpintería de madera (SUBC)"]
[null,"Carpintería de pvc  (SUBC)"]
[null,"Cementos y sus adiciones (MAT)"]
[null,"Cerámicos  (MAT)"]
[null,"Cerrajería metalistería  (SUBC)"]
[null,"Cerramientos y vallas"]
[null,"Chapas y perfiles acero (MAT)"]
[null,"Cimentaciones especiales/ sondeos/ contención y tratamiento de terrenos  (SUBC)"]
[null,"Compra/venta de maquinaria"]
[null,"Consultoría y servicios"]
[null,"Cubiertas   (SUBC)"]
[null,"Drenaje, saneamiento y varios de urbanización (SUBC)"]
[null,"Edificaciones prefabricadas y estructuras desmontables"]
[null,"Electricidad e iluminación (MAT)"]
[null,"Equipamiento climatización y calderas  (MAT)"]
[null,"Estructura espacial  (SUBC)"]
[null,"Estructura metálica (SUBC)"]
[null,"Estructuras de hormigón (SUBC)"]
[null,"Fachadas ventiladas (SUBC)"]
[null,"Fachadas muro cortina (SUBC)"]
[null,"Falsos techos y suelos técnicos (SUBC)"]
[null,"Ferrallas (SUBC)"]
[null,"Ferretería y suministros industriales  (MAT)"]
[null,"Fontanería, aparatos sanitarios, griferías y agua caliente (MAT)"]
[null,"Geosintéticos  (MAT)"]
[null,"Góndolas (SUBC)"]
[null,"Hormigones y morteros preparados  (MAT)"]
[null,"Impermeabilizaciones y aislamientos  (SUBC)"]
[null,"Instalaciones eléctricas e iluminación (SUBC)"]
[null,"Instalaciones mecánicas (SUBC)"]
[null,"Instalaciones, mantenimiento, montajes y reparaciones de maquinaria"]
[null,"Jardinería, instalaciones de riego y trabajos forestales (SUBC)"]
[null,"Juntas, sellados y apoyos"]
[null,"Mamparas (SUBC)"]
[null,"Materiales y equipos de vía/material ferroviario"]
[null,"Materiales y equipos para obras hidráulicas"]
[null,"Materiales y equipos para obras marítimas y fluviales"]
[null,"Medios auxiliares"]
[null,"Mobiliario y equipamientos"]
[null,"Movimiento de tierras  (SUBC)"]
[null,"Obra completa (constructoras) (SUBC)"]
[null,"Obras hidráulicas y marítimas (SUBC)"]
[null,"Otras instalaciones (SUBC)"]
[null,"Otros subcontratistas"]
[null,"Otros materiales"]
[null,"Pavimentos/revestimientos  (MAT)"]
[null,"Pavimentos/revestimientos  (SUBC)"]
[null,"Pintura / protecciones (SUBC)"]
[null,"Piscinas (SUBC)"]
[null,"Prefabricados"]
[null,"Puertas automáticas (SUBC)"]
[null,"Repuestos de maquinaria"]
[null,"Señalización, protección y balizamiento exterior. pantallas acústicas (SUBC)"]
[null,"Superestructura e instalaciones de vía (SUBC)"]
[null,"Tabiquería de cartón yeso (SUBC)"]
[null,"Tuberías, válvulas y accesorios  (MAT)"]
[null,"Tuberías, válvulas y accesorios (SUBC)"]
[null,"Túneles y trabajos subterráneos (SUBC)"]
[null,"Vidrios/acristalamiento (SUBC)"]
[null,"_"]